BEGIN:VCALENDAR
VERSION:2.0
PRODID:-//Cronache di Birra - ECPv6.15.20//NONSGML v1.0//EN
CALSCALE:GREGORIAN
METHOD:PUBLISH
X-ORIGINAL-URL:https://cronachedibirra.it
X-WR-CALDESC:Eventi per Cronache di Birra
REFRESH-INTERVAL;VALUE=DURATION:PT1H
X-Robots-Tag:noindex
X-PUBLISHED-TTL:PT1H
BEGIN:VTIMEZONE
TZID:Europe/Rome
BEGIN:DAYLIGHT
TZOFFSETFROM:+0100
TZOFFSETTO:+0200
TZNAME:CEST
DTSTART:20200329T010000
END:DAYLIGHT
BEGIN:STANDARD
TZOFFSETFROM:+0200
TZOFFSETTO:+0100
TZNAME:CET
DTSTART:20201025T010000
END:STANDARD
BEGIN:DAYLIGHT
TZOFFSETFROM:+0100
TZOFFSETTO:+0200
TZNAME:CEST
DTSTART:20210328T010000
END:DAYLIGHT
BEGIN:STANDARD
TZOFFSETFROM:+0200
TZOFFSETTO:+0100
TZNAME:CET
DTSTART:20211031T010000
END:STANDARD
BEGIN:DAYLIGHT
TZOFFSETFROM:+0100
TZOFFSETTO:+0200
TZNAME:CEST
DTSTART:20220327T010000
END:DAYLIGHT
BEGIN:STANDARD
TZOFFSETFROM:+0200
TZOFFSETTO:+0100
TZNAME:CET
DTSTART:20221030T010000
END:STANDARD
END:VTIMEZONE
BEGIN:VEVENT
DTSTART;VALUE=DATE:20211119
DTEND;VALUE=DATE:20211120
DTSTAMP:20260422T081651
CREATED:20211119T145333Z
LAST-MODIFIED:20211119T145333Z
UID:32957-1637280000-1637366399@cronachedibirra.it
SUMMARY:Double Trouble all'Alibi di Firenze
DESCRIPTION:Si terrà oggi venerdì 19 novembre\, presso l’Alibi di Firenze\, un doppio tap takeover dedicato ai birrifici Lambrate e 50&50. Saranno disponibili 10 birre alla spina dei due produttori\, oltre all’inedita Bloom\, nata\, come abbiamo scritto di recente\, dalla loro collaborazione. Per prenotazioni e maggiori informazioni potete consultare la pagina Facebook dell’evento.
URL:https://cronachedibirra.it/evento/double-trouble-allalibi-di-firenze/
LOCATION:Alibi\, Via Faenza 21R\, Firenze\, FI\, 50125\, Italia
CATEGORIES:Iniziative
ATTACH;FMTTYPE=image/jpeg:https://cdn1.cronachedibirra.it/wp-content/uploads/20211119155221/double-trouble.jpg
END:VEVENT
BEGIN:VEVENT
DTSTART;VALUE=DATE:20211119
DTEND;VALUE=DATE:20211122
DTSTAMP:20260422T081651
CREATED:20211119T142331Z
LAST-MODIFIED:20211119T142331Z
UID:32951-1637280000-1637539199@cronachedibirra.it
SUMMARY:I Giorni dell'Utopia
DESCRIPTION:Comincia oggi e proseguirà fino a domenica 21 novembre l’evento I Giorni dell’Utopia\, organizzato da Mastri Birrai Umbri per celebrare la nascita della prima birra artigianale prodotta con sole materie prime coltivate in Umbria – l’Utopia\, per l’appunto\, di cui abbiamo scritto qualche tempo fa. Sarà un’iniziativa eterogenea\, che prevedrà sia appuntamenti online che in presenza. Il primo sarà questa sera alle 19\,00 per una degustazione in diretta streaming dalla taproom del birrificio; domani andrà in scena la Notte dell’Utopia in circa 20 pub italiani\, che apriranno all’unisono le spine per festeggiare con pinte di Utopia; domenica infine si terrà un pranzo degustazione presso i locali della Cantina Terre de la Custodia. Maggiori informazioni sono disponibili sul sito di Mastri Birrai Umbri.
URL:https://cronachedibirra.it/evento/i-giorni-dellutopia/
LOCATION:Italia\, Italia
CATEGORIES:Iniziative
ATTACH;FMTTYPE=image/jpeg:https://cdn1.cronachedibirra.it/wp-content/uploads/20211028162822/MBU_Utopia.jpeg
END:VEVENT
BEGIN:VEVENT
DTSTART;VALUE=DATE:20211120
DTEND;VALUE=DATE:20211121
DTSTAMP:20260422T081651
CREATED:20211119T144004Z
LAST-MODIFIED:20211119T144004Z
UID:32953-1637366400-1637452799@cronachedibirra.it
SUMMARY:Vertiga Tap Takeover
DESCRIPTION:Tra i nuovi birrifici presentati qualche giorno fa compare Birra Vertiga\, che domani sabato 20 novembre sarà protagonista di una tap takeover presso il Twenty di Roma (zona Montesacro). Le birre disponibili alla spina saranno Domabianca (Blanche)\, Bali (Session Ipa)\, Alma (West coast Ipa)\, In Saaz we Trust (Bohemian Pils)\, Bislakka (Amber Ale)\, OrzoBruno (Stout)\, oltre a due sorprese che il birraio Claudio Turcato porterà con sé. Claudio ovviamente sarò anche presente per tutti coloro che vorranno rivolgergli qualche domanda. Se volete saperne di più potete consultare la pagina Facebook dell’evento.
URL:https://cronachedibirra.it/evento/vertiga-tap-takeover/
LOCATION:Twenty\, Viale Gottardo 31\, Roma\, RM\, 00141\, Italia
CATEGORIES:Iniziative
ATTACH;FMTTYPE=image/jpeg:https://cdn1.cronachedibirra.it/wp-content/uploads/20211119153835/vertiga-twenty.jpg
END:VEVENT
BEGIN:VEVENT
DTSTART;VALUE=DATE:20211121
DTEND;VALUE=DATE:20211122
DTSTAMP:20260422T081651
CREATED:20211112T142749Z
LAST-MODIFIED:20211112T142749Z
UID:32820-1637452800-1637539199@cronachedibirra.it
SUMMARY:IGA: due mondi si incrociano
DESCRIPTION:Le Italian Grape Ale rappresentano un fenomeno sempre più interessante\, dunque segnaliamo la masterclass dal titolo IGA: due mondi si incrociano\, che si terrà domenica 21 novembre presso Palazzo Re Enzo di Bologna\, nell’ambito del Congresso Nazionale dell’Associazione Italiana Sommelier (AIS). Protagoniste saranno due coppie di birrai e produttori di vino\, che collaborano regolarmente per le rispettive IGA: Nicola Perra del birrificio Barley e Mariano Murru di Argiolas\, Riccardo Franzosi del Birrificio Montegioco e Walter Massa di Vigneti Massa. In degustazione saranno presenti quattro birre e quattro vini: Barley BB Verblonde\, Barley BB 10\, Argiolas Vermentino di Sardegna DOC Merì\, Argiolas Cannonau di Sardegna DOC Riserva Senes\, Birrificio Montegioco Tibir\, Birrificio Montegioco Openmind\, Derthona “Costa del Vento” Vigneti Massa\, Pertichetta Vigneti Massa 2013. La masterclass sarà condotta da Alessandra Agrestini. Per maggiori informazioni e acquisto biglietti potete consultare questa pagina.
URL:https://cronachedibirra.it/evento/iga-due-mondi-si-incrociano/
LOCATION:Palazzo Re Enzo\, Piazza del Nettuno\, 1/C\, Bologna\, BO\, 40125\, Italia
CATEGORIES:Degustazioni
ATTACH;FMTTYPE=image/jpeg:https://cdn1.cronachedibirra.it/wp-content/uploads/20211112152704/perra-franzosi.jpg
END:VEVENT
BEGIN:VEVENT
DTSTART;VALUE=DATE:20211121
DTEND;VALUE=DATE:20211122
DTSTAMP:20260422T081651
CREATED:20211119T164825Z
LAST-MODIFIED:20211119T164838Z
UID:32962-1637452800-1637539199@cronachedibirra.it
SUMMARY:Italian Grape Ale: dall'uva alla birra
DESCRIPTION:Si terrà domenica 21 novembre presso Il Punto di Bologna un grande evento dedicato alle IGA dal nome Italian Grape Ale: dall’uva alla birra. Saranno presenti le creazioni di quattro birrifici italiani andati a medaglia nel recente IGA Beer Challenge: Regola Zero di Alveria\, Natura Terraviva 2019 di Opperbacco\, Selva di Birra dell’Eremo e White IGA di Felsina. Decisamente interessante la scelta de Il Punto di abbinare le birre a una selezione di ostriche. Per maggiori informazioni e ulteriori aggiornamenti potete seguire la pagina Facebook dell’evento.
URL:https://cronachedibirra.it/evento/italian-grape-ale-dalluva-alla-birra/
LOCATION:Il Punto\, Via San Rocco 1/g\, Bologna\, BO\, 40122\, Italia
CATEGORIES:Degustazioni
ATTACH;FMTTYPE=image/jpeg:https://cdn1.cronachedibirra.it/wp-content/uploads/20211119174817/iga.jpg
END:VEVENT
BEGIN:VEVENT
DTSTART;VALUE=DATE:20211125
DTEND;VALUE=DATE:20211126
DTSTAMP:20260422T081651
CREATED:20211112T144939Z
LAST-MODIFIED:20211112T144939Z
UID:32825-1637798400-1637884799@cronachedibirra.it
SUMMARY:Cena a casa UDB
DESCRIPTION:Si continua a parlare di abbinamento cibo-birra con l’interessante evento organizzato da Unione Degustatori Birre e in programma giovedì 25 novembre. Presso il Queen Makeda di Roma si terrà una cena con abbinamenti completamente dedicata alla Puglia. Il birrificio ospite sarà Rebeers di Foggia\, le birre del quale saranno accompagnate dalle carni suine e salumi della bottega Pork’n’Roll (macelleria e norcineria che rappresenta l’avamposto romano dell’azienda agricola dei fratelli Roccia di Ascoli Satriano\, in provincia di Foggia) e da una selezione di formaggi pugliesi curata da La Formaggeria di Piazza Epiro. Per prenotare basta chiamare il numero 065759608.
URL:https://cronachedibirra.it/evento/cena-a-casa-udb/
LOCATION:Queen Makeda\, Via di S. Saba\, 11\, Roma\, RM\, 00153\, Italia
CATEGORIES:Degustazioni
ATTACH;FMTTYPE=image/jpeg:https://cdn1.cronachedibirra.it/wp-content/uploads/20211112154858/cena-udb.jpg
END:VEVENT
BEGIN:VEVENT
DTSTART;VALUE=DATE:20211126
DTEND;VALUE=DATE:20211129
DTSTAMP:20260422T081651
CREATED:20211112T140531Z
LAST-MODIFIED:20211112T141915Z
UID:32816-1637884800-1638143999@cronachedibirra.it
SUMMARY:Birre da Grado 2021
DESCRIPTION:Se siete amanti delle birre molto alcoliche\, sappiate da venerdì 26 a domenica 28 novembre si terrà presso l’Hops di Rovigo un evento dedicato\, battezzato Birre da Grado. Nei due banchi spina predisposti per l’occasioni saranno disponibili birre a partire dal 9% alc.\, appartenenti a diversi stili: Barley Wine\, Imperial Stout\, Quadrupel\, Eisbock\, Baltic Porter\, Sour Ale\, Winter Warmer\, birre invecchiate in botte\, birre con la frutta\, birre acide\, ecc. Molte le chicche presenti\, con produzioni da birrifici come Cascade\, Browar Stu Mostow\, Reservoir Dogs\, Pohjala\, Croce di Malto\, Nix\, Extraomnes\, Torre Mozza\, Paragon\, De Struise\, De Dolle\, Garage Beer Co. e altri ancora. Per staccare saranno disponibili anche birre più facili (APA\, Pils\, Weizen). Per maggiori informazioni e aggiornamenti potete consultare la pagina Facebook dell’evento.
URL:https://cronachedibirra.it/evento/birre-da-grado-2021/
LOCATION:Hops Rovigo\, Vicolo Castello 7\, Rovigo\, RO\, Italia
CATEGORIES:Iniziative
ATTACH;FMTTYPE=image/jpeg:https://cdn1.cronachedibirra.it/wp-content/uploads/20211112150413/birre-da-grado.jpg
END:VEVENT
BEGIN:VEVENT
DTSTART;VALUE=DATE:20211127
DTEND;VALUE=DATE:20211128
DTSTAMP:20260422T081651
CREATED:20211126T140518Z
LAST-MODIFIED:20211126T140518Z
UID:33049-1637971200-1638057599@cronachedibirra.it
SUMMARY:Arrogant Fresh Hop Festival 2021
DESCRIPTION:Giunge alla sesta edizione l’Arrogant Fresh Hop Festival\, l’iniziativa dedicata alle birre prodotte con luppolo fresco e organizzata dall’Arrogant Pub di Reggio Emilia in collaborazione con Italian Hops Company. Per tutta la giornata di domani sabato 27 novembre sarà possibile assaggiare diverse fresh hop e wet hop realizzate da 13 birrifici italiani: Lambrate\, Birrificio del Forte\, Beer Belly\, Batzen\, Dada\, Brewfist\, Edit\, Leder\, Birra Elvo\, Hilltop\, Labeerinto\, La Villana ed Endorama. Ovviamente saranno presenti i birrai\, quindi sarà un’ottima occasione per conoscere da vicino queste produzioni legate strettamente alla coltivazione (e alla raccolta) del luppolo. È gradita la prenotazione. Per tutte le informazioni potete dare un’occhiata alla pagina Facebook dell’Arrogant Pub.
URL:https://cronachedibirra.it/evento/arrogant-fresh-hop-festival-2021/
LOCATION:Arrogant Pub
CATEGORIES:Iniziative
ATTACH;FMTTYPE=image/jpeg:https://cdn1.cronachedibirra.it/wp-content/uploads/20211126150424/arrogant-fresh.jpg
END:VEVENT
BEGIN:VEVENT
DTSTART;VALUE=DATE:20211127
DTEND;VALUE=DATE:20211129
DTSTAMP:20260422T081651
CREATED:20211119T141039Z
LAST-MODIFIED:20211119T141039Z
UID:32947-1637971200-1638143999@cronachedibirra.it
SUMMARY:Beer River
DESCRIPTION:Si terrà sabato 27 e domenica 28 novembre\, negli spazi di East River a Milano (Naviglio Martesana)\, il festival Beer River – da non confondere con lo storico Beeriver che si tiene tutti gli anni a Pisa. I birrifici presenti saranno Draco’s Cave\, Manerba\, LA Brewery\, La Cruda\, Birrificio Italiano e La Spilleria\, oltre al marchio di distillati Strada Ferrata. Il programma prevede laboratori di degustazione\, tour di street art in bicicletta\, presentazioni editoriali\, musica dal vivo e altro ancora. I contenuti della parte gastronomica saranno Inbeer (birra dentro e fuori il piatto)\, Sweet Beer (birra e dolcezze) e Hotbeer. Ulteriori informazioni sono disponibili sulla pagina Facebook di Beer River.
URL:https://cronachedibirra.it/evento/beer-river/
LOCATION:East River\, Via Jean Jaures 22\, Milano\, MI\, Italia
CATEGORIES:Manifestazioni
ATTACH;FMTTYPE=image/jpeg:https://cdn1.cronachedibirra.it/wp-content/uploads/20211119151013/beer-river.jpg
END:VEVENT
BEGIN:VEVENT
DTSTART;VALUE=DATE:20211127
DTEND;VALUE=DATE:20211129
DTSTAMP:20260422T081651
CREATED:20211126T145945Z
LAST-MODIFIED:20211126T150005Z
UID:33061-1637971200-1638143999@cronachedibirra.it
SUMMARY:Open Day 2021 di Birranova
DESCRIPTION:Si terrà sabato 27 e domenica 28 novembre l’iniziativa Open Day 2021 del birrificio pugliese Birranova. Presso la sede di Triggianello (BA) si svolgerà una due giorni di incontri\, chiacchiere tra amici e degustazioni\, sebbene l’appuntamento clou sarà incarnato dalla presentazione del nuovo impianto produttivo. Si tratta infatti di un’innovazione che probabilmente non ha pari nel settore birrario italiano: grazie alla collaborazione con l’Università degli studi Bari\, il Politecnico di Bari e Noovle spa (azienda del gruppo TIM e partner di Google)\, il nuovo impianto sarà collegato in cloud e grazie agli algoritmi di Google sarà in grado di auto-apprendere alcuni passaggi delle cotte e quindi di consentire l’ottimizzazione di tutti i parametri di produzione. Il programma prevede poi assaggi gratuiti\, cotta pubblica\, laboratori di degustazione\, presentazione della nuova linea di inlattinamento\, angolo food e altro ancora. Maggiori informazioni sono disponibili sulla pagina Facebook dell’evento.
URL:https://cronachedibirra.it/evento/open-day-2021-di-birranova/
LOCATION:Birrificio Birranova\, Via Brigata Ferrara\, Triggianello\, BA\, Italia
CATEGORIES:Iniziative
ATTACH;FMTTYPE=image/png:https://cdn1.cronachedibirra.it/wp-content/uploads/20211126155925/open-day-birranova.png
END:VEVENT
END:VCALENDAR