BEGIN:VCALENDAR
VERSION:2.0
PRODID:-//Cronache di Birra - ECPv6.15.20//NONSGML v1.0//EN
CALSCALE:GREGORIAN
METHOD:PUBLISH
X-WR-CALNAME:Cronache di Birra
X-ORIGINAL-URL:https://cronachedibirra.it
X-WR-CALDESC:Eventi per Cronache di Birra
REFRESH-INTERVAL;VALUE=DURATION:PT1H
X-Robots-Tag:noindex
X-PUBLISHED-TTL:PT1H
BEGIN:VTIMEZONE
TZID:Europe/Rome
BEGIN:DAYLIGHT
TZOFFSETFROM:+0100
TZOFFSETTO:+0200
TZNAME:CEST
DTSTART:20200329T010000
END:DAYLIGHT
BEGIN:STANDARD
TZOFFSETFROM:+0200
TZOFFSETTO:+0100
TZNAME:CET
DTSTART:20201025T010000
END:STANDARD
BEGIN:DAYLIGHT
TZOFFSETFROM:+0100
TZOFFSETTO:+0200
TZNAME:CEST
DTSTART:20210328T010000
END:DAYLIGHT
BEGIN:STANDARD
TZOFFSETFROM:+0200
TZOFFSETTO:+0100
TZNAME:CET
DTSTART:20211031T010000
END:STANDARD
BEGIN:DAYLIGHT
TZOFFSETFROM:+0100
TZOFFSETTO:+0200
TZNAME:CEST
DTSTART:20220327T010000
END:DAYLIGHT
BEGIN:STANDARD
TZOFFSETFROM:+0200
TZOFFSETTO:+0100
TZNAME:CET
DTSTART:20221030T010000
END:STANDARD
END:VTIMEZONE
BEGIN:VEVENT
DTSTART;VALUE=DATE:20210831
DTEND;VALUE=DATE:20210904
DTSTAMP:20260422T123936
CREATED:20210730T143433Z
LAST-MODIFIED:20210730T143433Z
UID:31439-1630368000-1630713599@cronachedibirra.it
SUMMARY:Cibus 2021
DESCRIPTION:Come forse saprete\, quest’anno la birra artigianale sarà grande protagonista a Cibus\, l’importante salone dell’alimentazione che andrà in scena da martedì 31 agosto a venerdì 3 settembre presso il polo fieristico di Parma. Grazie all’accordo con Unionbirrai\, un intero padiglione della manifestazione sarà dedicato a ospitare gli stand dei birrifici italiani. Al momento nell’elenco compaiono i seguenti produttori: 32 Via dei Birrai\, Balabiott\, Bruton\, Impavida\, Acme\, Birra Perugia\, Farnese\, Retorto\, Toccalmatto\, Babylon\, Basei\, Aleghe\, Birra 120\, Anbra\, Bellazzi\, Apuano\, Birra dei Vespri\, Barbaforte\, Cittavecchia\, Via Priula\, Hammer\, Birra OV\, Lambrate\, 61Cento\, Math\, Noiz\, Menaresta\, Porta Bruciata\, Rurale\, Chianti Brew Fighters\, BSA\, Canediguerra\, Vecchia Orsa\, Diciottozerouno\, 5+\, Dulac\, Il Conte Gelo\, LA Brewery\, Mastri Birrai Umbri\, Birrificio del Forte\, PLB\, Birra dell’Eremo\, Beha Brewing\, Birrificio Italiano\, Ritual Lab\, Okorei\, Oldo\, Sothis\, The Brave. \nInoltre Cibus ospiterà la cerimonia di premiazione di Birra dell’anno\, workshop a tema e una serie di eventi rientranti nel fuori salone Cibus Off in cui la birra artigianale sarà centrale. Per tutti i dettagli potete consultare il sito di Cibus.
URL:https://cronachedibirra.it/evento/cibus-2021/
LOCATION:Fiere di Parma\, Viale delle Esposizioni 393A\, Parma\, PR\, Italia
CATEGORIES:Manifestazioni
ATTACH;FMTTYPE=image/png:https://cdn1.cronachedibirra.it/wp-content/uploads/20210730161208/Logo-Cibus-2021-ITA.png
END:VEVENT
BEGIN:VEVENT
DTSTART;VALUE=DATE:20210902
DTEND;VALUE=DATE:20210906
DTSTAMP:20260422T123936
CREATED:20210827T134808Z
LAST-MODIFIED:20210827T134808Z
UID:31645-1630540800-1630886399@cronachedibirra.it
SUMMARY:Acido Acida 2021
DESCRIPTION:Da quando è cominciata la pandemia Acido Acida è stato uno dei pochissimi festival birrari che non si è fermato. L’edizione 2021 si terrà da giovedì 2 a domenica 5 settembre\, sempre presso lo splendido Chiostro di Santa Maria della Consolazione a Ferrara\, confermando un format ormai rodato nonostante le restrizioni sanitarie – per fortuna meno vincolanti rispetto ai mesi passati. Il focus sarà incentrato sulle birre britanniche\, con un occhio di riguardo per le produzioni acide\, ma in realtà saranno presenti anche diversi birrifici dall’Italia e dal resto del mondo. L’elenco è molto interessante: Antica Contea\, Blond Brothers\, PLB\, Cask Irpinia\, Torre Mozza\, Liquida\, Monpier de Gherdeina\, Collective Arts\, Deschutes\, Garage\, To Ol e Gallia Paris\, più tutte le referenze presenti nella bottaia (Yonder\, Kernel\, Partizan\, Siren\, Wild Beer\, Vocation\, Polly’s Brew\, Vault City\, Burning Sky\, Brewpoint\, ecc.). Il programma prevede angolo beershop (anche con crawler)\, musica dal vivo\, cucina\, laboratori e la tappa del concorso di homebrewing di Mobi. L’ingresso è gratuito ma è richiesta la prenotazione\, il cui link è disponibile\, insieme ad altri dettagli\, sulla pagina Facebook di Acido Acida.
URL:https://cronachedibirra.it/evento/acido-acida-2021/
LOCATION:Chiostro di Santa Maria della Consolazione\, Via Mortara 98\, Ferrara\, FE\, Italy
CATEGORIES:Manifestazioni
ATTACH;FMTTYPE=image/png:https://cdn1.cronachedibirra.it/wp-content/uploads/20210827154731/acido-acida-21.png
END:VEVENT
BEGIN:VEVENT
DTSTART;VALUE=DATE:20210903
DTEND;VALUE=DATE:20210905
DTSTAMP:20260422T123936
CREATED:20210903T142204Z
LAST-MODIFIED:20240627T122129Z
UID:31762-1630627200-1630799999@cronachedibirra.it
SUMMARY:Birralguer 2021
DESCRIPTION:Dopo quasi due anni di assenza a causa della pandemia\, venerdì 3 e sabato 4 settembre si terrà presso Lo Quarter ad Alghero (SS) l’edizione 2021 di Birralguer\, dedicata alle birre artigianali della Sardegna. I birrifici partecipanti sono quattro: Dolmen\, ‘Nora\, BAM e Birra Isola. Grande spazio avrà la musica\, con due concerti live ogni sera e dj set a seguire. Per partecipare a Birralguer non è necessaria la prenotazione\, ma è indispensabile essere forniti di green pass. Maggiori informazioni sono reperibili sulla pagina Facebook del festival.
URL:https://cronachedibirra.it/evento/birralguer-2021/
LOCATION:Lo Quarter\, Piazzale Lo Quarter\, Alghero\, SS\, Italia
CATEGORIES:Manifestazioni
ATTACH;FMTTYPE=image/jpeg:https://cdn1.cronachedibirra.it/wp-content/uploads/20210903162101/birralgruer.jpg
END:VEVENT
BEGIN:VEVENT
DTSTART;VALUE=DATE:20210903
DTEND;VALUE=DATE:20210906
DTSTAMP:20260422T123936
CREATED:20210827T135950Z
LAST-MODIFIED:20210827T135950Z
UID:31648-1630627200-1630886399@cronachedibirra.it
SUMMARY:Villaggio della Birra 2021
DESCRIPTION:Dopo la pausa forzata del 2020\, da venerdì 3 a domenica 5 settembre tornerà finalmente il Villaggio della Birra\, giunto alla sua quindicesima edizione. Quest’anno la cornice dell’evento sarà la vallata di Murlo (SI)\, non lontana dal locale castello\, dove “sfileranno” alcuni tra i migliori birrifici europei. L’elenco come sempre è da acquolina in bocca: La Diana\, Olmaia\, Brasseria della Fonte\, Lieviteria\, Bonavena\, Busa dei Briganti\, Lervig\, Brasserie de Blaugies\, Brasserie de Cazeau\, Den Hopperd\, De Dochter van de Korenaar\, Hofbrouwerijke\, Cantina Errante\, Chianti Brew Fighters\, Kees\, Frontaal\, La Pirata\, Hof ten Dormaal e De Ranke\, più un angolo dedicato a De Dolle. Nonostante le restrizioni anti covid\, il programma sarà molto ricco grazie alla presenza di laboratori\, concorso homebrewer Mobi\, musica dal vivo\, ampio angolo food e altro ancora. Per tutti gli aggiornamenti potete consultare il sito del Villaggio della Birra e la relativa pagina Facebook.
URL:https://cronachedibirra.it/evento/villaggio-della-birra-2021/
LOCATION:Comune di Murlo\, Murlo\, SI\, Italia
CATEGORIES:Manifestazioni
ATTACH;FMTTYPE=image/jpeg:https://cdn1.cronachedibirra.it/wp-content/uploads/20210827155928/villaggio-birra-21.jpg
END:VEVENT
BEGIN:VEVENT
DTSTART;VALUE=DATE:20210910
DTEND;VALUE=DATE:20210913
DTSTAMP:20260422T123936
CREATED:20210903T134210Z
LAST-MODIFIED:20210903T134231Z
UID:31750-1631232000-1631491199@cronachedibirra.it
SUMMARY:Chiarescure Festival 2021
DESCRIPTION:Sarà la Cascina Merlata di Milano a ospitare l’edizione 2021 di Chiarescure Festival\, in programma da venerdì 10 a domenica 12 settembre. Come sempre le birre disponibili (circa 40) saranno divise in punti di spillatura individuati secondo criteri “entry level”: chiare\, scure\, ambrate\, luppolate e speciali. Per la prima volta i birrifici rappresentati saranno sono quelli situati a Milano e dintorni. Il programma prevede musica dal vivo e un’ampia zona food con specialità siciliane\, fritti\, panini\, American BBQ e altro ancora. L’ingresso è libero ma subordinato a prenotazione (che si può effettuare su Pane Liquido) e all’esibizione del green pass. Ulteriori informazioni sono disponibili sulla pagina Facebook di Chiarescure.
URL:https://cronachedibirra.it/evento/chiarescure-festival-2021/
LOCATION:Cascina Merlata\, Via Pier Paolo Pasolini 3\, Milano\, MI\, 20157\, Italia
CATEGORIES:Manifestazioni
ATTACH;FMTTYPE=image/jpeg:https://cdn1.cronachedibirra.it/wp-content/uploads/20210903154147/chiarescure-2021.jpg
END:VEVENT
BEGIN:VEVENT
DTSTART;VALUE=DATE:20210910
DTEND;VALUE=DATE:20210913
DTSTAMP:20260422T123936
CREATED:20210903T135257Z
LAST-MODIFIED:20210903T135257Z
UID:31754-1631232000-1631491199@cronachedibirra.it
SUMMARY:Bierfest Platz 2021
DESCRIPTION:Bierfest Platz è il nome della manifestazione ideata dal birrificio La Piazza di Torino e dedicata alle birre artigianali in stile tedesco. L’edizione 2021 si svolgerà da venerdì 10 a domenica 12 settembre e si avvarrà della presenza di tanti birrifici ospiti: 50&50\, Birrificio Castagnero\, Aleghe\, Baladin\, Croce di Malto\, Canediguerra\, Birrificio del Forte\, Ofelia\, Altavia e lo svizzero Tranquenard. Tanti gli appuntamenti che si alterneranno durante la tre giorni\, come la presentazione delle ultime iniziative de La Piazza (lattine e community)\, l’assaggio in anteprima della Kaiser Hopfen (una Imperial Pils realizzata insieme a 50&50)\, l’apertura di botti a caduta\, l’organizzazione di visite guidate all’impianto di produzione e la presenza di dj set. La cucina sarà curata dagli chef Maurizio Camilli (ristorante La Piazza) e Marco Santelli (birrificio La Piazza). Maggiori informazioni sono disponibili sulla pagina Facebook di Bierfest Platz.
URL:https://cronachedibirra.it/evento/bierfest-platz-2021/
LOCATION:Birrificio La Piazza\, Via Durandi 13\, Torino\, TO\, Italia
CATEGORIES:Manifestazioni
ATTACH;FMTTYPE=image/jpeg:https://cdn1.cronachedibirra.it/wp-content/uploads/20210903155214/bierfest-platz-1.jpg
END:VEVENT
BEGIN:VEVENT
DTSTART;VALUE=DATE:20210910
DTEND;VALUE=DATE:20210913
DTSTAMP:20260422T123936
CREATED:20210903T141045Z
LAST-MODIFIED:20210903T141045Z
UID:31758-1631232000-1631491199@cronachedibirra.it
SUMMARY:Expo delle birre artigianali 2021
DESCRIPTION:Giunge alla sua undicesima edizione l’Expo delle birre artigianali\, ormai storica kermesse organizzata dall’associazione Brasseria Veneta. Il festival si terrà da venerdì 10 a domenica 12 settembre presso la zona attrezzata di Preganziol (TV) e come sempre proporrà una curiosa fusione tra mondo pro e homebrewing. Ci sarà infatti uno spazio dedicato ai produttori casalinghi\, ma anche 6 birrifici presenti con i loro stand: Antikorpo\, Birrone\, Bradipongo\, LZO\, Menaresta e Birrificio del Forte. Tra i vari appuntamenti collaterali si segnala la premiazione del concorso per homebrewer Wide Open\, ma ci sarà anche un’area dedicata a prodotti per la birrificazione (casalinga e non) e una di ristorazione con food truck. Ulteriori informazioni sono disponibili sulla pagina Facebook della manifestazione.
URL:https://cronachedibirra.it/evento/expo-delle-birre-artigianali-2021/
LOCATION:Area expo di Preganziol\, Via Europa\, Preganziol\, TV\, Italia
CATEGORIES:Manifestazioni
ATTACH;FMTTYPE=image/jpeg:https://cdn1.cronachedibirra.it/wp-content/uploads/20210903161026/expo-brasseria.jpg
END:VEVENT
BEGIN:VEVENT
DTSTART;VALUE=DATE:20210910
DTEND;VALUE=DATE:20210913
DTSTAMP:20260422T123936
CREATED:20210910T104343Z
LAST-MODIFIED:20210910T104343Z
UID:31905-1631232000-1631491199@cronachedibirra.it
SUMMARY:Buttiga Beer Party 2021
DESCRIPTION:Cominciano oggi e continueranno fino a domenica 12 settembre gli originali Olympic Beer Games\, le “olimpiadi della birra” con cui il birrificio La Buttiga festeggia sempre il suo compleanno (quest’anno è il decimo anniversario). L’iniziativa si terrà presso i due locali di Milano del produttore (Sarpi e Martesana) e prevedrà anche dj set e altro. Per tutti i dettagli vi consigliamo di dare un’occhiata alla pagina Facebook dell’evento.
URL:https://cronachedibirra.it/evento/buttiga-beer-party-2021/
LOCATION:Milano\, Milano\, MI\, Italia
CATEGORIES:Iniziative
ATTACH;FMTTYPE=image/jpeg:https://cdn1.cronachedibirra.it/wp-content/uploads/20210910124301/buttiga-2021.jpg
END:VEVENT
BEGIN:VEVENT
DTSTART;VALUE=DATE:20210916
DTEND;VALUE=DATE:20210920
DTSTAMP:20260422T123936
CREATED:20210910T092236Z
LAST-MODIFIED:20210917T162315Z
UID:31893-1631750400-1632095999@cronachedibirra.it
SUMMARY:Lombardia Beer Fest 2021
DESCRIPTION:Attenzione: benché non sia arrivata alcuna comunicazione da parte dell’organizzazione\, possiamo annunciarvi che l’evento è stato annullato. \nSarà ancora la Piazza Città di Lombardia di Milano a ospitare l’edizione autunnale del Lombardia Beer Fest\, in programma da giovedì 16 a domenica 19 settembre. Saranno presenti i seguenti birrifici\, tutti italiani: Oltremondo\, Maiot\, Birra Bognanco\, Esubeerante\, Birra Perugia\, I Colori del Gusto\, Wackybrew\, The Brave\, La Cruda\, The Ugly Sheep\, Croce di Malto e Stradaregina. La parte gastronomica sarà curata da cinque food truck con specialità regionali dalla Sicilia al Trentino-Alto Adige\, mentre il programma prevede diversi workshop e tanta musica. Aggiornamenti e ulteriori dettagli sono consultabili sulla pagina Facebook del Lombardia Beer Fest.
URL:https://cronachedibirra.it/evento/lombardia-beer-fest-2021/
LOCATION:Piazza Città di Lombardia\, Piazza Città di Lombardia\, Milano\, MI\, 20124\, Italia
CATEGORIES:Manifestazioni
ATTACH;FMTTYPE=image/jpeg:https://cdn1.cronachedibirra.it/wp-content/uploads/20210910112201/lombardia-1.jpg
END:VEVENT
BEGIN:VEVENT
DTSTART;VALUE=DATE:20210917
DTEND;VALUE=DATE:20210920
DTSTAMP:20260422T123936
CREATED:20210910T090345Z
LAST-MODIFIED:20210910T090345Z
UID:31885-1631836800-1632095999@cronachedibirra.it
SUMMARY:MicroBo Beer Festival 2021
DESCRIPTION:Andrà in scena da venerdì 17 a domenica 19 settembre l’edizione 2021 di MicroBo Beer Festival\, l’ormai tradizionale appuntamento birrario di Bologna. Nel Parco della Montagnola saranno disponibili le produzioni di 11 birrifici italiani\, ognuno con il proprio stand: Ca’ del Brado\, Birra Bellazzi\, Muttnik\, Canediguerra\, Mister B\, La Buttiga\, Bifor\, Liquida\, Birrificio del Forte\, Birrificio dei Castelli\, RentOn. Nonostante le limitazioni imposte dal Covid\, il programma sarà come sempre fitto di iniziative: workshop tematici\, degustazioni guidate\, musica dal vivo\, hotel convenzionati e un ricco angolo food con American bbq e altro ancora. Maggiori informazioni sono disponibili sulla pagina Facebook dell’evento.
URL:https://cronachedibirra.it/evento/microbo-beer-festival-2021/
LOCATION:Parco della Montagnola\, Via Irnerio\, 2/3\, Bologna\, BO\, 40126\, Italia
CATEGORIES:Manifestazioni
ATTACH;FMTTYPE=image/jpeg:https://cdn1.cronachedibirra.it/wp-content/uploads/20210910110043/microbo-3.jpg
END:VEVENT
BEGIN:VEVENT
DTSTART;VALUE=DATE:20210917
DTEND;VALUE=DATE:20210920
DTSTAMP:20260422T123936
CREATED:20210917T133125Z
LAST-MODIFIED:20210917T133125Z
UID:32018-1631836800-1632095999@cronachedibirra.it
SUMMARY:Birrette in Villa 2021
DESCRIPTION:Giunge alla sua terza edizione il festival Birrette in Villa\, che comincia oggi e proseguirà fino a domenica 19 settembre presso Villa Levi a Reggio Emilia. I birrifici partecipanti sono: Obici\, Toptà\, La Spezia Brewing Co.\, Monte Baldo\, Biren\, Emod\, Radical Brewery\, Birrificio Apuano e Birrificio Agricolo Sorio. Il programma prevede musica live e spettacoli e una vasta scelta gastronomica grazie alla presenza di diversi food truck. L’ingresso è subordinato alla presentazione di green pass ed è consigliabile la prenotazione. Dettagli e maggiori informazioni sono disponibili sulla pagina Facebook di Birrette in Villa.
URL:https://cronachedibirra.it/evento/birrette-in-villa-2021/
LOCATION:Villa Levi\, Via Fratelli Rosselli 107\, Reggio Emilia\, RE\, Italia
CATEGORIES:Manifestazioni
ATTACH;FMTTYPE=image/jpeg:https://cdn1.cronachedibirra.it/wp-content/uploads/20210917153054/birrette-villa.jpg
END:VEVENT
BEGIN:VEVENT
DTSTART;VALUE=DATE:20210917
DTEND;VALUE=DATE:20210921
DTSTAMP:20260422T123936
CREATED:20210917T130511Z
LAST-MODIFIED:20210917T130511Z
UID:32012-1631836800-1632182399@cronachedibirra.it
SUMMARY:Cheese 2021
DESCRIPTION:Comincia oggi e proseguirà fino a lunedì 20 settembre la nuova edizione di Cheese\, la grande rassegna di formaggi che Slow Food organizza ogni due anni a Bra (CN). Come sempre grande spazio sarà dedicata alla birra artigianale\, con gli stand di numeri produttori italiani: Antagonisti\, Baladin\, Beba\, Impavida\, 61Cento\, Kauss\, Birrificio Bari\, Castagnero\, Birrificio del Vulture\, Birrificio della Granda\, Filodilana\, Grado Plato\, Elav\, La Villana\, Manerba\, Sagrin\, Troll\, Canediguerra\, Croce di Malto\, Edit\, Gruit e Maltus Faber. La birra sarà anche protagonista di laboratori del gusto ed altri eventi collaterali\, in abbinamento a formaggi\, pasta e non solo. Per tutti i dettagli potete consultare il sito di Cheese.
URL:https://cronachedibirra.it/evento/cheese-2021/
LOCATION:Bra\, Bra\, CN\, Italia
CATEGORIES:Manifestazioni
ATTACH;FMTTYPE=image/jpeg:https://cdn1.cronachedibirra.it/wp-content/uploads/20210917150433/cheese-1-1.jpg
END:VEVENT
BEGIN:VEVENT
DTSTART;VALUE=DATE:20210918
DTEND;VALUE=DATE:20210919
DTSTAMP:20260422T123936
CREATED:20210917T134025Z
LAST-MODIFIED:20210917T134025Z
UID:32024-1631923200-1632009599@cronachedibirra.it
SUMMARY:Pork'n'Roll Day 2021
DESCRIPTION:Ancora non è il momento per il Pork’n’Roll di tornare alla Tenuta La Mistica\, la location dove per alcuni anni si è tenuta la festa di compleanno del locale (anzi dei due locali\, il pub e la bottega) di Roma. Invece\, come lo scorso anno\, anche nel 2021 le celebrazioni si sposteranno in sede\, per una giornata densa di contenuti\, collaborazioni e ovviamente birra. Dalla mattina di domani sabato 18 settembre fino a chiusura\, troverete una tap list d’eccezione\, una selezione di Lambic\, piatti pensati nell’ottica dell’abbinamento\, apertura della botte di Landbier Old Copper e tanto altro grazie alla partecipazione di Casa Manfredi\, Picapau\, pastificio Mauro Secondi\, La Formaggeria\, Pizza Chef e Whisky Italy. Il programma completo è presente sulla pagina Facebook dell’evento.
URL:https://cronachedibirra.it/evento/porknroll-day-2021/
LOCATION:Pork’n’Roll\, Via Carlo Caneva\, 15\, Roma\, RM\, 00159\, Italia
CATEGORIES:Iniziative
ATTACH;FMTTYPE=image/jpeg:https://cdn1.cronachedibirra.it/wp-content/uploads/20210917153953/pork-roll-day-1.jpg
END:VEVENT
BEGIN:VEVENT
DTSTART;VALUE=DATE:20210925
DTEND;VALUE=DATE:20210926
DTSTAMP:20260422T123936
CREATED:20210910T100937Z
LAST-MODIFIED:20210910T100937Z
UID:31900-1632528000-1632614399@cronachedibirra.it
SUMMARY:Zwanze Day 2021
DESCRIPTION:Lo Zwanze Day è il consueto evento dedicato alla speciale birra che il belga Cantillon produce ogni anno con una ricetta diversa. Quest’anno sarà un Lambic prodotto con aggiunta di arance\, battezzato Parasol e la cui ricetta è ispirata agli esperimenti eseguiti da Paul Cantillon all’inizio degli anni ’50. Come sempre la birra sarà disponibile in anteprima e in contemporanea in alcuni locali sparsi in tutto il mondo\, che la renderanno disponibile al pubblico sabato 25 settembre. I pub italiani coinvolti nell’iniziativa sono i seguenti: Ma Che Siete Venuti A Fà (Roma)\, Abbazia di Sherwood (Caprino Bergamasco)\, LambicZoon (Milano)\, The Drunken Duck (Quinto Vicentino)\, Malto Gradimento (Reggio Calabria)\, Birre & Mondo Crudele (Crema)\, Storie di Pinte (San Lazzaro)\, Mosaik Beer House (Catania)\, Diorama (Firenze). Ulteriori informazioni sono disponibili sulla pagina Facebook di Cantillon.
URL:https://cronachedibirra.it/evento/zwanze-day-2021/
LOCATION:Italia\, Italia
CATEGORIES:Iniziative
ATTACH;FMTTYPE=image/jpeg:https://cdn1.cronachedibirra.it/wp-content/uploads/20210910120916/zwanze-2021.jpg
END:VEVENT
END:VCALENDAR