BEGIN:VCALENDAR
VERSION:2.0
PRODID:-//Cronache di Birra - ECPv6.15.20//NONSGML v1.0//EN
CALSCALE:GREGORIAN
METHOD:PUBLISH
X-WR-CALNAME:Cronache di Birra
X-ORIGINAL-URL:https://cronachedibirra.it
X-WR-CALDESC:Eventi per Cronache di Birra
REFRESH-INTERVAL;VALUE=DURATION:PT1H
X-Robots-Tag:noindex
X-PUBLISHED-TTL:PT1H
BEGIN:VTIMEZONE
TZID:Europe/Rome
BEGIN:DAYLIGHT
TZOFFSETFROM:+0100
TZOFFSETTO:+0200
TZNAME:CEST
DTSTART:20200329T010000
END:DAYLIGHT
BEGIN:STANDARD
TZOFFSETFROM:+0200
TZOFFSETTO:+0100
TZNAME:CET
DTSTART:20201025T010000
END:STANDARD
BEGIN:DAYLIGHT
TZOFFSETFROM:+0100
TZOFFSETTO:+0200
TZNAME:CEST
DTSTART:20210328T010000
END:DAYLIGHT
BEGIN:STANDARD
TZOFFSETFROM:+0200
TZOFFSETTO:+0100
TZNAME:CET
DTSTART:20211031T010000
END:STANDARD
BEGIN:DAYLIGHT
TZOFFSETFROM:+0100
TZOFFSETTO:+0200
TZNAME:CEST
DTSTART:20220327T010000
END:DAYLIGHT
BEGIN:STANDARD
TZOFFSETFROM:+0200
TZOFFSETTO:+0100
TZNAME:CET
DTSTART:20221030T010000
END:STANDARD
END:VTIMEZONE
BEGIN:VEVENT
DTSTART;VALUE=DATE:20210728
DTEND;VALUE=DATE:20210802
DTSTAMP:20260422T163210
CREATED:20210730T133904Z
LAST-MODIFIED:20210730T133904Z
UID:31432-1627430400-1627862399@cronachedibirra.it
SUMMARY:Brianza Beer Festival 2021
DESCRIPTION:È cominciata mercoledì e proseguirà fino a domenica 1 agosto l’edizione 2021 del Brianza Beer Festival\, ospitata all’interno del Parco Tittoni di Desio (MB). L’evento è strutturato in tre aree di somministrazione per un totale di 100 birrifici rappresentati\, tutti italiani. Il programma prevede un angolo dedicato alle birre acide\, un interessante programma di workshop\, meeting per homebrewer\, ampio menu gastronomico con hamburger\, panini\, fritti\, burritos\, arrosticini\, American bbq e altro ancora. Per conoscere tutte le birre disponibili e reperire ulteriori informazioni\, potete consultare la pagina del BBF 2021 sul sito del Parco Tittoni.
URL:https://cronachedibirra.it/evento/brianza-beer-festival-2021/
LOCATION:Parco Tittoni\, Via Cavalieri di Vittorio Veneto 2\, Desio\, MB\, 20832\, Italia
CATEGORIES:Manifestazioni
ATTACH;FMTTYPE=image/jpeg:https://cdn1.cronachedibirra.it/wp-content/uploads/20210730153822/bbf-1-2.jpg
END:VEVENT
BEGIN:VEVENT
DTSTART;VALUE=DATE:20210806
DTEND;VALUE=DATE:20210808
DTSTAMP:20260422T163210
CREATED:20210723T095356Z
LAST-MODIFIED:20210723T095356Z
UID:31303-1628208000-1628380799@cronachedibirra.it
SUMMARY:Zuradili Sardinia BeerBq Festival 2021
DESCRIPTION:Si svolgerà venerdì 6 e sabato 7 agosto la seconda edizione di Zuradili Sardinia BeerBq Festival\, evento unico nel suo genere dedicato al barbecue e alla birra artigianale della Sardegna.\nIl Parco di Zuradili a Marrubiu (OR)\, ai piedi del Monte Arci\, vedrà la partecipazione di birrifici artigianali e beer firm della regione: Scialandrone\, Harvest\, Birrificio Artigianale Mogorese\, Terrantiga\, A Mine of Beer e altri che saranno svelati nei prossimi giorni sulla pagina Facebook del festival. L’altra parte dell’anima della manifestazione sarà rappresentata da sei team di bbq\, mentre non mancherà un truck dedicato alla mixology e altri contenuti.
URL:https://cronachedibirra.it/evento/zuradili-sardinia-beerbq-festival-2021/
LOCATION:Parco di Zuradili\, Località Zuarbara\, Marrubiu\, OR\, 09094\, Italia
CATEGORIES:Manifestazioni
ATTACH;FMTTYPE=image/jpeg:https://cdn1.cronachedibirra.it/wp-content/uploads/20210723115319/zuradili.jpg
END:VEVENT
BEGIN:VEVENT
DTSTART;VALUE=DATE:20210806
DTEND;VALUE=DATE:20210809
DTSTAMP:20260422T163210
CREATED:20210723T100305Z
LAST-MODIFIED:20210723T100305Z
UID:31306-1628208000-1628467199@cronachedibirra.it
SUMMARY:Dieci volte forte
DESCRIPTION:Quest’anno il Birrificio del Forte compie 10 anni e per l’occasione ha in programma l’evento Dieci Volte Forte\, che si terrà da venerdì 6 a domenica 8 agosto presso la sede produttiva di Pietrasanta (LU). Protagoniste saranno ovviamente le ottime creazioni del produttore toscano\, ma non solo: i contenuti di contorno non mancheranno di certo\, tra visite guidate all’impianto\, laboratori di degustazione\, musica dal vivo e food truck. L’evento sarà anche il pretesto per presentare la birra celebrativa del birrificio. Ulteriori informazioni sulla pagina Facebook della manifestazione.
URL:https://cronachedibirra.it/evento/dieci-volte-forte/
LOCATION:Birrificio del Forte\, Via della Breccia Violetta\, 5/A\, Pietrasanta\, LU\, Italia
CATEGORIES:Manifestazioni
ATTACH;FMTTYPE=image/jpeg:https://cdn1.cronachedibirra.it/wp-content/uploads/20210723120233/10-volte-forte.jpg
END:VEVENT
BEGIN:VEVENT
DTSTART;VALUE=DATE:20210806
DTEND;VALUE=DATE:20210809
DTSTAMP:20260422T163210
CREATED:20210730T135225Z
LAST-MODIFIED:20210730T135225Z
UID:31435-1628208000-1628467199@cronachedibirra.it
SUMMARY:BAI Beer Fest 2021
DESCRIPTION:Si terrà da venerdì 6 a domenica 8 agosto l’edizione 2021 del BAI Beer Fest\, che per l’occasione assumerà una veste “portuale”: la location sarà infatti il Molo Masuccio di Salerno\, a Piazza della Concordia. I birrifici partecipanti saranno Busa dei Briganti\, Birranova\, Eastside\, Antikorpo\, War\, Birra Perugia\, Birrificio dei Castelli\, Lariano e La Fucina\, ma non dovrebbe mancare una rappresentanza di produttori campani. Per la parte gastronomica saranno presenti diversi food truck\, mentre la musica dal vivo allieterà le tre serate. Per eventuali aggiornamenti potete seguire la pagina Facebook di BAI.
URL:https://cronachedibirra.it/evento/bai-beer-fest-2021/
LOCATION:Molo Masuccio\, Piazza della Concordia\, Salerno\, SA\, Italia
CATEGORIES:Manifestazioni
ATTACH;FMTTYPE=image/png:https://cdn1.cronachedibirra.it/wp-content/uploads/20210730155204/bai-beer-fest.png
END:VEVENT
BEGIN:VEVENT
DTSTART;VALUE=DATE:20210807
DTEND;VALUE=DATE:20210809
DTSTAMP:20260422T163210
CREATED:20210730T143202Z
LAST-MODIFIED:20210730T143202Z
UID:31442-1628294400-1628467199@cronachedibirra.it
SUMMARY:1091 Beer Festival 2021
DESCRIPTION:Si chiama 1091 Beer Festival l’evento che si terrà a Balze\, in provincia di Forlì-Cesena\, sabato 7 e domenica 8 agosto. Il nome si riferisce ai metri di altitudine della frazione di Verghereto\, famosa per essere il luogo in cui si trova la sorgente del Tevere. La manifestazione si terrà nel centro del paese e vedrà la partecipazione sei birrifici italiani: Fortebraccio\, Biren\, Valsenio\, 61Cento\, Beer Belly e Nostrale. Saranno presenti food truck con prodotti tipici e spettacoli d’intrattenimento per i più piccoli. Maggiori informazioni sono disponibili sulla pagina Facebook del festival.
URL:https://cronachedibirra.it/evento/1091-beer-festival-2021/
LOCATION:Balze di Verghereto\, Balze di Verghereto\, FC\, 47028\, Italia
CATEGORIES:Manifestazioni
ATTACH;FMTTYPE=image/jpeg:https://cdn1.cronachedibirra.it/wp-content/uploads/20210730163101/1091.jpg
END:VEVENT
BEGIN:VEVENT
DTSTART;VALUE=DATE:20210826
DTEND;VALUE=DATE:20210831
DTSTAMP:20260422T163210
CREATED:20210827T141620Z
LAST-MODIFIED:20210827T141620Z
UID:31653-1629936000-1630367999@cronachedibirra.it
SUMMARY:Fermenti d'Abruzzo 2021
DESCRIPTION:È cominciata ieri e proseguirà fino a lunedì 30 agosto la sesta edizione di Fermenti d’Abruzzo\, festival di scena presso il Porto turistico di Marina di Pescara. I birrifici partecipanti sono Opperbacco\, Birrificio Abruzzese\, Bertona\, Donkey Beer\, Fermento Marso\, Garagardo\, Humus\, Kajana\, Maiella\, Maiot\, Mezzopasso e Pesce Palla. Davvero ricco e vario il programma della manifestazione\, con degustazioni in barca\, workshop\, approfondimenti\, musica dal vivo\, concorso di homebrewing\, premio per il miglior locale e street food. Maggiori informazioni sono disponibili sul sito di Fermenti d’Abruzzo.
URL:https://cronachedibirra.it/evento/fermenti-dabruzzo-2021/
LOCATION:Porto turistico di Pescara\, Lungomare Papa Giovanni XXIII\, Pescara\, PE\, 65127\, Italia
CATEGORIES:Manifestazioni
ATTACH;FMTTYPE=image/jpeg:https://cdn1.cronachedibirra.it/wp-content/uploads/20210827161231/fermenti-abruzzo-1.jpg
END:VEVENT
BEGIN:VEVENT
DTSTART;VALUE=DATE:20210831
DTEND;VALUE=DATE:20210904
DTSTAMP:20260422T163210
CREATED:20210730T143433Z
LAST-MODIFIED:20210730T143433Z
UID:31439-1630368000-1630713599@cronachedibirra.it
SUMMARY:Cibus 2021
DESCRIPTION:Come forse saprete\, quest’anno la birra artigianale sarà grande protagonista a Cibus\, l’importante salone dell’alimentazione che andrà in scena da martedì 31 agosto a venerdì 3 settembre presso il polo fieristico di Parma. Grazie all’accordo con Unionbirrai\, un intero padiglione della manifestazione sarà dedicato a ospitare gli stand dei birrifici italiani. Al momento nell’elenco compaiono i seguenti produttori: 32 Via dei Birrai\, Balabiott\, Bruton\, Impavida\, Acme\, Birra Perugia\, Farnese\, Retorto\, Toccalmatto\, Babylon\, Basei\, Aleghe\, Birra 120\, Anbra\, Bellazzi\, Apuano\, Birra dei Vespri\, Barbaforte\, Cittavecchia\, Via Priula\, Hammer\, Birra OV\, Lambrate\, 61Cento\, Math\, Noiz\, Menaresta\, Porta Bruciata\, Rurale\, Chianti Brew Fighters\, BSA\, Canediguerra\, Vecchia Orsa\, Diciottozerouno\, 5+\, Dulac\, Il Conte Gelo\, LA Brewery\, Mastri Birrai Umbri\, Birrificio del Forte\, PLB\, Birra dell’Eremo\, Beha Brewing\, Birrificio Italiano\, Ritual Lab\, Okorei\, Oldo\, Sothis\, The Brave. \nInoltre Cibus ospiterà la cerimonia di premiazione di Birra dell’anno\, workshop a tema e una serie di eventi rientranti nel fuori salone Cibus Off in cui la birra artigianale sarà centrale. Per tutti i dettagli potete consultare il sito di Cibus.
URL:https://cronachedibirra.it/evento/cibus-2021/
LOCATION:Fiere di Parma\, Viale delle Esposizioni 393A\, Parma\, PR\, Italia
CATEGORIES:Manifestazioni
ATTACH;FMTTYPE=image/png:https://cdn1.cronachedibirra.it/wp-content/uploads/20210730161208/Logo-Cibus-2021-ITA.png
END:VEVENT
END:VCALENDAR