BEGIN:VCALENDAR
VERSION:2.0
PRODID:-//Cronache di Birra - ECPv6.15.20//NONSGML v1.0//EN
CALSCALE:GREGORIAN
METHOD:PUBLISH
X-WR-CALNAME:Cronache di Birra
X-ORIGINAL-URL:https://cronachedibirra.it
X-WR-CALDESC:Eventi per Cronache di Birra
REFRESH-INTERVAL;VALUE=DURATION:PT1H
X-Robots-Tag:noindex
X-PUBLISHED-TTL:PT1H
BEGIN:VTIMEZONE
TZID:Europe/Rome
BEGIN:DAYLIGHT
TZOFFSETFROM:+0100
TZOFFSETTO:+0200
TZNAME:CEST
DTSTART:20190331T010000
END:DAYLIGHT
BEGIN:STANDARD
TZOFFSETFROM:+0200
TZOFFSETTO:+0100
TZNAME:CET
DTSTART:20191027T010000
END:STANDARD
BEGIN:DAYLIGHT
TZOFFSETFROM:+0100
TZOFFSETTO:+0200
TZNAME:CEST
DTSTART:20200329T010000
END:DAYLIGHT
BEGIN:STANDARD
TZOFFSETFROM:+0200
TZOFFSETTO:+0100
TZNAME:CET
DTSTART:20201025T010000
END:STANDARD
BEGIN:DAYLIGHT
TZOFFSETFROM:+0100
TZOFFSETTO:+0200
TZNAME:CEST
DTSTART:20210328T010000
END:DAYLIGHT
BEGIN:STANDARD
TZOFFSETFROM:+0200
TZOFFSETTO:+0100
TZNAME:CET
DTSTART:20211031T010000
END:STANDARD
END:VTIMEZONE
BEGIN:VEVENT
DTSTART;VALUE=DATE:20200904
DTEND;VALUE=DATE:20200906
DTSTAMP:20260423T102552
CREATED:20200904T114413Z
LAST-MODIFIED:20200904T114413Z
UID:28224-1599177600-1599350399@cronachedibirra.it
SUMMARY:Beeriver Pontremoli 2020
DESCRIPTION:Comincia oggi e proseguirà domani sabato 5 settembre il festival Beeriver\, in programma presso Piazza della Repubblica a Pontremoli (MS). Saranno presenti sei birrifici italiani con le loro creazioni: Birrificio Apuano\, Argo\, Birrificio sul Mare\, Rurale\, Green Dog Brewery e La Spezia Brewing. Il programma prevede spazio food con pane e companatico\, musica dal vivo\, dj set e soprattutto diversi laboratori guidati da Simone Cantoni. L’evento si svolgerà all’aperto\, nel rispetto delle misure di sicurezza\, con ingresso contingentato\, mascherine\, misurazione della temperatura\, sanificazione. È consigliata la prenotazione sul sito di Beeriver.
URL:https://cronachedibirra.it/evento/beeriver-pontremoli-2020/
LOCATION:Piazza della Repubblica – Pontremoli\, Piazza della Repubblica\, Pontremoli\, MS\, 54027\, Italia
CATEGORIES:Manifestazioni
ATTACH;FMTTYPE=image/jpeg:https://cdn1.cronachedibirra.it/wp-content/uploads/20200904134235/beeriver-2020.jpg
END:VEVENT
BEGIN:VEVENT
DTSTART;VALUE=DATE:20200904
DTEND;VALUE=DATE:20200907
DTSTAMP:20260423T102552
CREATED:20200724T123551Z
LAST-MODIFIED:20200724T123551Z
UID:28001-1599177600-1599436799@cronachedibirra.it
SUMMARY:Acido Acida 2020
DESCRIPTION:In questi mesi il festival Acido Acida ha lavorato per cercare una soluzione alle restrizioni anti-Covid\, senza mettere mai in dubbio il suo svolgimento. Così l’evento dedicato alle birre britanniche e del resto del mondo si terrà regolarmente da venerdì 4 a domenica 6 settembre nel chiostro di Santa Maria della Consolazione a Ferrara. Ne parliamo con largo anticipo perché dalla mezzanotte tra il 30 e il 31 luglio sarà possibile prenotare online l’ingresso gratuito alla manifestazione: per regolare gli accessi\, infatti\, l’organizzazione ha previsto quattro sessioni della durata di tre ore ciascuna. Saranno presenti una novantina di spine e alcuni birrifici italiani (Antica Contea\, Mister B\, Liquida\, Ca’ del Brado\, Birrificio Armerino) sostituiranno quelli inglesi impossibilitati a partecipare. Sarà comunque disponibile un’ampia varietà di birre britanniche\, suddivise secondo un criterio geografico (“Manchester zone”\, “Bristol zone” e “London zone”)\, mentre non mancherà un’area dedicata alle produzioni americane (Cigar City\, Oskar Blues\, Founders\, Avery\, Collective Arts). Merita menzione la bottaia del festival\, con tante creazioni affinate in legno. Il programma prevede laboratori di degustazione\, angolo beershop\, musica dal vivo\, dj set\, concorso di homebrewing. Per aggiornamenti e ulteriori informazioni potete consultare la pagina Facebook di Acido Acida.
URL:https://cronachedibirra.it/evento/acido-acida-2020/
LOCATION:Chiostro di Santa Maria della Consolazione\, Via Mortara 98\, Ferrara\, FE\, Italy
CATEGORIES:Manifestazioni
ATTACH;FMTTYPE=image/jpeg:https://cdn1.cronachedibirra.it/wp-content/uploads/20200724143526/acido-acida-2.jpg
END:VEVENT
BEGIN:VEVENT
DTSTART;VALUE=DATE:20200911
DTEND;VALUE=DATE:20200913
DTSTAMP:20260423T102552
CREATED:20200904T134148Z
LAST-MODIFIED:20200904T134148Z
UID:28230-1599782400-1599955199@cronachedibirra.it
SUMMARY:Ofelia 8th Birthday Party
DESCRIPTION:Si terrà venerdì 11 e sabato 12 settembre il party per l’ottavo anniversario del Birrificio Ofelia\, in programma presso la sede di Sovizzo (VI). Chiaramente grandi protagoniste saranno le birre della casa\, affiancate da alcuni produzioni ospiti e da uno street food incentrato su hamburger di qualità. Tra gli appuntamenti collaterali si segnala un laboratorio di degustazione su birra e cocktail e la presentazione della Guida alle birre d’Italia di Slow Food. Non mancheranno dj set e musica dal vivo. I posti saranno solo a sedere ed è consigliata la prenotazione. Maggiori dettagli sono disponibili sulla pagina Facebook dell’iniziativa.
URL:https://cronachedibirra.it/evento/ofelia-8th-birthday-party/
LOCATION:Birrificio Ofelia\, Via dell'artigianato 22\, Sovizzo\, VI\, 36050\, Italia
CATEGORIES:Iniziative
ATTACH;FMTTYPE=image/jpeg:https://cdn1.cronachedibirra.it/wp-content/uploads/20200904154116/ofelia-bday.jpg
END:VEVENT
BEGIN:VEVENT
DTSTART;VALUE=DATE:20200917
DTEND;VALUE=DATE:20200921
DTSTAMP:20260423T102552
CREATED:20200904T132657Z
LAST-MODIFIED:20200904T132657Z
UID:28227-1600300800-1600646399@cronachedibirra.it
SUMMARY:Microbo Beer Festival 2020
DESCRIPTION:Formula forzatamente rinnovata per l’edizione 2020 di Microbo Beer Festival in programma da giovedì 17 a domenica 20 settembre: l’iniziativa si terrà infatti all’interno de Il Punto di Bologna e non vedrà la presenza degli stand per i birrifici\, bensì una rotazione costante alla spina di oltre 50 birre da 42 produttori italiani durante i quattro giorni dell’evento. I contenuti saranno arricchiti da laboratori di primissimo livello condotti da Kuaska\, Simonmattia Riva\, Alessandra Agrestini e Riccardo Grana Castagnetti. Altri due laboratori si svolgeranno presso il vicino Blue Hush Bistrot. La prenotazione è obbligatoria sia per l’ingresso che per partecipare ai seminari. Maggiori informazioni sono disponibili sulla pagina Facebook di Microbo.
URL:https://cronachedibirra.it/evento/microbo-beer-festival-2020/
LOCATION:Il Punto\, Via San Rocco 1/g\, Bologna\, BO\, 40122\, Italia
CATEGORIES:Iniziative
ATTACH;FMTTYPE=image/jpeg:https://cdn1.cronachedibirra.it/wp-content/uploads/20200904152617/microbo-2020.jpg
END:VEVENT
BEGIN:VEVENT
DTSTART;VALUE=DATE:20200919
DTEND;VALUE=DATE:20200920
DTSTAMP:20260423T102552
CREATED:20200904T135211Z
LAST-MODIFIED:20200904T135211Z
UID:28234-1600473600-1600559999@cronachedibirra.it
SUMMARY:Argo Party 2020
DESCRIPTION:Nel 2020 il Birrificio Argo compie sette anni\, un traguardo che festeggerà sabato 19 settembre con un evento organizzato presso la sede produttiva di Lemignano di Collecchio (PR). Oltre ad assaggiare in un’unica occasione tante birre di Argo (compresa l’inedita Birra del Compleanno 2020)\, l’iniziativa permetterà di conoscere da vicino la nuova identità visiva dell’azienda sviluppata da ByVolume. Ma il programma prevede anche un angolo food con American BBQ e piatti vegetariani\, un laboratorio su birra e vino\, dj set e musica dal vivo. Quest’anno non saranno possibili tour all’impianto di produzione: una scelta che rientra in ossequio all’applicazione delle norme anti Covid-19. Ulteriori informazioni sono disponibili sulla pagina Facebook dell’evento.
URL:https://cronachedibirra.it/evento/argo-party-2020/
LOCATION:Birrificio Argo\, Via G. Di Vittorio 78\, Lemignano\, PR\, 43044\, Italia
CATEGORIES:Iniziative
ATTACH;FMTTYPE=image/png:https://cdn1.cronachedibirra.it/wp-content/uploads/20200904155103/argo-7.png
END:VEVENT
BEGIN:VEVENT
DTSTART;VALUE=DATE:20200919
DTEND;VALUE=DATE:20200920
DTSTAMP:20260423T102552
CREATED:20200918T132149Z
LAST-MODIFIED:20200918T132149Z
UID:28368-1600473600-1600559999@cronachedibirra.it
SUMMARY:Pork'n'Roll Day
DESCRIPTION:Da qualche anno il Pork’n’Roll di Roma era abituato a festeggiare il suo compleanno con una grande festa “bucolica” presso la Tenuta La Mistica. Questa volta i programmi sono cambiati per cause di forza maggiore facilmente immaginabili\, quindi l’evento è stato ripensato come un’intera giornata da passare presso il locale capitolino con amici e tanti contenuti. Il Pork’n’Roll Day si terrà domani\, sabato 19 settembre\, dipanandosi lungo un programma molto fitto e puntellato da importanti collaborazioni\, tra cui quelle con Le Lavain\, Mazzo\, Charlotte\, Elettroforno Frontoni e Whisky Italy. Nel mezzo ci sarà l’apertura di una botte di Porkeller e un menu speciale con piatti e fritti della cucina. Per tutti i dettagli vi rimando alla pagina Facebook del Pork’n’Roll Day.
URL:https://cronachedibirra.it/evento/porknroll-day/
LOCATION:Pork’n’Roll\, Via Carlo Caneva\, 15\, Roma\, RM\, 00159\, Italia
CATEGORIES:Iniziative
ATTACH;FMTTYPE=image/jpeg:https://cdn1.cronachedibirra.it/wp-content/uploads/20200918151946/pork-roll-day.jpg
END:VEVENT
BEGIN:VEVENT
DTSTART;VALUE=DATE:20200919
DTEND;VALUE=DATE:20200921
DTSTAMP:20260423T102552
CREATED:20200904T140315Z
LAST-MODIFIED:20200904T140315Z
UID:28238-1600473600-1600646399@cronachedibirra.it
SUMMARY:Birre Vive sul Naviglio 2020
DESCRIPTION:Si terrà sabato 19 e domenica 20 settembre l’edizione 2020 di Birre Vive sul Naviglio\, in programma presso il Lungo Naviglio di Gaggiano (MI). I birrifici presenti saranno 50&50\, Due Tocchi\, Foolminati\, Birrificio della Granda e Barba d’Oro\, oltre alle selezioni di Beerinba (birrifici esteri) e Big Hop (Bibibir e St. Bernard). Tra i contenuti previsti dal programma troverete una selezione di sakè\, tanto cibo da strada e motoraduno. Chiaramente l’evento si svolgerà nel rispetto delle limitazioni imposte dall’emergenza sanitaria. Se volete saperne di più potete consultare la pagina Facebook del festival.
URL:https://cronachedibirra.it/evento/birre-vive-sul-naviglio-2020/
LOCATION:Lungo Naviglio – Gaggiano\, Via Beno De Gozzadini\, Gaggiano\, MI\, 20083\, Italia
CATEGORIES:Manifestazioni
ATTACH;FMTTYPE=image/jpeg:https://cdn1.cronachedibirra.it/wp-content/uploads/20200904160255/birre-vive-naviglio-2020.jpg
END:VEVENT
BEGIN:VEVENT
DTSTART;VALUE=DATE:20200926
DTEND;VALUE=DATE:20200927
DTSTAMP:20260423T102552
CREATED:20200918T133601Z
LAST-MODIFIED:20200918T133601Z
UID:28371-1601078400-1601164799@cronachedibirra.it
SUMMARY:Zwanze Day 2020
DESCRIPTION:Anche in questo insolito 2020 si terrà lo Zwanze Day\, l’evento internazionale ideato dal birrificio Cantillon per la presentazione della sua Zwanze\, una birra speciale disponibile sabato 26 settembre in pochi posti selezionati in tutto il mondo. Dieci saranno quelli italiani: Ma che siete venuti a fa’ (Roma)\, Abbazia di Sherwood (Caprino Bergamasco\, BG)\, Lambiczoon (Milano)\, The Drunken Duck (Quinto Vicentino\, VI)\, Malto Gradimento (Reggio Calabria)\, Ottavonano (Atripalda\, AV)\, Birre & Mondo Crudele (Crema\, CR)\, Storie di Pinte (San Lazzaro\, BO)\, Mosaik (Catania) e Diorama (Firenze) – dopo gli Stati Uniti il nostro paese è quello conlo più locali selezionati. La Zwanze di quest’anno sarà un Lambic alla barbabietola\, che il birrificio intende come un ritorno alle proprie origini. Per maggiori informazioni vi conviene dare un’occhiata alla pagina Facebook di Cantillon e a quelle dei relativi locali.
URL:https://cronachedibirra.it/evento/zwanze-day-2020/
LOCATION:Italia\, Italia
CATEGORIES:Iniziative
ATTACH;FMTTYPE=image/jpeg:https://cdn1.cronachedibirra.it/wp-content/uploads/20200918153534/cantillon-zwanze-2020.jpg
END:VEVENT
END:VCALENDAR