BEGIN:VCALENDAR
VERSION:2.0
PRODID:-//Cronache di Birra - ECPv6.15.20//NONSGML v1.0//EN
CALSCALE:GREGORIAN
METHOD:PUBLISH
X-WR-CALNAME:Cronache di Birra
X-ORIGINAL-URL:https://cronachedibirra.it
X-WR-CALDESC:Eventi per Cronache di Birra
REFRESH-INTERVAL;VALUE=DURATION:PT1H
X-Robots-Tag:noindex
X-PUBLISHED-TTL:PT1H
BEGIN:VTIMEZONE
TZID:Europe/Rome
BEGIN:DAYLIGHT
TZOFFSETFROM:+0100
TZOFFSETTO:+0200
TZNAME:CEST
DTSTART:20180325T010000
END:DAYLIGHT
BEGIN:STANDARD
TZOFFSETFROM:+0200
TZOFFSETTO:+0100
TZNAME:CET
DTSTART:20181028T010000
END:STANDARD
BEGIN:DAYLIGHT
TZOFFSETFROM:+0100
TZOFFSETTO:+0200
TZNAME:CEST
DTSTART:20190331T010000
END:DAYLIGHT
BEGIN:STANDARD
TZOFFSETFROM:+0200
TZOFFSETTO:+0100
TZNAME:CET
DTSTART:20191027T010000
END:STANDARD
BEGIN:DAYLIGHT
TZOFFSETFROM:+0100
TZOFFSETTO:+0200
TZNAME:CEST
DTSTART:20200329T010000
END:DAYLIGHT
BEGIN:STANDARD
TZOFFSETFROM:+0200
TZOFFSETTO:+0100
TZNAME:CET
DTSTART:20201025T010000
END:STANDARD
END:VTIMEZONE
BEGIN:VEVENT
DTSTART;VALUE=DATE:20191101
DTEND;VALUE=DATE:20191111
DTSTAMP:20260424T025004
CREATED:20191018T131212Z
LAST-MODIFIED:20191018T131212Z
UID:25391-1572566400-1573430399@cronachedibirra.it
SUMMARY:Pordenone Beer Show 2019
DESCRIPTION:Si terrà per due fine settimana consecutivi\, da venerdì 1 a domenica 3 novembre e poi ancora da venerdì 8 a domenica 10 novembre\, l’edizione 2019 del Pordenone Beer Show\, anche conosciuto con il nome storico di Fiera della Birra Artigianale. Negli spazi della Fiera di Pordenone troverete birrifici italiani e stranieri\, divisi nei due weekend: il primo vedrà la partcipazione di Kamenice\, Coronado\, Furst Carl\, Caulier\, Chianti Brew Fighters\, B2O\, Sothis\, Agro\, Meraki\, Birra dell’Eremo\, Barbanera\, Bionoc\, Menaresta\, L’Inconsueto e Birrificio Trevigiano; nel secondo troverete invece 620 Passi\, Birra del Console\, Agro\, San Biagio\, Exit\, Birrificio degli Ostuni\, Naon\, Darf\, Malastrana\, Collesi\, La Birra di Meni e Vocation. L’elenco comunque non è definitivo e altri nomi dovrebbero aggiungersi nei prossimi giorni. Il programma prevede degustazioni guidate\, radio broadcast\, musica dal vivo\, area bambini e spettacoli d’intrattenimento. Infine ampio spazio al cibo con diversi espositori e tante specialità differenti. Per aggiornamenti e altre informazioni potete dare un’occhiata al sito del Pordenone Beer Show.
URL:https://cronachedibirra.it/evento/pordenone-beer-show-2019/
LOCATION:Fiera di Pordenone\, Viale Treviso 1\, Pordenone\, PN\, 33170\, Italia
CATEGORIES:Manifestazioni
ATTACH;FMTTYPE=image/jpeg:https://cdn1.cronachedibirra.it/wp-content/uploads/20200203100129/pordenone-beer-show-1.jpg
END:VEVENT
BEGIN:VEVENT
DTSTART;VALUE=DATE:20191109
DTEND;VALUE=DATE:20191110
DTSTAMP:20260424T025004
CREATED:20191025T142201Z
LAST-MODIFIED:20191025T142201Z
UID:25471-1573257600-1573343999@cronachedibirra.it
SUMMARY:6° compleanno del Lambiczoon
DESCRIPTION:Il Lambiczoon è un locale che ha sicuramente cambiato il peso birrario di Milano negli ultimi anni e sabato 9 novembre festeggerà il suo sesto anniversario. Dalle 12\,30 fino a notte fonda si potrà brindare con una super selezione di birre e accompagnare le bevute con un menu speciale. Tra i prodotti disponibili ci saranno quelli di Jester King\, De Garde\, Two Metre Tall\, Sante Adairius\, Cantillon\, Bokke e tanti altri. Per l’occasione la cucina sfornerà degli street food pack in aggiunta all’ottima cucina di sempre. Per ulteriori informazioni potete consultare la pagina Facebook dell’evento.
URL:https://cronachedibirra.it/evento/6-compleanno-del-lambiczoon/
LOCATION:Lambiczoon\, Via Friuli 46\, Milano\, MI\, Italia
CATEGORIES:Iniziative
ATTACH;FMTTYPE=image/jpeg:https://cdn1.cronachedibirra.it/wp-content/uploads/20200203100121/lambiczoon-1.jpg
END:VEVENT
BEGIN:VEVENT
DTSTART;VALUE=DATE:20191109
DTEND;VALUE=DATE:20191110
DTSTAMP:20260424T025004
CREATED:20191108T141952Z
LAST-MODIFIED:20191108T141952Z
UID:25627-1573257600-1573343999@cronachedibirra.it
SUMMARY:Brewing a New Sicily 2019
DESCRIPTION:La scena brassicola siciliana è in grande fermento\, dunque vale la pena tenere d’occhio la quinta edizione di Brewing a New Sicily\, l’iniziativa del Mosaik di Catania incentrata sulle birre e i birrai della regione. L’evento si terrà nell’intera giornata di sabato 9 novembre e si aprirà alle 16 con un laboratorio di degustazione che vedrà protagonisti quattro birrifici siciliani. Poi dalle 21 comincerà la serata con i birrai\, accompagnata da birre prodotte esclusivamente in Sicilia\, tutte disponibili alla spina. I produttori presenti saranno Birra Tarì\, Alveria\, Malarazza\, Birra Epica\, Compagnia del Fermento\, Ballarak\, Birra 56\, Rock Brewery\, Yblon e Ingargiola. Per maggiori informazioni potete consultare la pagina Facebook dell’evento.
URL:https://cronachedibirra.it/evento/brewing-a-new-sicily-2019/
LOCATION:Mosaik\, Via Musumeci 60\, Catani\, CT\, 95131\, Italia
CATEGORIES:Iniziative
ATTACH;FMTTYPE=image/jpeg:https://cdn1.cronachedibirra.it/wp-content/uploads/20200203100058/brewing-sicily.jpg
END:VEVENT
BEGIN:VEVENT
DTSTART;VALUE=DATE:20191122
DTEND;VALUE=DATE:20191125
DTSTAMP:20260424T025004
CREATED:20191108T135112Z
LAST-MODIFIED:20191108T135112Z
UID:25617-1574380800-1574639999@cronachedibirra.it
SUMMARY:BeerCatania 2019
DESCRIPTION:Si terrà da venerdì 22 a domenica 24 novembre la nona edizione di BeerCatania\, festival ormai consolidato in programma presso l’Ex Mercato Ortofrutticolo di Catania. I birrifici presenti saranno Eastside\, La Compagnia del Fermento\, Birra Epica\, Chinaschi\, ‘A Magara\, Birrificio dell’Etna\, 24 Baroni\, Baladin\, Mongibello\, Piccolo Birrificio Clandestino\, Birra Tarì\, Birrificio Pontino e Bruno Ribadi. Il programma laboratori e approfondimenti a cura di Unionbirrai\, musica\, area bambini e un’ampia scelta di cibo con panini\, hamburger\, piatti di pesce e altro ancora. Per aggiornamenti e maggiori informazioni potete consultare il sito di BeerCatania.
URL:https://cronachedibirra.it/evento/beercatania-2019/
LOCATION:Ex Mercato Ortofrutticolo\, Via Forcile\, Catania\, CT\, 95121\, Italia
CATEGORIES:Manifestazioni
ATTACH;FMTTYPE=image/jpeg:https://cdn1.cronachedibirra.it/wp-content/uploads/20200203100059/beercatania-2-1.jpg
END:VEVENT
BEGIN:VEVENT
DTSTART;VALUE=DATE:20191122
DTEND;VALUE=DATE:20191125
DTSTAMP:20260424T025004
CREATED:20191108T140301Z
LAST-MODIFIED:20191108T140301Z
UID:25621-1574380800-1574639999@cronachedibirra.it
SUMMARY:BeerQuake Winter Edition 2019
DESCRIPTION:Seconda edizione invernale per BeerQuake\, manifestazione a sfondo benefico che fece la sua prima apparizione nel 2013 per sostenere i luoghi colpiti dal terremoto dell’Emilia l’anno precedente. Da venerdì 22 a domenica 24 novembre\, presso il Circolo Polivalente di Castelnuovo Rangone (MO)\, troverete a rotazione un centinaio di birre artigianali provenienti da birrifici italiani e del resto del mondo. La parte gastronomica proporrà specialità di American BBQ\, chili con carne\, patate al cartoccio\, zuppe e piatti in stile tedesco. Per aggiornamenti a maggiori informazioni vi consiglio di dare un’occhiata alla pagina Facebook di BeerQuake\, dove tra l’altro sono riportate tutte le donazioni effettuate sin dalla prima edizione del 2013. Partecipate se potete\, è un’iniziativa che merita supporto.
URL:https://cronachedibirra.it/evento/beerquake-winter-edition-2019/
LOCATION:Circolo Polivalente di Castelnuovo Rangone
CATEGORIES:Manifestazioni
ATTACH;FMTTYPE=image/jpeg:https://cdn1.cronachedibirra.it/wp-content/uploads/20200203100059/beerquake-1.jpg
END:VEVENT
BEGIN:VEVENT
DTSTART;VALUE=DATE:20191122
DTEND;VALUE=DATE:20191125
DTSTAMP:20260424T025004
CREATED:20191108T143604Z
LAST-MODIFIED:20191108T143604Z
UID:25626-1574380800-1574639999@cronachedibirra.it
SUMMARY:Gourmet Food Festival 2019
DESCRIPTION:Si terrà da venerdì 22 a domenica 24 novembre la manifestazione Gourmet Food Festival\, in programma presso Lingotto Fiere a Torino. È chiaramente un’iniziativa enogastronomica a trecentosessanta gradi\, ma la birra artigianale avrà il suo spazio grazie alla partnership con My Personal Beer Corner. Il Beer Corner proporrà una selezione di prodotti provenienti dai birrifici Baladin\, Trunasse\, Kauss\, Birra Carrù\, San Michele\, Filodilana\, La Piazza\, Soralama\, Aleghe\, Cronce di Malto\, Diciottozerouno\, Sagrin\, San Gimignano\, 4 Mori. Inoltre ci sarà un angolo a cura de Il Punto di Bologna e si terranno laboratori di degustazione\, incontri tematici\, show cooking. Per tutti i dettagli potete consultare il sito di My Personal Beer Corner.
URL:https://cronachedibirra.it/evento/gourmet-food-festival-2019/
LOCATION:Lingotto Fiere
CATEGORIES:Manifestazioni
ATTACH;FMTTYPE=image/jpeg:https://cdn1.cronachedibirra.it/wp-content/uploads/20200203100058/gourmet-food.jpg
END:VEVENT
BEGIN:VEVENT
DTSTART;VALUE=DATE:20191123
DTEND;VALUE=DATE:20191125
DTSTAMP:20260424T025004
CREATED:20191108T134408Z
LAST-MODIFIED:20191108T134408Z
UID:25616-1574467200-1574639999@cronachedibirra.it
SUMMARY:Caution Barrication Festival 2019
DESCRIPTION:Dopo il debutto dello scorso anno torna l’appuntamento con il Caution Barrication Festival\, l’evento del Birrificio Menaresta dedicato alle birre acide e affinate in legno che si terrà sabato 23 e domenica 24 novembre presso il Distretto del Gusto Ex Formenti di Carate Brianza (MB) . I birrifici presenti saranno BFM\, Cantillon\, Orso Verde\, Rurale e tanti altri che verranno svelati di giorno in giorno sulla pagina Facebook della manifestazione. Ovviamente non mancheranno le birre a tema di Menaresta. Il programma prevede la presentazione della Sidreria Formenti\, visite al birrificio\, musica dal vivo e uno spazio food con diversi espositori. Se siete amanti del genere\, non lasciatevi scappare questo festival.
URL:https://cronachedibirra.it/evento/caution-barrication-festival-2019/
LOCATION:Distretto del Gusto Ex Formenti\, Piazza Risorgimento 1\, Carate Brianza\, MB\, Italia
CATEGORIES:Manifestazioni
ATTACH;FMTTYPE=image/jpeg:https://cdn1.cronachedibirra.it/wp-content/uploads/20200203100104/caution.jpg
END:VEVENT
BEGIN:VEVENT
DTSTART;VALUE=DATE:20191129
DTEND;VALUE=DATE:20191130
DTSTAMP:20260424T025004
CREATED:20191129T151639Z
LAST-MODIFIED:20191129T151639Z
UID:25834-1574985600-1575071999@cronachedibirra.it
SUMMARY:The Publicans
DESCRIPTION:Si terrà questa sera presso Edit a Torino l’evento The Publicans\, che come il nome suggerisce è dedicato a una figura fondamentale all’interno della filiera brassicola\, quella cioè di chi è dietro al bancone e si occupa del servizio. Otto saranno i publican protagonisti\, provenienti da tutta Italia: Nicolò Musso (Open Baladin)\, Fulvio Cappellaro (Dogana)\, Enrico Rivolta (Lambic)\, Mirko Caretta (Buskers)\, Gabriele Triossi (Harvest)\, Sara Taglieri (Storiedipinte)\, Giorgio Orlando (Beer Counter)\, Simone Castiglione (Barley House). Ognuno di loro porterà “in dote” due birre che spilleranno personalmente\, mentre non mancherà una cena di abbinamento birra – cibo e un percorso degustativo di birre da meditazione. Non mancherà la musica dal vivo. Maggiori informazioni sono disponibili su Eventbrite.
URL:https://cronachedibirra.it/evento/the-publicans/
LOCATION:Edit\, Piazza Teresa Noce\, 15/A\, Torino\, TO\, 10155\, Italia
CATEGORIES:Degustazioni
ATTACH;FMTTYPE=image/jpeg:https://cdn1.cronachedibirra.it/wp-content/uploads/20200203100045/publicans.jpg
END:VEVENT
BEGIN:VEVENT
DTSTART;VALUE=DATE:20191129
DTEND;VALUE=DATE:20191202
DTSTAMP:20260424T025004
CREATED:20191129T143948Z
LAST-MODIFIED:20191129T143948Z
UID:25819-1574985600-1575244799@cronachedibirra.it
SUMMARY:Monreale Beer Festival
DESCRIPTION:Comincia oggi e proseguirà fino a domenica 1 dicembre la manifestazione Monreale Beer Festival\, che si terrà in Corso Pietro Novelli a Monreale (PA). Saranno presenti sette tra birrifici e beer firm: Birra Strammussa\, Birra dei Vespri\, Kottabos\, San Biagio\, Birrificio Ingargiola\, Chinaschi e Kimiya. Grande attenzione è riposta all’offerta gastronomica\, con diversi operatori della zona. Il programma prevede anche musica dal vivo e dj set. Per maggiori informazioni potete fare riferimento alla pagina Facebook dell’iniziativa.
URL:https://cronachedibirra.it/evento/monreale-beer-festival/
LOCATION:Corso Pietro Novelli – Monreale\, Corso Pietro Novelli\, Monreale\, PA\, Italia
CATEGORIES:Manifestazioni
ATTACH;FMTTYPE=image/jpeg:https://cdn1.cronachedibirra.it/wp-content/uploads/20200203100045/monreale.jpg
END:VEVENT
END:VCALENDAR