BEGIN:VCALENDAR
VERSION:2.0
PRODID:-//Cronache di Birra - ECPv6.15.20//NONSGML v1.0//EN
CALSCALE:GREGORIAN
METHOD:PUBLISH
X-ORIGINAL-URL:https://cronachedibirra.it
X-WR-CALDESC:Eventi per Cronache di Birra
REFRESH-INTERVAL;VALUE=DURATION:PT1H
X-Robots-Tag:noindex
X-PUBLISHED-TTL:PT1H
BEGIN:VTIMEZONE
TZID:Europe/Rome
BEGIN:DAYLIGHT
TZOFFSETFROM:+0100
TZOFFSETTO:+0200
TZNAME:CEST
DTSTART:20180325T010000
END:DAYLIGHT
BEGIN:STANDARD
TZOFFSETFROM:+0200
TZOFFSETTO:+0100
TZNAME:CET
DTSTART:20181028T010000
END:STANDARD
BEGIN:DAYLIGHT
TZOFFSETFROM:+0100
TZOFFSETTO:+0200
TZNAME:CEST
DTSTART:20190331T010000
END:DAYLIGHT
BEGIN:STANDARD
TZOFFSETFROM:+0200
TZOFFSETTO:+0100
TZNAME:CET
DTSTART:20191027T010000
END:STANDARD
BEGIN:DAYLIGHT
TZOFFSETFROM:+0100
TZOFFSETTO:+0200
TZNAME:CEST
DTSTART:20200329T010000
END:DAYLIGHT
BEGIN:STANDARD
TZOFFSETFROM:+0200
TZOFFSETTO:+0100
TZNAME:CET
DTSTART:20201025T010000
END:STANDARD
END:VTIMEZONE
BEGIN:VEVENT
DTSTART;VALUE=DATE:20191004
DTEND;VALUE=DATE:20191007
DTSTAMP:20260424T052026
CREATED:20190927T095713Z
LAST-MODIFIED:20190927T110710Z
UID:25185-1570147200-1570406399@cronachedibirra.it
SUMMARY:Eurhop Beer Festival 2019
DESCRIPTION:Ormai manca pochissimo: da venerdì 4 a domenica 6 ottobre tornerà l’appuntamento con Eurhop\, il grande festival internazionale che ancora una volta sarà ospitato nei suggestivi spazi del Salone delle Fontane di Roma (zona Eur). Come sempre la lista dei birrifici presenti è sconfinata\, con alcune chicche provenienti dall’estero: AF Brew\, Almond ’22\, Altavia\, Alveria\, Argo\, Babylon\, Baladin\, Batzen Brau\, Beerhere\, Bellazzi\, Bibibir\, Bierol\, Bionoc’\, Birra Perugia\, Birranova\, Birrificio di Cagliari\, Birrificio Italiano\, Bonavena\, Brasseria della Fonte\, Brewers Bar\, Brewfist\, Brewski\, Broaden & Build\, Bruton\, Busa dei Briganti\, Ca’ del Brado\, Canediguerra\, Cantillon\, Casita\, Letra\, PBC\, Crak\, Croce di Malto\, De Dolle\, Demoersleutel\, Birrificio del Doge\, Dry & Bitter\, Eastside\, Eik & Tid\, Elvo\, Equilibrium\, Extraomnes\, Birra Busalla\, Filodilana\, Finback\, Foglie d’Erba\, Fraugruber\, Frontaal\, Garage Beer\, Hammer\, Hilltop\, Il Mastio\, Jungle Juice\, La Buttiga\, Lambrate\, Lariano\, Leder\, Lervig\, Loverbeer\, Maestri del Sannio\, Mastino\, MC77\, Moor\, Mukkeller\, Muttnik\, Narke\, Neon Raptor\, Nix\, O/O\, Opperbacco\, Orca Brau\, Other Half\, Oxbow\, Oxiana\, P3\, Penyllan\, Perfect Drop\, Pohjala\, Pontino\, Popihn\, Porta Bruciata\, Rebel’s\, Rethia\, Retorto\, Ritual Lab\, Rurale\, Sabino\, Slowburn\, Stigbergets\, Strassenbrau\, Terre di Faul\, To Ol\, Uiltje\, Vento Forte\, Vetra\, Voodoo\, War\, Yblon. Il programma prevede un pre-festival giovedì 3 presso il Ma che siete venuti a fà e il “fuorisalone” Eurhoff. Inoltre come sempre sarà disponibile una vasta scelta di street food. Per maggiori informazioni potete consultare il sito di Eurhop.
URL:https://cronachedibirra.it/evento/eurhop-beer-festival-2019/
LOCATION:BZ
CATEGORIES:Manifestazioni
ATTACH;FMTTYPE=image/jpeg:https://cdn1.cronachedibirra.it/wp-content/uploads/20200203100141/eurhop-3.jpg
END:VEVENT
BEGIN:VEVENT
DTSTART;VALUE=DATE:20191004
DTEND;VALUE=DATE:20191007
DTSTAMP:20260424T052026
CREATED:20190927T102222Z
LAST-MODIFIED:20190927T102222Z
UID:25191-1570147200-1570406399@cronachedibirra.it
SUMMARY:Chiarescure Festival 2019
DESCRIPTION:Giunge alla sua terza edizione Chiarescure Festival\, manifestazione che si terrà da venerdì 4 a domenica 6 ottobre presso Mare Culturale Urbano a Milano. Confermata la formula\, che si basa su un’organizzazione dell’offerta rivolta al grande pubblico. I birrifici coinvolti sono Baladin\, Birrificio Italiano\, Lariano\, Rurale\, Brewfist\, Dulac\, Eastside\, The Wall\, 50&50\, Beer In\, Croce di Malto\, Hammer\, Picobrew\, Bellazzi\, Mastino e Foglie d’Erba. Il programma prevede un’ampia selezione gastronomica con pizze\, hamburger\, cuoppi e altre specialità\, musica dal vivo\, workshop e altro ancora. Maggiori informazioni sono disponibili sulla pagina Facebook di Chiarescure.
URL:https://cronachedibirra.it/evento/chiarescure-festival-2019/
LOCATION:Mare culturale urbano\, Via G. Gabetti 15\, Milano\, MI\, Italia
CATEGORIES:Manifestazioni
ATTACH;FMTTYPE=image/png:https://cdn1.cronachedibirra.it/wp-content/uploads/20200203100141/chiarescure.png
END:VEVENT
BEGIN:VEVENT
DTSTART;VALUE=DATE:20191004
DTEND;VALUE=DATE:20191007
DTSTAMP:20260424T052026
CREATED:20191004T133329Z
LAST-MODIFIED:20191004T133329Z
UID:25280-1570147200-1570406399@cronachedibirra.it
SUMMARY:Parma Retail Craft Beer Fest
DESCRIPTION:Comincia oggi e proseguirà fino a domenica 6 ottobre la manifestazione Parma Retail Craft Beer Fest\, in programma presso il centro commerciale Parma Retail. I birrifici presenti saranno Birrificio della Granda\, Birrificio Gregorio\, Croce di Malto\, Foolminati\, Collesi\, A Tutto Malto\, Penna Nera\, Noiz\, Il Confine\, Protivin e B20. Il programma prevede convegni\, degustazioni\, area giochi per bambini\, collezionismo birrario\, autoraduno\, musica live e menu a tema da parte dei ristoranti del centro commerciale. Ulteriori informazioni sono consultabili sul sito di Beerinba.
URL:https://cronachedibirra.it/evento/parma-retail-craft-beer-fest/
LOCATION:Parma Retail\, Strada Burla – S.P. 72\, Parma\, PR\, 43122\, Italia
CATEGORIES:Manifestazioni
ATTACH;FMTTYPE=image/jpeg:https://cdn1.cronachedibirra.it/wp-content/uploads/20200203100133/parma-retail.jpg
END:VEVENT
BEGIN:VEVENT
DTSTART;VALUE=DATE:20191004
DTEND;VALUE=DATE:20191007
DTSTAMP:20260424T052026
CREATED:20191004T135318Z
LAST-MODIFIED:20191004T135318Z
UID:25284-1570147200-1570406399@cronachedibirra.it
SUMMARY:Beeriver 2019
DESCRIPTION:Giunge alla sua ottava edizione il festival Beeriver\, come sempre ospitato negli spazi della Stazione Leopolda di Pisa e in partenza oggi fino a domenica 6 ottobre. I birrifici presenti saranno Busalla\, Birra dell’Eremo\, 26 Nero\, Hop Skin\, Kamun\, Birrificio del Forte\, Via Priula\, Birrone\, La Gilda dei Nani Birrai\, J63 e Mediceo Brewpub. Il programma prevede degustazioni guidate\, angolo per i più piccoli\, giochi e intrattenimento\, musica dal vivo e altro ancora. Ampio spazio sarà dedicato al cibo\, con diversi espositori di street food (piatti locali\, hamburger\, cucina vegana\, bbq\, ecc.). Per saperne di più vi basta dare un’occhiata al sito di Beeriver.
URL:https://cronachedibirra.it/evento/beeriver-2019-2/
LOCATION:Stazione Leopolda Pisa\, Piazza Guerrazzi\, Pisa\, PI\, Italia
CATEGORIES:Manifestazioni
END:VEVENT
BEGIN:VEVENT
DTSTART;VALUE=DATE:20191006
DTEND;VALUE=DATE:20191007
DTSTAMP:20260424T052026
CREATED:20190920T133517Z
LAST-MODIFIED:20190927T100928Z
UID:25122-1570320000-1570406399@cronachedibirra.it
SUMMARY:Birra Madama Beerday Party 5 anni
DESCRIPTION:Andrà in scena domenica 6 ottobre nella stupenda Piazza Madama di Torino l’evento per il compleanno di Birra Madama. Al Birra Madama Beerday Party saranno presenti 20 birre alla spina a rotazione\, di cui 6 della casa e 14 ospiti\, con nomi di primissimo piano come Edit\, La Piazza\, Trunasse\, Baladin\, Lambrate\, Loverbeer\, Mister B\, ecc. L’iniziativa sarà anche l’occasione per presentare i tanti progetti di Birra Madama\, come la coltivazione del luppolo all’interno della Casa Circondariale Lorusso e Cotugno e le diverse collaborazioni in atto. Tra i vari appuntamenti collaterali anche la cena con i birrai. Per saperne di più potete consultare la pagina Facebook dell’evento.
URL:https://cronachedibirra.it/evento/birra-madama-beerday-party-5-anni/
LOCATION:San Salvario Emporium\, Piazza della Madama\, Torino\, TO\, Italia
CATEGORIES:Iniziative
ATTACH;FMTTYPE=image/jpeg:https://cdn1.cronachedibirra.it/wp-content/uploads/20200203100148/ESEC-compleanno-2019-1.jpg
END:VEVENT
BEGIN:VEVENT
DTSTART;VALUE=DATE:20191010
DTEND;VALUE=DATE:20191014
DTSTAMP:20260424T052026
CREATED:20191011T132656Z
LAST-MODIFIED:20191011T132656Z
UID:25333-1570665600-1571011199@cronachedibirra.it
SUMMARY:Lombardia Beer Fest 2019
DESCRIPTION:È cominciata ieri e proseguirà fino a domenica 13 ottobre la nuova edizione del Lombardia Beer Fest\, come sempre ospitato in Piazza Città di Lombardia a Milano. I birrifici partecipanti sono Lambrate\, Agricola80\, The Brave\, La Ribalta\, Stradaregina\, Croce di Malto\, Birra Perugia\, Esubeerante\, La Cruda\, Oltremondo\, Wackybrew\, I Colori del Gusto e Maiot. Confermata la presenza di diversi food truck\, così come diversi workshop a tema. Non mancherà il concorso popolare per incoronare le migliori birre del festival\, oltre a tanta musica dal vivo. Maggiori dettagli e aggiornamenti sono disponibili sulla pagina Facebook del festival.
URL:https://cronachedibirra.it/evento/lombardia-beer-fest-2019-2/
LOCATION:Piazza Città di Lombardia\, Piazza Città di Lombardia\, Milano\, MI\, 20124\, Italia
CATEGORIES:Manifestazioni
ATTACH;FMTTYPE=image/jpeg:https://cdn1.cronachedibirra.it/wp-content/uploads/20200203094723/lombardia.jpg
END:VEVENT
BEGIN:VEVENT
DTSTART;VALUE=DATE:20191011
DTEND;VALUE=DATE:20191013
DTSTAMP:20260424T052026
CREATED:20191004T132344Z
LAST-MODIFIED:20191004T132344Z
UID:25277-1570752000-1570924799@cronachedibirra.it
SUMMARY:Birre dal Basso 2019
DESCRIPTION:Quarta edizione per Birre dal Basso\, festival che si terrà venerdì 11 e sabato 12 ottobre presso il centro sociale Acrobax di Roma. I birrifici presenti saranno Alba\, Luppolajo\, Math\, Azadi\, Malatesta\, La Taverna del Vara\, Acrobax\, Ma’am\, Babilhop e I vizi del luppolo. Il programma prevede workshop a tema\, spettacoli dal vivo\, degustazioni\, street food\, musica dal vivo e dj set. Per maggiori informazioni potete consultare la pagina Facebook di Birre dal Basso.
URL:https://cronachedibirra.it/evento/birre-dal-basso-2019/
LOCATION:Acrobax\, Via della Vasca Navale\, 6\, Roma\, RM\, 00146\, Italy
CATEGORIES:Manifestazioni
ATTACH;FMTTYPE=image/jpeg:https://cdn1.cronachedibirra.it/wp-content/uploads/20200203100133/birra-basso.jpg
END:VEVENT
BEGIN:VEVENT
DTSTART;VALUE=DATE:20191011
DTEND;VALUE=DATE:20191014
DTSTAMP:20260424T052026
CREATED:20190927T105544Z
LAST-MODIFIED:20190927T105544Z
UID:25198-1570752000-1571011199@cronachedibirra.it
SUMMARY:Nonsolobirra Festival 2019
DESCRIPTION:Torna per la nona volta il Nonsolobirra Festival\, evento ormai consolidato che si terrà da venerdì 11 a domenica 13 ottobre presso la zona impianti sportivi di Marano Vicentino (VI). I birrifici artigianali partecipanti saranno Birrone\, Jeb\, F.lli. Trami\, Rattabrew\, Barbaforte\, Ofelia\, Lucky Brews\, Birrificio Estense\, Argo e La Villana\, oltre a Zhare\, Fiemme\, Evoque\, Leder\, Montegioco (rappresentati da Diexe Distribuzione) e Maltus Faber (rappresentato da Birralife). Il programma prevede laboratori di degustazione\, workshop\, cotta pubblica\, concorso birrario\, area gastronomica e altro ancora. Per saperne di più potete dare un’occhiata all’evento su Facebook.
URL:https://cronachedibirra.it/evento/nonsolobirra-festival-2019/
LOCATION:Zona impianti sportivi – Marano Vicentino\, Viale Europa\, Marano Vicentino\, VC
CATEGORIES:Manifestazioni
ATTACH;FMTTYPE=image/jpeg:https://cdn1.cronachedibirra.it/wp-content/uploads/20200203100140/nonsolobirra-3.jpg
END:VEVENT
BEGIN:VEVENT
DTSTART;VALUE=DATE:20191011
DTEND;VALUE=DATE:20191014
DTSTAMP:20260424T052026
CREATED:20191004T125739Z
LAST-MODIFIED:20191004T125739Z
UID:25269-1570752000-1571011199@cronachedibirra.it
SUMMARY:Birrodromo
DESCRIPTION:Birrodromo è il nuovo festival di Firenze che raccoglie il testimone di Beer Craft Arena e che andrà in scena da venerdì 11 a domenica 13 ottobre presso il Velodromo Enzo Sacchi. Nove i birrifici partecipanti: Muttnik\, Badalà\, Canediguerra\, Bruton\, Hop Skin\, San Gimignano\, Jungle Juice\, Piccolo Birrificio Clandestino e Chianti Brew Fighters. Il programma prevede tre diverse aree tematiche con street food\, mercatino vintage\, iniziative sportive\, angolo con vini naturali\, musica live e dj set. Maggiori informazioni sono disponibili sulla pagina Facebook dell’evento.
URL:https://cronachedibirra.it/evento/birrodromo/
LOCATION:Velodromo Enzo Sacchi\, Via del Fosso Macinante 13\, Firenze\, FI\, Italia
CATEGORIES:Manifestazioni
ATTACH;FMTTYPE=image/jpeg:https://cdn1.cronachedibirra.it/wp-content/uploads/20200203100134/birrodromo.jpg
END:VEVENT
BEGIN:VEVENT
DTSTART;VALUE=DATE:20191012
DTEND;VALUE=DATE:20191013
DTSTAMP:20260424T052026
CREATED:20191011T133453Z
LAST-MODIFIED:20191011T133453Z
UID:25335-1570838400-1570924799@cronachedibirra.it
SUMMARY:Solo Latta
DESCRIPTION:Con il successo internazionale della lattina nel settore della birra artigianale si stanno moltiplicando angli gli eventi dedicati alle birre confezionate in questo contenitore. Domani sabato 12 ottobre si terrà presso il Solobirra di Monza la prima edizione di Solo Latta\, con protagoniste le produzioni di gran parte dei birrifici italiani che si sono convertiti alla lattina: Lambrate\, Rurale\, Extraomnes\, Grand St. Bernard\, Baladin\, Crak\, Bibibir\, Opperbacco\, Eastside e Mister B. Non mancheranno alcune referenze dal resto d’Europa\, prodotte da Lervig\, Amundsen\, Brew By Numbers\, Siren\, Mikkeller e Dogma. Il programma prevede anche seminari a tema che si preannunciano molto interessanti. Aggiornamenti e ulteriori informazioni sono disponibili sulla pagina Facebook di Solo Latta.
URL:https://cronachedibirra.it/evento/solo-latta/
LOCATION:Solobirra\, Via Bergamo 17\, Monza\, MB\, 20900\, Italia
CATEGORIES:Iniziative
ATTACH;FMTTYPE=image/jpeg:https://cdn1.cronachedibirra.it/wp-content/uploads/20200203100132/solo-latta.jpg
END:VEVENT
BEGIN:VEVENT
DTSTART;VALUE=DATE:20191012
DTEND;VALUE=DATE:20191014
DTSTAMP:20260424T052026
CREATED:20191011T134409Z
LAST-MODIFIED:20191011T134409Z
UID:25339-1570838400-1571011199@cronachedibirra.it
SUMMARY:Mastio 2.0
DESCRIPTION:Il birrificio Il Mastio casa sede e impianto produttivo e per l’occasione organizza due grandi giornate di festa nella nuova sede di Colmurano (MC). L’evento Mastio 2.0 si terrà sabato 12 e domenica 13 ottobre\, con un ricco programma: ci saranno visite guidate all’impianto\, laboratori di degustazione a cura di Unionbirrai\, sfide di bbq\, intrattenimento e musica dal vivo. Chiaramente protagoniste saranno le birre de Il Mastio\, mentre per accompagnare le bevute è prevista la presenza di un’ampia scelta di street food.  Per tutti i dettagli ed eventuali aggiornamenti potete seguire la pagina Facebook dell’iniziativa.
URL:https://cronachedibirra.it/evento/mastio-2-0/
LOCATION:Il Mastio\, C. da Fiastra 74\, Colmurano\, MC\, 62020\, Italia
CATEGORIES:Iniziative
ATTACH;FMTTYPE=image/jpeg:https://cdn1.cronachedibirra.it/wp-content/uploads/20200203100132/mastio-1.jpg
END:VEVENT
BEGIN:VEVENT
DTSTART;VALUE=DATE:20191018
DTEND;VALUE=DATE:20191021
DTSTAMP:20260424T052027
CREATED:20191011T130317Z
LAST-MODIFIED:20191011T130317Z
UID:25328-1571356800-1571615999@cronachedibirra.it
SUMMARY:Genova Beer Festival 2019
DESCRIPTION:Quinta edizione per il Genova Beer Festival\, manifestazione ancora relativamente giovane ma che ha saputo salire alla ribalta della scena nazionale in poco tempo. Da venerdì 18 a domenica 20 ottobre presso Villa Bombrini a Genova\, in zona Cornigliano\, troverete 17 birrifici italiani con una buona rappresentanza di produttori liguri e un paio di stranieri: Maltus Faber\, Fabbrica Birra Busalla\, Altavia\, Scarampola\, Birrificio Finalese\, Canediguerra\, Kamun\, Bi-Du\, Brewfist\,Mastino\, Foglie d’Erba\, Birra Perugia\, MC-77\, Eastside\, De La Senne e Glazen Toren. Il programma prevede una vasta selezione gastronomica con specialità liguri e straniere\, visite guidate alla villa\, area laboratori per bambini\, degustazione di birre homebrewed e interessanti workshop. Per tutti i dettagli potete consultare il sito del Genova Beer Festival.
URL:https://cronachedibirra.it/evento/genova-beer-festival-2019/
LOCATION:Villa Bombrini\, Via Muratori 5\, Genova\, GE\, Italia
CATEGORIES:Manifestazioni
ATTACH;FMTTYPE=image/jpeg:https://cdn1.cronachedibirra.it/wp-content/uploads/20200203094707/genova-beer-festival-2.jpg
END:VEVENT
BEGIN:VEVENT
DTSTART;VALUE=DATE:20191018
DTEND;VALUE=DATE:20191021
DTSTAMP:20260424T052027
CREATED:20191018T135032Z
LAST-MODIFIED:20191018T143159Z
UID:25399-1571356800-1571615999@cronachedibirra.it
SUMMARY:Bi.Ra
DESCRIPTION:Comincia oggi e proseguirà fino a domenica 20 ottobre la prima edizione di Bi.Ra\, evento in programma presso l’area di Darsena Pop Up di Ravenna. I birrifici presenti saranno Bifor\, Bizantina\, ICB\, Malti e Bassi\, Mazapegul e Amarcord. Ampia selezione di food truck per la parte gastronomica\, con hamburger\, bbq\, piatti romagnoli e street food. Il programma prevede anche menu speciali proposti dalle attività del posto\, dj set e altro ancora. Per tutti i dettagli ed eventuali aggiornamenti potete dare un’occhiata alla pagina Facebook di Bi.Ra.
URL:https://cronachedibirra.it/evento/bi-ra/
LOCATION:Darsena Pop Up\, Via dell'Almagià\, Ravenna\, RA\, 48122\, Italia
CATEGORIES:Manifestazioni
ATTACH;FMTTYPE=image/jpeg:https://cdn1.cronachedibirra.it/wp-content/uploads/20200203100128/bira-1.jpg
END:VEVENT
BEGIN:VEVENT
DTSTART;VALUE=DATE:20191018
DTEND;VALUE=DATE:20191021
DTSTAMP:20260424T052027
CREATED:20191018T142505Z
LAST-MODIFIED:20191018T142505Z
UID:25403-1571356800-1571615999@cronachedibirra.it
SUMMARY:Birra Gustando
DESCRIPTION:Comincia oggi e proseguirà fino a domenica 20 ottobre la manifestazione Birra Gustando\, in programma a Castelferretti\, frazione di Falconara Marittima (AN). Saranno presenti cinque birrifici della zona: Birrificio del Gomito\, Il Gobbo\, Maltenano\, Millecento e IBeer. Il programma prevede musica dal vivo e un’offerta gastronomica che verterà sulle specialità abruzzesi\, con arrosticini\, polpette\, panini e altro ancora. Per maggiori informazioni potete consultare la pagina Facebook dell’evento.
URL:https://cronachedibirra.it/evento/birra-gustando/
LOCATION:Castelferretti\, Castelferretti\, AN\, Italia
CATEGORIES:Manifestazioni
ATTACH;FMTTYPE=image/jpeg:https://cdn1.cronachedibirra.it/wp-content/uploads/20200203100128/birra-gustando.jpg
END:VEVENT
BEGIN:VEVENT
DTSTART;VALUE=DATE:20191022
DTEND;VALUE=DATE:20191029
DTSTAMP:20260424T052027
CREATED:20191018T133952Z
LAST-MODIFIED:20220908T143037Z
UID:25394-1571702400-1572307199@cronachedibirra.it
SUMMARY:Taormina Gourmet 2019
DESCRIPTION:Si terrà da martedì 22 a lunedì 28 ottobre la manifestazione Taormina Gourmet\, importante appuntamento dedicato al food & beverage organizzato ovviamente a Taormina (ME). L’edizione 2019 dedicherà ancora più spazio alla birra artigianale con un grande banco d’assaggio dove saranno presenti i prodotti dei birrifici ‘A Magara\, Ritual Lab\, Birrificio del Vulture\, Maltus Faber\, Birrificio Italiano\, The Wall\, Montegioco\, Croce di Malto\, Birrificio della Granda\, Birranova\, Rebers\, Birra Salento\, Barley\, Alveria\, Ballarak\, Birra dei Vespri\, Birra 56\, Bruno Ribadi\, Epica\, Horus Mylae\, Malarazza\, Panta Rei\, Tarì\, Rock Brewery\, Yblon\, 24 Baroni\, Chianti Brew Fighters\, Podere La Berta\, L’Olmaia\, Flea\, Birra Aosta\, 32 Via dei Birrai e il maltese Lord Chambray. Il programma prevede masterclass e degustazioni a cura di Kuaska ed Eugenio Signoroni\, concorso popolare\, cene d’autore\, cooking show e altro ancora. Tutti i dettagli sono disponibili sul sito di Taormina Gourmet.
URL:https://cronachedibirra.it/evento/taormina-gourmet-2019/
LOCATION:Hotel Villa Diodoro\, Taormina\, ME\, Italia
CATEGORIES:Manifestazioni
ATTACH;FMTTYPE=image/png:https://cdn1.cronachedibirra.it/wp-content/uploads/20200203100129/taormina-gourmet.png
END:VEVENT
BEGIN:VEVENT
DTSTART;VALUE=DATE:20191025
DTEND;VALUE=DATE:20191028
DTSTAMP:20260424T052027
CREATED:20191025T140951Z
LAST-MODIFIED:20220908T143036Z
UID:25467-1571961600-1572220799@cronachedibirra.it
SUMMARY:MuntoBeer 2019
DESCRIPTION:Comincia oggi e proseguirà fino a domenica 27 ottobre la seconda edizione di MuntoBeer\, che si terrà negli spazi del Mercato delle Erbe di Jesi (AN). Diciotto i birrifici presenti: 20.13\, 61Cento\, Birrificio Angeloni\, Birracruda\, Birrificio del Catria\, Birrificio del Gomito\, Birrificio del Rio\, Godog\, Ibeer\, Il Mastio\, Jack Rabbit\, La Cotta\, Laurus\, Maltenano\, Millecento\, Prima Pietra\, Sothis e Wallop. Il ricco programma prevede degustazioni guidate\, esibizioni e spettacoli\, giochi\, area bimbi. Per saperne di più potete consultare la pagina Facebook della manifestazione.
URL:https://cronachedibirra.it/evento/muntobeer-2019/
LOCATION:Mercato delle Erbe di Jesi\, Via Nazario Sauro\, Jesi\, AN\, Italia
CATEGORIES:Manifestazioni
ATTACH;FMTTYPE=image/jpeg:https://cdn1.cronachedibirra.it/wp-content/uploads/20200203100121/muntobeer.jpg
END:VEVENT
BEGIN:VEVENT
DTSTART;VALUE=DATE:20191026
DTEND;VALUE=DATE:20191027
DTSTAMP:20260424T052027
CREATED:20191025T135927Z
LAST-MODIFIED:20191025T135927Z
UID:25463-1572048000-1572134399@cronachedibirra.it
SUMMARY:Puglia Beer Fest
DESCRIPTION:Andrà in scena domani\, sabato 26 ottobre\, la manifestazione Puglia Beer Fest\, in programma in Piazza Garibaldi a Melissano (LE). I birrifici presenti saranno sette e tutti provenienti dalla regione: Svevo\, Gruit\, Birranova\, Decimoprimo\, Rebeers\, Daniel’s e Malatesta. Il programma prevede laboratori del gusto in collaborazione col Slow Food\, ampia scelta di street food con specialità locali e dj set. Aggiornamenti e maggiori informazioni sono disponibili consultando la pagina Facebook del Puglia Beer Fest.
URL:https://cronachedibirra.it/evento/puglia-beer-fest/
LOCATION:Piazza Garibaldi – Melissano\, Piazza Garibaldi\, Melissano\, LE\, Italia
CATEGORIES:Manifestazioni
ATTACH;FMTTYPE=image/png:https://cdn1.cronachedibirra.it/wp-content/uploads/20200203100122/puglia-beer-fest.png
END:VEVENT
BEGIN:VEVENT
DTSTART;VALUE=DATE:20191026
DTEND;VALUE=DATE:20191028
DTSTAMP:20260424T052027
CREATED:20191004T131706Z
LAST-MODIFIED:20220908T091320Z
UID:25273-1572048000-1572220799@cronachedibirra.it
SUMMARY:Ein Prosit 2019
DESCRIPTION:Ci sarà uno spazio importante per la birra artigianale nella ventunesima edizione di Ein Prosit\, mostra – assaggio di stampo enogastronomico che si terrà sabato 26 e domenica 27 ottobre presso la Chiesa di San Francesco e il Museo d’Arte Moderna Casa Cavazzini a Udine. Tre i birrifici presenti\, tutti provenienti dal Friuli Venezia Giulia: 620 Passi\, Cittavecchia e Gjulia. Molto interessanti poi i laboratori a tema condotti da Eugenio Signoroni e incentrati sul birrificio Barley\, sulle fermentazioni spontanee\, sulle birre affinate in legno e sul Beer Mile londinese. Maggiori informazioni sono disponibili sul sito di Ein Prosit.
URL:https://cronachedibirra.it/evento/ein-prosit-2019/
LOCATION:Udine\, Udine\, UD\, Italia
CATEGORIES:Manifestazioni
ATTACH;FMTTYPE=image/jpeg:https://cdn1.cronachedibirra.it/wp-content/uploads/20200203100134/ein-prosit.jpg
END:VEVENT
BEGIN:VEVENT
DTSTART;VALUE=DATE:20191027
DTEND;VALUE=DATE:20191028
DTSTAMP:20260424T052027
CREATED:20191011T131832Z
LAST-MODIFIED:20220908T143057Z
UID:25330-1572134400-1572220799@cronachedibirra.it
SUMMARY:Giornata nazionale dell'Homebrewing 2019
DESCRIPTION:Si festeggerà domenica 27 ottobre l’ormai consueta Giornata nazionale dell’Homebrewing\, l’iniziativa promossa da MoBI e dedicata a tutti gli amanti della birrificazione casalinga. Come sempre l’idea è di invitare tutti gli homebrewer d’Italia a effettuare nella giornata di domenica una “megacotta”\, ognuno con il proprio impianto domestico\, seguendo una ricetta comune. Ogni anno lo stile di riferimento cambia e per il 2019 l’associazione ha scelto un’Ordinary Bitter\, tipologia “quotidiana” per eccellenza secondo la cultura birraria del Regno Unito. La birra prodotta\, oltre a essere bevuta in compagnia\, potrà essere presentata nella tappa specifica del concorso nazionale di homebrewing organizzato da MoBI. Per conoscere i dettagli della ricetta e altre informazioni sull’iniziativa potete consultare il sito dell’associazione.
URL:https://cronachedibirra.it/evento/giornata-nazionale-dellhomebrewing-2019/
LOCATION:Italia\, Italia
CATEGORIES:Iniziative
ATTACH;FMTTYPE=image/jpeg:https://cdn1.cronachedibirra.it/wp-content/uploads/20200203100132/71078179_1323962084433185_7863430011909308416_n.jpg
END:VEVENT
END:VCALENDAR