BEGIN:VCALENDAR
VERSION:2.0
PRODID:-//Cronache di Birra - ECPv6.15.20//NONSGML v1.0//EN
CALSCALE:GREGORIAN
METHOD:PUBLISH
X-ORIGINAL-URL:https://cronachedibirra.it
X-WR-CALDESC:Eventi per Cronache di Birra
REFRESH-INTERVAL;VALUE=DURATION:PT1H
X-Robots-Tag:noindex
X-PUBLISHED-TTL:PT1H
BEGIN:VTIMEZONE
TZID:Europe/Rome
BEGIN:DAYLIGHT
TZOFFSETFROM:+0100
TZOFFSETTO:+0200
TZNAME:CEST
DTSTART:20180325T010000
END:DAYLIGHT
BEGIN:STANDARD
TZOFFSETFROM:+0200
TZOFFSETTO:+0100
TZNAME:CET
DTSTART:20181028T010000
END:STANDARD
BEGIN:DAYLIGHT
TZOFFSETFROM:+0100
TZOFFSETTO:+0200
TZNAME:CEST
DTSTART:20190331T010000
END:DAYLIGHT
BEGIN:STANDARD
TZOFFSETFROM:+0200
TZOFFSETTO:+0100
TZNAME:CET
DTSTART:20191027T010000
END:STANDARD
BEGIN:DAYLIGHT
TZOFFSETFROM:+0100
TZOFFSETTO:+0200
TZNAME:CEST
DTSTART:20200329T010000
END:DAYLIGHT
BEGIN:STANDARD
TZOFFSETFROM:+0200
TZOFFSETTO:+0100
TZNAME:CET
DTSTART:20201025T010000
END:STANDARD
END:VTIMEZONE
BEGIN:VEVENT
DTSTART;VALUE=DATE:20190614
DTEND;VALUE=DATE:20190916
DTSTAMP:20260424T090325
CREATED:20190531T142834Z
LAST-MODIFIED:20190607T132234Z
UID:23999-1560470400-1568591999@cronachedibirra.it
SUMMARY:Bevere
DESCRIPTION:Una rassegna di birra artigianale lunga tre mesi: è quella che si svolgerà da giovedì 6 giugno da venerdì 14 giugno fino a sabato 7 settembre sulle sponde del Tevere a Roma\, sotto Piazza dei Tribunali (Ponte Umberto I). Bevere è l’iniziativa a cura di Beerfellas che proporrà tante birre di produttori italiani e stranieri: North Brewing\, Six Degrees North\, Fallen \, Brighton Bier\, Wiper and True\, Burning Sky\, Gun Brewery\, Redchurch\, Harbour\, Cloudwater\, Redemption\, Anarchy\, Pressure Drop\, Five Points\, Bellfield\, Novo Brazil\, Against the Grain\, 4 Islands\, Rebel’s\, Birrificio del Doge\, Troll\, Birrificio di Cagliari\, Bi-Du\, Birrificio Amerino\, Oxiana\, Etnia\, Pelicon\, Trois Dames\, Trouble Brewing\, KonigsBrau\, Regent. La manifestazione prevede inoltre angoli dedicati ai sidri e bevande\, laboratori di degustazione\, angolo food con specialità emiliane e musica dal vivo e dj set. Ulteriori informazioni sul sito di Bevere.
URL:https://cronachedibirra.it/evento/bevere/
LOCATION:Lungotevere Prati\, Lungotevere Prati\, Roma\, RM\, 00193\, Italia
CATEGORIES:Iniziative
ATTACH;FMTTYPE=image/png:https://cdn1.cronachedibirra.it/wp-content/uploads/20200203094223/BEVERE-Orizzontale.png
END:VEVENT
BEGIN:VEVENT
DTSTART;VALUE=DATE:20190801
DTEND;VALUE=DATE:20190807
DTSTAMP:20260424T090325
CREATED:20190726T150912Z
LAST-MODIFIED:20190802T104924Z
UID:24690-1564617600-1565135999@cronachedibirra.it
SUMMARY:Campania Beerfest 2019
DESCRIPTION:È cominciato ieri e proseguirà fino a martedì 6 agosto la manifestazione Campania Beer Fest\, conosciuta in passato come la Festa della Birra di Baronissi e in programma a via Don Minzoni nel comune del salernitano. Saranno presenti 13 tra birrifici e beer firm della Campania: Birrificio dell’Aspide\, Birrificio dei Bardi\, Bella ‘Mbriana\, Fiej\, Birrificio Incanto\, Birrificio Irpino\, Karma\, Lievito e Nuvole\, Serrocroce\, Birrificio Sorrento\, Birrificio Ventitrè\, Cauldron Craft Beer e Maestri del Sannio. Inoltre saranno presenti i pub indipendenti Fermento Brew Inn e Pub 27 e le birre senza glutine di Caulier. Il programma prevede 24 postazioni gastronomiche con street food e tanta musica dal vivo. Ulteriori informazioni sulla pagina Facebook dell’evento.
URL:https://cronachedibirra.it/evento/campania-beerfest-2019/
LOCATION:Baronissi\, Via Don Minzoni\, Baronissi\, SA\, Italia
CATEGORIES:Manifestazioni
ATTACH;FMTTYPE=image/png:https://cdn1.cronachedibirra.it/wp-content/uploads/20200203094101/Campania-Beerfest.png
END:VEVENT
BEGIN:VEVENT
DTSTART;VALUE=DATE:20190802
DTEND;VALUE=DATE:20190804
DTSTAMP:20260424T090325
CREATED:20190726T133720Z
LAST-MODIFIED:20190726T133720Z
UID:24661-1564704000-1564876799@cronachedibirra.it
SUMMARY:La Fucina and Friends 2019
DESCRIPTION:Si terrà venerdì 2 e sabato 3 agosto il settimo compleanno del birrificio La Fucina\, che per l’occasione organizza a Pescolanciano (CB) la consueta manifestazione La Fucina and Friends. Oltre alle birre della casa saranno presenti con i loro stand i birrifici Cantaloop\, Four Queens\, Hops Up\, Birra Fardone\, Venafro Brewing Co. e Garage Street Food\, oltre a una selezione di produzioni italiane provenienti da Birrone\, Lucky Brews e Babylon. Tanti gli eventi collaterali come l’arrivo della “Transiberiana d’Italia”\, la musica dal vivo\, le visite al Castello ducale d’Alessandro. Non mancherà un’area gastronomica con tante specialità. Maggiori informazioni sono disponibili su Facebook.
URL:https://cronachedibirra.it/evento/la-fucina-and-friends-2019/
LOCATION:La Fucina
CATEGORIES:Iniziative
ATTACH;FMTTYPE=image/jpeg:https://cdn1.cronachedibirra.it/wp-content/uploads/20200203094110/fucina-friendas.jpg
END:VEVENT
BEGIN:VEVENT
DTSTART;VALUE=DATE:20190802
DTEND;VALUE=DATE:20190804
DTSTAMP:20260424T090325
CREATED:20190726T135010Z
LAST-MODIFIED:20190726T135010Z
UID:24668-1564704000-1564876799@cronachedibirra.it
SUMMARY:IPA Days
DESCRIPTION:Si terrà a Rovigo\, in piazza Matteotti\, venerdì 2 e sabato 3 agosto il festival IPA Days\, chiaramente incentrato sulle birre in stile IPA e sue derivazioni. Protagonisti saranno sei importanti locali della zona: Taverna del Porto\, The Drunken Duck\, Red Rooster\, Donkey Pub\, Harvest Pub e Hops. Il programma prevede street food con diversi espositori\, concorso nazionale per homebrewer incentrato sulle birre luppolate\, musica dal vivo\, gonfiabili per bambini e altro ancora. Ulteriori informazioni sono disponibili sulla pagina Facebook di IPA Days.
URL:https://cronachedibirra.it/evento/ipa-days/
LOCATION:Piazza Matteotti – Rovigo\, Piazza Matteotti\, Rovigo\, RO\, Italia
CATEGORIES:Manifestazioni
END:VEVENT
BEGIN:VEVENT
DTSTART;VALUE=DATE:20190802
DTEND;VALUE=DATE:20190804
DTSTAMP:20260424T090325
CREATED:20190802T104915Z
LAST-MODIFIED:20190802T104915Z
UID:24742-1564704000-1564876799@cronachedibirra.it
SUMMARY:Is Maistus 2019
DESCRIPTION:Andrà in scena nella spettacolare cornice del borgo medievale di Tratalias (SU) la decima edizione di Is Maistus\, che comincerà stasera per proseguire domani sabato 3 agosto. Cinque i birrifici presenti: Nora\, Dolmen\, Iskida\, Alvure e Kuhbacher. Oltre alla birra artigianale\, gli altri due pilastri su cui poggia il festival sono lo street food con specialità sarde e la musica dal vivo. Maggiori informazioni sono consultabili sulla pagina Facebook di Is Maistus.
URL:https://cronachedibirra.it/evento/is-maistus-2019/
LOCATION:Borgo mediavale di Tratalias\, Tratalias\, SU\, Italia
CATEGORIES:Manifestazioni
ATTACH;FMTTYPE=image/jpeg:https://cdn1.cronachedibirra.it/wp-content/uploads/20200203094100/loc_2019.jpg
END:VEVENT
BEGIN:VEVENT
DTSTART;VALUE=DATE:20190802
DTEND;VALUE=DATE:20190805
DTSTAMP:20260424T090325
CREATED:20190726T132713Z
LAST-MODIFIED:20190726T132713Z
UID:24657-1564704000-1564963199@cronachedibirra.it
SUMMARY:Tittoni Beer Festival 2019
DESCRIPTION:Si terrà da venerdì 2 a domenica 4 agosto l’edizione 2019 del Tittoni Beer Festival\, cioè la versione estiva del Brianza Beer Festival. La location sarà il Parco Tittoni di Desio (MB) e l’offerta birraria sarà strutturata in due grandi banconi con i prodotti di 50 birrifici diversi\, metà italiani e metà stranieri. La parte food proporrà specialità romagnole\, hamburger\, panini\, fritti e burritos\, mentre ogni sera ci sarà un concerto di musica live. Per aggiornamenti e altre informazioni potete consultare la pagina Facebook dell’evento.
URL:https://cronachedibirra.it/evento/tittoni-beer-festival-2019/
LOCATION:Parco Tittoni\, Via Cavalieri di Vittorio Veneto 2\, Desio\, MB\, 20832\, Italia
CATEGORIES:Manifestazioni
ATTACH;FMTTYPE=image/jpeg:https://cdn1.cronachedibirra.it/wp-content/uploads/20200203094110/tittoni-beer-festival.jpg
END:VEVENT
BEGIN:VEVENT
DTSTART;VALUE=DATE:20190802
DTEND;VALUE=DATE:20190805
DTSTAMP:20260424T090325
CREATED:20190726T142255Z
LAST-MODIFIED:20190802T115345Z
UID:24679-1564704000-1564963199@cronachedibirra.it
SUMMARY:Oops Beer Festival
DESCRIPTION:Comincia oggi e proseguirà fino a domenica 4 agosto la manifestazione Oops Beer Festival\, ospitato nel Centro Visioni Urbane di Rionero in Vulture (PZ). I birrifici e le beer firm presenti sono Pintagramma\, Beer Station\, Senza Terra\, Birrificio del Vulture\, Crazy Hop\, Hogar Beer e Basilisca. Il programma prevede laboratori di degustazione\, cotta pubblica e 2 aree gastronomiche. Maggiori informazioni sulla pagina Facebook di Oops Beer Festival.
URL:https://cronachedibirra.it/evento/oops-beer-festival/
LOCATION:Centro Visioni Urbane\, Via Fontana 1961\, Rionero in Vulture\, PZ\, 85028\, Italia
CATEGORIES:Manifestazioni
ATTACH;FMTTYPE=image/jpeg:https://cdn1.cronachedibirra.it/wp-content/uploads/20200203094109/oops.jpg
END:VEVENT
BEGIN:VEVENT
DTSTART;VALUE=DATE:20190803
DTEND;VALUE=DATE:20190804
DTSTAMP:20260424T090325
CREATED:20190726T131732Z
LAST-MODIFIED:20190726T135612Z
UID:24653-1564790400-1564876799@cronachedibirra.it
SUMMARY:Parco Birre 2019
DESCRIPTION:Andrà in scena sabato 3 agosto presso il Parco Scarzella di Domusnovas (SU) l’edizione 2019 di Parco Birre. I birrifici presenti saranno Spantu\, Gattarancio\, Brew Bay\, 4 Mori\, Scialandrone\, Harvest e Amerino\, oltre a un angolo con birre internazionali e acide a cura della birroteca Fermentazioni Spontanee. L’angolo food proporrà diverse specialità con un occhio di riguardo alla qualità\, mentre non mancheranno la musica dal vivo e prodotti di artigianato. Per saperne di più vi rimando alla pagina Facebook di Parco Birre.
URL:https://cronachedibirra.it/evento/parco-birre-2019/
LOCATION:Parco Scarzella\, Domusnovas\, CI\, Italia
ATTACH;FMTTYPE=image/jpeg:https://cdn1.cronachedibirra.it/wp-content/uploads/20200203094111/parco-birre-4.jpg
END:VEVENT
BEGIN:VEVENT
DTSTART;VALUE=DATE:20190805
DTEND;VALUE=DATE:20190812
DTSTAMP:20260424T090325
CREATED:20190802T112819Z
LAST-MODIFIED:20190802T112819Z
UID:24752-1564963200-1565567999@cronachedibirra.it
SUMMARY:Festival delle Birre di Castellalto 2019
DESCRIPTION:Si terrà per una settimana intera\, da lunedì 5 a domenica 11 agosto\, la quattordicesima edizione del Festival delle Birre di Castellalto\, che come sempre si dipanerà tra le cantine e le vie del centro storico di Castellalto (TE). I 250 punti spina dislocati nel paese ospiteranno centinaia di birre artigianali e non provenienti da birrifici italiani e stranieri. Confermato l’ampio programma di concerti musicali e l’immensa offerta gastronomica. Maggiori informazioni sul sito del festival.
URL:https://cronachedibirra.it/evento/festival-delle-birre-di-castellalto-2019/
LOCATION:Centro storico di Castellalto\, Castellalto\, TE\, Italia
CATEGORIES:Manifestazioni
ATTACH;FMTTYPE=image/png:https://cdn1.cronachedibirra.it/wp-content/uploads/20200203094100/castellalto-beer-festival.png
END:VEVENT
BEGIN:VEVENT
DTSTART;VALUE=DATE:20190806
DTEND;VALUE=DATE:20190809
DTSTAMP:20260424T090325
CREATED:20190726T142725Z
LAST-MODIFIED:20190802T110625Z
UID:24683-1565049600-1565308799@cronachedibirra.it
SUMMARY:Birre Vista Mare 2019
DESCRIPTION:Dopo l’ottimo debutto dello scorso anno da martedì 6 a giovedì 8 agosto torna l’appuntamento con Birre Vista Mare\, che si terrà sul lungomare di Torre dell’Orso (LE). Come sempre la selezione dei birrifici sarà molto valida: Hilltop\, Jungle Juice\, Vetra\, MC-77 e Nix\, più i pugliesi B94\, Birranova\, SBAM\, Lieviteria e Malatesta. Il programma prevede un angolo con vini naturali\, Gin Tonic corner\, ampia selezione di street food con specialità di mare e di terra e tanta musica dal vivo. Ulteriori dettagli sulla pagina Facebook di Birre Vista Mare.
URL:https://cronachedibirra.it/evento/birre-vista-mare-2019/
LOCATION:Lungomare di Torre dell’Orso\, Lungomare\, Torre dell'Orso\, LE\, Italia
CATEGORIES:Manifestazioni
ATTACH;FMTTYPE=image/png:https://cdn1.cronachedibirra.it/wp-content/uploads/20200203094108/birre-vista-mare.png
END:VEVENT
BEGIN:VEVENT
DTSTART;VALUE=DATE:20190809
DTEND;VALUE=DATE:20190812
DTSTAMP:20260424T090325
CREATED:20190726T141827Z
LAST-MODIFIED:20190802T105831Z
UID:24675-1565308800-1565567999@cronachedibirra.it
SUMMARY:BeerLocri 2019
DESCRIPTION:Sarà il lungomare di Locri\, in provincia di Reggio Calabria\, a ospitare l’edizione 2019 di BeerLocri. La manifestazione si terrà da venerdì 9 a domenica 11 agosto e vedrà la partecipazione di sei birrifici del Centro-Sud: Jungle Juice\, Eternal City Brewing\, Sette Colli\, Birrificio Sabino\, Birrificio Reggino e Namaste. Il programma prevede laboratori di degustazione\, quattro aree per lo street food e animazione per bambini. Altre informazioni sulla pagina Facebook di BeerLocri.
URL:https://cronachedibirra.it/evento/beerlocri-2019/
LOCATION:Lungomare di Locri\, Locri\, RC\, Italia
CATEGORIES:Manifestazioni
ATTACH;FMTTYPE=image/jpeg:https://cdn1.cronachedibirra.it/wp-content/uploads/20200203094109/berrlocri.jpg
END:VEVENT
BEGIN:VEVENT
DTSTART;VALUE=DATE:20190812
DTEND;VALUE=DATE:20190816
DTSTAMP:20260424T090325
CREATED:20190726T143016Z
LAST-MODIFIED:20190802T111343Z
UID:24687-1565568000-1565913599@cronachedibirra.it
SUMMARY:Hop Summer Fest 2019
DESCRIPTION:Si terrà da lunedì 12 a giovedì 15 agosto l’edizione 2019 dell’Hop Summer Fest\, la manifestazione della birra artigianale di Livorno. I birrifici presenti saranno Fermento Libero\, L’Olmaia\, Elav\, Sagrin\, Mostodolce\, Toptà\, Orzo Bruno\, Fon e altri. Il programma prevede incontri a tema\, giri in battello con degustazioni\, musica dal vivo e cucina con hamburger\, tex-mex e specialità britanniche. Maggiori informazioni sono disponibili sulla pagina Facebook del festival.
URL:https://cronachedibirra.it/evento/hop-summer-fest-2019/
LOCATION:Scali delle Ancore\, Scali delle Ancore\, Livorno\, LI\, Italia
CATEGORIES:Manifestazioni
ATTACH;FMTTYPE=image/png:https://cdn1.cronachedibirra.it/wp-content/uploads/20200203094108/hop-summer.png
END:VEVENT
BEGIN:VEVENT
DTSTART;VALUE=DATE:20190817
DTEND;VALUE=DATE:20190818
DTSTAMP:20260424T090325
CREATED:20190808T100015Z
LAST-MODIFIED:20190808T100015Z
UID:24814-1566000000-1566086399@cronachedibirra.it
SUMMARY:Festa del raccolto 2019
DESCRIPTION:Si terrà sabato 17 agosto la quinta edizione della Festa del raccolto del birrificio Taverna del Vara\, sito nel comune di Torza\, in provincia de La Spezia. Il cuore dell’evento sarà ovviamente la raccolta del luppolo\, ma il programma prevede anche visite guidate al luppoleto\, cucina ad hoc\, laboratori di degustazione\, yoga e musica dal vivo. Maggiori informazioni sono disponibili sulla pagina Facebook dell’evento.
URL:https://cronachedibirra.it/evento/festa-del-raccolto-2019/
LOCATION:Taverna del Vara\, Via Provinciale 65\, Torza\, SP\, 19010\, Italia
CATEGORIES:Iniziative
ATTACH;FMTTYPE=image/jpeg:https://cdn1.cronachedibirra.it/wp-content/uploads/20200203094057/luppolo-1.jpg
END:VEVENT
BEGIN:VEVENT
DTSTART;VALUE=DATE:20190822
DTEND;VALUE=DATE:20190826
DTSTAMP:20260424T090325
CREATED:20190808T091453Z
LAST-MODIFIED:20190808T091453Z
UID:24802-1566432000-1566777599@cronachedibirra.it
SUMMARY:Birra in Borgo 2019
DESCRIPTION:Andrà in scena da giovedì 22 a domenica 25 agosto\, nella splendida cornice del borgo di Sant’Egidio del Monte Albino (SA)\, la quarta edizione di Birra in Borgo. I birrifici partecipanti saranno Aeffe\, Il Chiostro\, Bella ‘Mbriana\, Birra Ravello e Birrificio Tennent’s di Pagani. I vicoli\, i cortili popolari e le corti dei palazzi nobiliari del paese si trasformeranno in punti di degustazione tanto delle birre presenti\, tanto di prodotti enogastronomici locali. Il programma prevede anche musica dal vivo con gruppi emergenti. Maggiori informazioni sono disponibili sul sito dell’evento.
URL:https://cronachedibirra.it/evento/birra-in-borgo-2019/
LOCATION:Centro storico di Sant’Egidio del Monte Albino\, Sant’Egidio del Monte Albino\, SA\, Italia
CATEGORIES:Manifestazioni
ATTACH;FMTTYPE=image/jpeg:https://cdn1.cronachedibirra.it/wp-content/uploads/20200203094057/birra-in-borgo-2.jpg
END:VEVENT
BEGIN:VEVENT
DTSTART;VALUE=DATE:20190823
DTEND;VALUE=DATE:20190826
DTSTAMP:20260424T090325
CREATED:20190808T092936Z
LAST-MODIFIED:20190808T092936Z
UID:24806-1566518400-1566777599@cronachedibirra.it
SUMMARY:BeerCatanzaro
DESCRIPTION:Debutterà da venerdì 23 a domenica 25 agosto la manifestazione BeerCatanzaro\, in programma presso il piazzale Maestri del Lavoro (ex area Teti)\, ovviamente a Catanzaro. I birrifici presenti saranno quattro\, tutti calabresi: Simon\, Esperia\, SolidAle e DeAlchemia. Il programma prevede un’area gastronomica\, musica dal vivo e dj set e animazione per bambini con gonfiabili. Maggiori informazioni sono disponibili sulla pagina Facebook dell’evento.
URL:https://cronachedibirra.it/evento/beercatanzaro/
LOCATION:Ex area Teti\, Piazzale Maestri del Lavoro\, Catanzaro\, CZ\, Italia
CATEGORIES:Manifestazioni
ATTACH;FMTTYPE=image/jpeg:https://cdn1.cronachedibirra.it/wp-content/uploads/20200203094057/beercatanzaro.jpg
END:VEVENT
BEGIN:VEVENT
DTSTART;VALUE=DATE:20190823
DTEND;VALUE=DATE:20190826
DTSTAMP:20260424T090325
CREATED:20190808T094015Z
LAST-MODIFIED:20190808T094015Z
UID:24810-1566518400-1566777599@cronachedibirra.it
SUMMARY:Birre Vive sotto la Torre Summer Edition 2019
DESCRIPTION:La quarta edizione della versione estiva di Birre Vive sotto la Torre si terrà da venerdì 23 a domenica 25 agosto in località Torre Gallinaro a Cipressa\, in provincia di Imperia. I birrifici partecipanti saranno Croce di Malto\, Birrificio Castagnero\, Sagrin\, The Foolminati\, Birra Due Tocchi e Diciottozerouno. Il programma prevede street food con specialità tipiche liguri\, musica dal vivo e spettacoli. Maggiori informazioni sono reperibili sulla pagina Facebook dell’evento.
URL:https://cronachedibirra.it/evento/birre-vive-sotto-la-torre-summer-edition-2019/
LOCATION:Torre Gallinaro\, Strada Antica Torre\, Cipressa\, IM\, Italia
CATEGORIES:Manifestazioni
ATTACH;FMTTYPE=image/jpeg:https://cdn1.cronachedibirra.it/wp-content/uploads/20200203094057/birre-vive-summer.jpg
END:VEVENT
BEGIN:VEVENT
DTSTART;VALUE=DATE:20190828
DTEND;VALUE=DATE:20190903
DTSTAMP:20260424T090325
CREATED:20190829T092951Z
LAST-MODIFIED:20190829T092951Z
UID:24893-1566950400-1567468799@cronachedibirra.it
SUMMARY:Bolle di Malto 2019
DESCRIPTION:È cominciata ieri e proseguirà fino a lunedì 2 settembre la quinta edizione di Bolle di Malto\, in programma in Piazza Martiri della Libertà a Biella. La lista dei birrifici partecipanti è incentrata su soli produttori italiani\, con un occhio di riguardo per quelli piemontesi: Beer In\, Un Terzo\, Svevo\, Jeb\, Rabel\, Diciottozerouno\, Baladin\, 100 Venti\, La Tresca\, Birrificio Aosta\, Croce di Malto\, Rurale\, PBC\, Legnone\, Ofelia\, Filodilana\, Abbà\, Edit\, Picobrew\, 620 Passi e Birrificio Fermento. Il programma prevede conferenze\, degustazioni\, ampia selezione di street food di qualità\, cene di gala\, musica dal vivo e dj set. Ulteriori dettagli sono disponibili sul sito di Bolle di Malto.
URL:https://cronachedibirra.it/evento/bolle-di-malto-2019/
LOCATION:Piazza Martiri della Libertà – Biella\, Piazza Martiri della Libertà\, Biella\, BI\, Italia
CATEGORIES:Manifestazioni
ATTACH;FMTTYPE=image/jpeg:https://cdn1.cronachedibirra.it/wp-content/uploads/20200203094046/bolle-di-malto-scaled.jpg
END:VEVENT
BEGIN:VEVENT
DTSTART;VALUE=DATE:20190830
DTEND;VALUE=DATE:20190902
DTSTAMP:20260424T090325
CREATED:20190808T155726Z
LAST-MODIFIED:20190808T160104Z
UID:24818-1567123200-1567382399@cronachedibirra.it
SUMMARY:Calaris 2019
DESCRIPTION:Dopo il debutto dello scorso anno\, da venerdì 30 agosto a domenica 1 settembre si terrà la seconda edizione di Calaris\, il festival delle birre artigianali di Cagliari. Saranno presenti 9 tra birrifici e beer firm: Trulla\, Brew Bay\, Lariano\, Birrificio di Cagliari\, Gattarancio\, Terrantiga\, P3 Brewing\,  La Volpe e il Luppolo e Muttnik. Il programma prevede 5 corner con street food\, laboratori di degustazione\, cotta pubblica\, musica dal vivo e altro ancora. Maggiori dettagli sono disponibili sulla pagina Facebook di Calaris.
URL:https://cronachedibirra.it/evento/calaris-2019/
LOCATION:Lazzaretto di Cagliari\, Via dei Navigatori\, 1\, Cagliari\, CA\, 09126\, Italia
CATEGORIES:Manifestazioni
ATTACH;FMTTYPE=image/jpeg:https://cdn1.cronachedibirra.it/wp-content/uploads/20200203094057/calaris-2.jpg
END:VEVENT
BEGIN:VEVENT
DTSTART;VALUE=DATE:20190830
DTEND;VALUE=DATE:20190902
DTSTAMP:20260424T090325
CREATED:20190829T103156Z
LAST-MODIFIED:20190829T103156Z
UID:24909-1567123200-1567382399@cronachedibirra.it
SUMMARY:Birrae 2019
DESCRIPTION:L’edizione 2019 di Birrae\, festival molisano della birra artigianale\, si terrà a Campobasso\, presso la Villa de Capoa\, da venerdì 30 agosto a domenica 1 settembre. I birrifici partecipanti proverranno solo dal Sud Italia: Bonavena\, Sbam\, Lieviteria\, Okorei\, Cantaloop\, La Fucina\, Hops Up\, Birra Fardone e 4 Queens. Il programma prevede un’ampia selezione di cibo e tanta musica dal vivo. Da segnalare che Birrae sarà un evento totalmente plastic free. Maggior informazioni sono disponibili sulla pagina Facebook della manifestazione.
URL:https://cronachedibirra.it/evento/birrae-2019/
LOCATION:Villa de Capoa\, Piazza Savoia\, Campobasso\, CB\, 86100\, Italia
CATEGORIES:Manifestazioni
ATTACH;FMTTYPE=image/jpeg:https://cdn1.cronachedibirra.it/wp-content/uploads/20200203094039/birrae-3.jpg
END:VEVENT
END:VCALENDAR