BEGIN:VCALENDAR
VERSION:2.0
PRODID:-//Cronache di Birra - ECPv6.15.20//NONSGML v1.0//EN
CALSCALE:GREGORIAN
METHOD:PUBLISH
X-ORIGINAL-URL:https://cronachedibirra.it
X-WR-CALDESC:Eventi per Cronache di Birra
REFRESH-INTERVAL;VALUE=DURATION:PT1H
X-Robots-Tag:noindex
X-PUBLISHED-TTL:PT1H
BEGIN:VTIMEZONE
TZID:Europe/Rome
BEGIN:DAYLIGHT
TZOFFSETFROM:+0100
TZOFFSETTO:+0200
TZNAME:CEST
DTSTART:20180325T010000
END:DAYLIGHT
BEGIN:STANDARD
TZOFFSETFROM:+0200
TZOFFSETTO:+0100
TZNAME:CET
DTSTART:20181028T010000
END:STANDARD
BEGIN:DAYLIGHT
TZOFFSETFROM:+0100
TZOFFSETTO:+0200
TZNAME:CEST
DTSTART:20190331T010000
END:DAYLIGHT
BEGIN:STANDARD
TZOFFSETFROM:+0200
TZOFFSETTO:+0100
TZNAME:CET
DTSTART:20191027T010000
END:STANDARD
BEGIN:DAYLIGHT
TZOFFSETFROM:+0100
TZOFFSETTO:+0200
TZNAME:CEST
DTSTART:20200329T010000
END:DAYLIGHT
BEGIN:STANDARD
TZOFFSETFROM:+0200
TZOFFSETTO:+0100
TZNAME:CET
DTSTART:20201025T010000
END:STANDARD
END:VTIMEZONE
BEGIN:VEVENT
DTSTART;VALUE=DATE:20190301
DTEND;VALUE=DATE:20190304
DTSTAMP:20260424T154542
CREATED:20190222T123456Z
LAST-MODIFIED:20190222T125456Z
UID:23071-1551398400-1551657599@cronachedibirra.it
SUMMARY:Festa delle Birre Artigianali 2019
DESCRIPTION:Si terrà da venerdì 1 a domenica 3 marzo il consueto appuntamento con la Festa delle Birre Artigianali\, la manifestazione di Eataly Roma dedicata ai microbirrifici italiani. Il sottotitolo dell’edizione 2019 è “Prime cotte e grandi amori”\, a indicare la conferma di una formula ormai consolidata ma anche la presenza di tante novità\, in primis quelle rappresentate dalle creazioni inedite del Ballo delle Debuttanti (ve ne parlo in una scheda apposita). I birrifici presenti saranno Agrilab\, Alta Quota\, Birra dell’Eremo\, Birra Losa\, Turbacci\, Amerino\, Birrificio di Cagliari\, Birrificio del Doge\, Elav\, Birrificio Italiano\, La Gramigna\, Oxiana\, Eternal City Brewing\, Mastio\, La Casa di Cura\, Maltovivo\, Radio Rock e Rebel’s. Quest’anno l’evento si terrà anche al primo piano\, grazie a una selezione di birre e sidri stranieri a cura di Beerfellas\, mentre come al solito la parte gastronomica si avvarrà della presenza di tante prelibatezze\, tra hot dog\, hamburger\, pulled pork\, fritti e dolci. Ricco il programma degli appuntamenti collaterali\, con seminari\, degustazioni\, giochi e visita agli impianti di produzione. Non mancherà la musica dal vivo e il dj set. Ulteriori informazioni sono disponibili sul sito di Eataly.
URL:https://cronachedibirra.it/evento/festa-delle-birre-artigianali-2019/
LOCATION:Eataly Roma
CATEGORIES:Manifestazioni
ATTACH;FMTTYPE=image/jpeg:https://cdn1.cronachedibirra.it/wp-content/uploads/20200203094435/festa-birre-artigianali-roma1.jpg
END:VEVENT
BEGIN:VEVENT
DTSTART;VALUE=DATE:20190301
DTEND;VALUE=DATE:20190304
DTSTAMP:20260424T154542
CREATED:20190222T134532Z
LAST-MODIFIED:20190226T091003Z
UID:23076-1551398400-1551657599@cronachedibirra.it
SUMMARY:Ballo delle Debuttanti 2019
DESCRIPTION:Torna l’attesissima iniziativa dedicata alle birre inedite dei birrifici italiani. Anche quest’anno\, all’interno della Festa delle Birre Artigianali di Eataly Roma\, andrà in scena il Ballo delle Debuttanti\, l’evento che farà da apripista alla Settimana della Birra Artigianale 2019. A partire da venerdì 1 e fino a domenica 3 marzo alcuni dei birrifici presenti alla manifestazione di Eataly proporranno una nuova birra ciascuno: saranno quindi disponibili una quindicina di “debuttanti” assolute\, tutte in un’unica occasione. Le birre saranno presentate giorno dopo giorno sulla pagina Facebook del Ballo delle Debuttanti\, ma già ora possiamo svelarvi i nomi dei rispettivi produttori: \n\nBirra dell’Eremo\nBaladin\nMastio\nBirrificio Italiano\nBirrificio di Cagliari\nRebel’s\nBirrificio del Doge\nAgrilab\nLa Casa di Cura\nEternal City Brewing\nBirrificio Amerino\nBirra Losa\nEataly Birreria\nLa Gramigna\nEdfil\n\nChiaramente le birre saranno disponibili fino a esaurimento fusti\, quindi per non rischiare di perderne qualcuna vi consiglio di essere presenti da Eataly già a partire da venerdì 1 marzo.
URL:https://cronachedibirra.it/evento/ballo-delle-debuttanti-2019/
LOCATION:Eataly Roma
CATEGORIES:Iniziative
ATTACH;FMTTYPE=image/png:https://cdn1.cronachedibirra.it/wp-content/uploads/20200203094435/copertina-fb-pre-opening-2019.png
END:VEVENT
BEGIN:VEVENT
DTSTART;VALUE=DATE:20190304
DTEND;VALUE=DATE:20190311
DTSTAMP:20260424T154542
CREATED:20190208T140222Z
LAST-MODIFIED:20190208T140222Z
UID:22939-1551657600-1552262399@cronachedibirra.it
SUMMARY:Settimana della Birra Artigianale 2019
DESCRIPTION:Preparate i boccali perché sta per tornare la Settimana della Birra Artigianale! Quest’anno la più ampia celebrazione dedicata alla nostra bevanda preferita si terrà da lunedì 4 a domenica 10 marzo\, coinvolgendo come sempre tantissime attività operanti nel settore: ovviamente pub\, birrifici e beershop\, ma anche ristoranti\, pizzerie\, associazioni\, enoteche e qualsiasi altro soggetto impronti la propria offerta (in maniera predominante o solo parziale) sulle produzioni dei microbirrifici italiani e stranieri. L’iniziativa\, ideata e sviluppata da Cronache di Birra\, permetterà a chiunque di vivere sette giorni a piena trazione birraria: saranno infatti centinaia le iniziative proposte su tutto il territorio nazionale\, grazie alle quale approfondire le proprie conoscenze sulla birra artigianale o semplicemente avvicinarsi a questo meraviglioso mondo. \nA poco meno di un mese dall’inizio della manifestazione siamo non lontani dalla soglia dei 300 aderenti in tutta Italia: molto interessante il testa a testa tra Lazio e Lombardia (31 aderenti contro 29)\, sebbene valga la pena sottolineare la vicinanza di Campania (26)\, Puglia (24)\, Toscana (24) e Veneto (23). Ricordo che si può aderire gratuitamente: le uniche due condizioni sono di lavorare con birra artigianale (per quella italiana è richiesta coerenza con la nostra definizione legislativa) e di proporre almeno un evento o una promozione nell’arco dei sette giorni. Chiaramente più iniziative saranno organizzate\, maggiore sarà la visibilità sul sito della Settimana della Birra Artigianale. \nAnche quest’anno l’appuntamento inaugurale sarà il rodato Ballo delle Debuttanti\, ospitato all’interno della Festa delle Birre Artigianali di Eataly Roma\, in programma da venerdì 1 a domenica 3 marzo. Come suggerisce il nome stesso\, al Ballo delle Debuttanti “sfileranno” alcune birre inedite realizzate appositamente da altrettanti birrifici italiani: una bella occasione per assaggiare prodotti totalmente nuovi\, di cui saranno svelati i dettagli nei prossimi giorni. L’iniziativa da Eataly permetterà di cominciare a respirare quell’atmosfera effervescente che poi esploderà in tutta Italia dal lunedì successivo. \nPer il resto la formula della Settimana della Birra Artigianale è pienamente confermata. I preparativi (e le iscrizioni) proseguiranno nei prossimi giorni con sempre maggiore frequenza\, finché arriveremo al 4 marzo con un programma ricchissimo di proposte birrarie. Per restare aggiornati potete seguire i canali social ufficiali della manifestazione: Facebook\, Instagram e Twitter. Personalmente non vedo l’ora di ritrovarmi a brindare per sette giorni consecutivi!
URL:https://cronachedibirra.it/evento/settimana-della-birra-artigianale-2019/
LOCATION:Italia\, Italia
CATEGORIES:Iniziative
ATTACH;FMTTYPE=image/png:https://cdn1.cronachedibirra.it/wp-content/uploads/20200203094513/Immagine-Cronache.png
END:VEVENT
BEGIN:VEVENT
DTSTART;VALUE=DATE:20190309
DTEND;VALUE=DATE:20190312
DTSTAMP:20260424T154542
CREATED:20190222T140941Z
LAST-MODIFIED:20190222T141555Z
UID:23081-1552089600-1552348799@cronachedibirra.it
SUMMARY:Taste 2019
DESCRIPTION:Birra artigianale protagonista anche quest’anno a Taste\, storica manifestazione enogastronomica in programma da sabato 9 a lunedì 11 marzo presso la Stazione Leopolda di Firenze. Saranno presenti i birrifici 32 Via dei Birrai\, Baladin\, Bruton\, Flea\, Gjulia\, Birrificio del Forte\, I Due Mastri\, La Petrgonola\, Mata e San Gabriel. Tra i tantissimi appuntamenti previsti da Taste e da Fuoriditaste (il fuori salone) ce ne saranno alcuni dedicati proprio alla nostra bevanda. Per tutti i dettagli vi suggerisco di consultare il sito dell’evento.
URL:https://cronachedibirra.it/evento/taste-2019/
LOCATION:Stazione Lepolda\, Piazza Guerrazzi\, Pisa\, PI\, Italia
CATEGORIES:Manifestazioni
ATTACH;FMTTYPE=image/jpeg:https://cdn1.cronachedibirra.it/wp-content/uploads/20200203094433/taste-1.jpg
END:VEVENT
BEGIN:VEVENT
DTSTART;VALUE=DATE:20190310
DTEND;VALUE=DATE:20190311
DTSTAMP:20260424T154542
CREATED:20190308T144939Z
LAST-MODIFIED:20190308T144939Z
UID:23204-1552176000-1552262399@cronachedibirra.it
SUMMARY:Luppolo Station 4 Years Party
DESCRIPTION:Quarto anniversario per il Luppolo Station di Roma\, che festeggerà la ricorrenza domenica 10 marzo con una grande festa. La solita straordinaria selezione birraria del locale sarà impreziosita da una serie di botticelle provenienti dai birrifici Mukkeller\, Altavia ed Elvo e proprio quest’ultimo presenterà due novità assolute: la Helles e la Rauch. Anteprima assoluta anche per la Hot Chocolate di Hilltop\, versione alternativa dell’Americano Stout con peperoncino e fave di cacao\, mentre sul fronte dei produttori stranieri saranno disponibili le creazioni di Kees\, La Pirata\, The Bruery\, Odissey\, Unit Brewing\, Burning Sky e altri ancora. Ad accompagnare la giornata troverete una selezione di musica in vinile. Aggiornamenti e dettagli aggiuntivi sulla pagina Facebook dell’evento.
URL:https://cronachedibirra.it/evento/luppolo-station-4-years-party/
LOCATION:Luppolo Station\, Via Giuseppe Parini 4\, Roma\, RM\, Italia
CATEGORIES:Iniziative
ATTACH;FMTTYPE=image/jpeg:https://cdn1.cronachedibirra.it/wp-content/uploads/20200203094416/51810421_2348233592081739_7243093389833404416_o.jpg
END:VEVENT
BEGIN:VEVENT
DTSTART;VALUE=DATE:20190315
DTEND;VALUE=DATE:20190318
DTSTAMP:20260424T154542
CREATED:20190308T143925Z
LAST-MODIFIED:20190308T143925Z
UID:23201-1552608000-1552867199@cronachedibirra.it
SUMMARY:San Patrizio: Tanta Roba in Bolognina
DESCRIPTION:Si terrà nel Parco DLF di Bologna la manifestazione San Patrizio: Tanta Roba in Bolognina\, in programma da venerdì 15 a domenica 17 marzo. L’evento sarà ovviamente dedicato alla festa del patrono irlandese\, ma non sarà limitato solo a Porter e Stout. La selezione di birra artigianale (con un angolo sour e alcuni birrifici d’Irlanda) sarà a cura di Birrai Eretici\, mentre non mancherà tanta musica dal vivo. La parte food proporrà hamburger\, pizza\, fritti e panini e non mancheranno giochi e spettacoli per bambini. Maggiori informazioni sono disponibili sulla pagina Facebook dell’iniziativa.
URL:https://cronachedibirra.it/evento/san-patrizio-tanta-roba-in-bolognina/
LOCATION:Parco DLF\, Via Stalingrado 12\, Bologna\, BO\, 40128\, Italy
CATEGORIES:Manifestazioni
ATTACH;FMTTYPE=image/png:https://cdn1.cronachedibirra.it/wp-content/uploads/20200203094419/52386910_385259045637302_410305024720109568_o.png
END:VEVENT
BEGIN:VEVENT
DTSTART;VALUE=DATE:20190315
DTEND;VALUE=DATE:20190318
DTSTAMP:20260424T154542
CREATED:20190315T140354Z
LAST-MODIFIED:20190315T140425Z
UID:23267-1552608000-1552867199@cronachedibirra.it
SUMMARY:San Patrizio con i birrai di The White Hag\, Kinnegar e Hope Beer
DESCRIPTION:Solitamente per San Patrizio ci si reca a Dublino\, ma quest’anno tre birrifici irlandesi hanno deciso di compiere il viaggio opposto e saranno ospiti in Italia. Grazie al supporto di Beergate\, i team di Hope Beer\, Kinnegar e The White Hag saranno impegnati da venerdì 15 a domenica 17 marzo in un tour de force lungo lo Stivale\, che li vedrà toccare ben 11 locali: The Shamrock (Lecco)\, Il Teatro delle Birre (Mantova)\, Lortica (Bologna)\, Rievoca (Vimodrone)\, La Petraca (Graffignano)\, Brewdog Bar (Roma)\, Birra + (Roma)\, Paddy’s (Creazzo)\, Ines Stube (Nibionno)\, Barleyhouse (Gallarate) e Rolling Goat (Cassano Magnago). Ogni locale organizzerà qualcosa di diverso\, quindi vi consiglio di consultare il programma completo sul sito di Chiara Andreola.
URL:https://cronachedibirra.it/evento/san-patrizio-con-i-birrai-di-the-white-hag-kinnegar-e-hope-beer/
LOCATION:Italia\, Italia
CATEGORIES:Iniziative
ATTACH;FMTTYPE=image/jpeg:https://cdn1.cronachedibirra.it/wp-content/uploads/20200203094413/st-patrick.jpg
END:VEVENT
BEGIN:VEVENT
DTSTART;VALUE=DATE:20190322
DTEND;VALUE=DATE:20190325
DTSTAMP:20260424T154542
CREATED:20190308T124258Z
LAST-MODIFIED:20190308T124258Z
UID:23185-1553212800-1553471999@cronachedibirra.it
SUMMARY:Drunken Fruit Beer Festival 2019
DESCRIPTION:Si terrà da venerdì 22 a domenica 24 marzo negli spazi di Villa Barchessa Forall a Quinto Vicentino (VI) l’edizione 2019 del festival italiano dedicato alla birra con frutta. Stiamo ovviamente parlando del Drunken Fruit Beer Festival organizzato da The Drunken Duck\, al quale parteciperanno i seguenti birrifici italiani e stranieri: Barley\, Cantillon\, LoverBeer\, Extraomnes\, Bionoc\, Ca’ del Brado\, Lariano\, Almond’ 22\, HaandBryggeriet\, Verzet\, Croce di Malto\, Owa Brewery\, Vibrant Forest\, Ofelia e Birrificio Lambrate. Molto ricco il programma e ovviamente a tema\, con laboratori di approfondimento sull’uso di specifici frutti\, concorso hb\, giochi per grandi e piccini\, musica dal vivo e altro ancora. In contemporanea alla manifestazione il locale organizzante resterà regolarmente aperto\, con spine in linea con il festival. Maggiori informazioni sono disponibili su Facebook.
URL:https://cronachedibirra.it/evento/drunken-fruit-beer-festival-2019/
LOCATION:Villa Barchessa Forall\, Via Fabio Filzi 36\, Quinto Vicentino\, VI\, Italia
CATEGORIES:Manifestazioni
ATTACH;FMTTYPE=image/jpeg:https://cdn1.cronachedibirra.it/wp-content/uploads/20200203094419/drunken-fruit-1.jpg
END:VEVENT
BEGIN:VEVENT
DTSTART;VALUE=DATE:20190323
DTEND;VALUE=DATE:20190325
DTSTAMP:20260424T154542
CREATED:20190308T125347Z
LAST-MODIFIED:20190308T125347Z
UID:23189-1553299200-1553471999@cronachedibirra.it
SUMMARY:Birralp 2019
DESCRIPTION:Secondo appuntamento annuale con Birralp\, l’iniziativa che unisce la passione della montagna con quella per la birra. Dopo il weekend di fine febbraio\, la manifestazione tornerà sabato 23 e domenica 24 marzo con una formula praticamente identica. Confermata la location (Rifugio Nicola di Piani di Artavaggio\, in provincia di Lecco) e ovviamente confermate le birre del Birrificio Italiano\, partner di Birralp da sempre. Il programma prevede una degustazione libera con accostamenti a piatti tipici sia nella giornata di sabato che di domenica\, ma il primo giorno si terrà anche una cena guidata con abbinamenti. Domenica invece è prevista musica dal vivo. Ottima la possibilità di dormire nella struttura. Maggiori informazioni sono disponibili sulla pagina Facebook dell’iniziativa.
URL:https://cronachedibirra.it/evento/birralp-2019-2/
LOCATION:Rifugio Nicola
CATEGORIES:Iniziative
ATTACH;FMTTYPE=image/jpeg:https://cdn1.cronachedibirra.it/wp-content/uploads/20200203094445/birralp-2.jpg
END:VEVENT
BEGIN:VEVENT
DTSTART;VALUE=DATE:20190327
DTEND;VALUE=DATE:20190329
DTSTAMP:20260424T154542
CREATED:20190308T141417Z
LAST-MODIFIED:20190308T141417Z
UID:23194-1553644800-1553817599@cronachedibirra.it
SUMMARY:Craft Beer Italy 2019
DESCRIPTION:Dopo il fortunato debutto di fine 2017 torna a Milano l’evento B2B per i microbirrifici denominato Craft Beer Italy\, conferenza e mostra per tecnologie\, materie prime e marketing. Cambia la location\, più grande rispetto a quella della prima edizione: la manifestazione si sposta infatti al prestigioso Mico Lab (Fiera Milano Congressi) e si terrà nei giorni di mercoledì 27 e giovedì 28 marzo. Confermata invece la formula\, che si configura come un dinamico mix tra una parte formativa e una espositiva\, arricchito da tanti approfondimenti collaterali. Nei due giorni di manifestazione si terranno oltre 30 seminari sugli argomenti più disparati\, ma sempre con un taglio molto tecnico. Si parlerà di materie prime\, confezionamento\, analisi sensoriale\, stato del mercato\, controllo qualità\, fermentazione\, etichettatura e tanto altro ancora. Per quanto riguarda gli espositori\, invece\, saranno presenti decine di aziende che operano al servizio dei birrifici\, come VDGlass\, Easybrau-Velo\, Cimec\, GAI\, Lallemand\, Weyermann e decine di altre ancora. Non mancheranno sessioni di assaggio\, la premiazione del concorso Best Craft Beer Label\, approfondimenti sull’homebrewing\, dimostrazioni dal vivo e pub crawling. Evento caldamente consigliato ai birrifici e a tutti gli operatori del settore\, di cui trovate ulteriori dettagli sul relativo sito web. \n \nDi seguito il programma dettagliato degli appuntamenti previsti dalla manifestazione\, disponibile anche in pdf:
URL:https://cronachedibirra.it/evento/craft-beer-italy-2019/
LOCATION:MiCo Lab\, Piazzale Carlo Magno\, Milano\, MI\, 20146\, Italia
CATEGORIES:Manifestazioni
ATTACH;FMTTYPE=image/jpeg:https://cdn1.cronachedibirra.it/wp-content/uploads/20200203094419/CB_ITALY2019_Logo_dreizeilig_farbig_positiv_CMYK_5cm.jpg
END:VEVENT
BEGIN:VEVENT
DTSTART;VALUE=DATE:20190328
DTEND;VALUE=DATE:20190401
DTSTAMP:20260424T154542
CREATED:20190315T133601Z
LAST-MODIFIED:20190315T140412Z
UID:23262-1553731200-1554076799@cronachedibirra.it
SUMMARY:Lombardia Beer Fest 2019
DESCRIPTION:Ancora un appuntamento targato Lombardia Beer Fest quello che si terrà da giovedì 28 a domenica 31 marzo\, come sempre a Piazza Città di Lombardia a Milano. Saranno presenti i birrifici Stradaregina\, La Buttiga\, Esubeerante\, Lambrate\, Agricola80\, Birrificio di Cagliari\, Birra Perugia\, Croce di Malto\, La Ribalta\, Oltremondo\, The Brave\, Wackybrew\, La Cruda\, Bosco Grosso e Argo. Come sempre la parte gastronomica sarà coperta da diversi food truck\, mentre non mancheranno workshop e degustazioni\, concorso interno e tanta musica dal vivo. Per saperne di più vi suggerisco di consultare il sito dell’evento.
URL:https://cronachedibirra.it/evento/lombardia-beer-fest-2019/
LOCATION:Piazza Città di Lombardia\, Piazza Città di Lombardia\, Milano\, MI\, 20124\, Italia
CATEGORIES:Manifestazioni
ATTACH;FMTTYPE=image/jpeg:https://cdn1.cronachedibirra.it/wp-content/uploads/20200203094723/lombardia.jpg
END:VEVENT
BEGIN:VEVENT
DTSTART;VALUE=DATE:20190329
DTEND;VALUE=DATE:20190401
DTSTAMP:20260424T154542
CREATED:20190315T132737Z
LAST-MODIFIED:20190315T132746Z
UID:23258-1553817600-1554076799@cronachedibirra.it
SUMMARY:Sourest 2019
DESCRIPTION:Dopo l’ottimo riscontro della prima edizione\, da venerdì 29 a domenica 31 marzo torna l’appuntamento con Sourest\, il festival dedicato alle birre acide organizzato da Artisan e Birra+ di Roma. I numeri raccontano di circa 40 birre a rotazione su un totale di 26 spine\, chiaramente suddivise tra i due locali. Le produzioni sono state divise in tre macroaree (USA\, Europa e Italia)\, a rappresentanza di birrifici come Crooked Stave\, Cascade\, Monkish\, The Bruery\, Prairie\, Boon\, Cantillon\, Kernel\, La Calaversa\, Mad Yeast\, Tilquin e molti altri. A latere un programma ricco di iniziative\, come la degustazione di Bokkereyeder con il proprietario dell’azienda\, bottleshop tematico con mescita dalla bottiglia\, Lambic corner\, selezione di vini naturali a fermentazione spontanea\, pranzo domenicale\, food corner e servizio navetta gratuito tra i due locali. Aggiornamenti e maggiori informazioni sono disponibili su Facebook.
URL:https://cronachedibirra.it/evento/sourest-2019/
LOCATION:Artisan e Birra +\, Roma\, RM\, 00182\, Italia
CATEGORIES:Iniziative
ATTACH;FMTTYPE=image/jpeg:https://cdn1.cronachedibirra.it/wp-content/uploads/20200203094413/sourest.jpg
END:VEVENT
BEGIN:VEVENT
DTSTART;VALUE=DATE:20190329
DTEND;VALUE=DATE:20190401
DTSTAMP:20260424T154542
CREATED:20190315T134714Z
LAST-MODIFIED:20190322T134055Z
UID:23264-1553817600-1554076799@cronachedibirra.it
SUMMARY:Mastro Birraio 2019 - Birrifici italiani
DESCRIPTION:Giunge alla sua ottava edizione la fiera Mastro Birraio\, in programma come sempre a Santa Lucia di Piave (TV). Confermata la formula della manifestazione\, “spalmata” su tre weekend consecutivi e ognuno dei quali dedicati a un tema particolare. Il primo\, da venerdì 29 a domenica 31 marzo\, sarà incentrato sui birrifici italiani\, con un elenco di espositori formati da Malaspina\, La Gramigna\, Biren\, Baladin\, Lariano\, Erland\, Beer In\, Birrificio degli Ostuni\, Darf\, La Diana\, Montone\, San Biagio\, Dr. Barbanera\, La Gilda dei Nani Birrai\, Brasseria Alpina\, Retorto\, L’Inconsueto\, Jeb\, Chianti Brew Fighters e Trami. Come di consueto il programma prevede un’ampia selezione di street food e dolci\, incontri per homebrewer\, seminari e degustazioni\, convegno sul luppolo e tantissima musica dal vivo. Maggiori informazioni sono disponibili sul sito di Mastro Birraio.
URL:https://cronachedibirra.it/evento/mastro-birraio-2019-birrifici-italiani/
LOCATION:Santa Lucia di Piave\, Santa Lucia di Piave\, TV\, Italia
CATEGORIES:Manifestazioni
ATTACH;FMTTYPE=image/jpeg:https://cdn1.cronachedibirra.it/wp-content/uploads/20200203094413/masdtro-birraio.jpg
END:VEVENT
BEGIN:VEVENT
DTSTART;VALUE=DATE:20190329
DTEND;VALUE=DATE:20190401
DTSTAMP:20260424T154542
CREATED:20190322T124829Z
LAST-MODIFIED:20190322T134113Z
UID:23310-1553817600-1554076799@cronachedibirra.it
SUMMARY:Hoppiness - Dalla terra alla birra
DESCRIPTION:Tre giorni dedicati alle birre artigianali\, alla cucina del territorio\, a incontri e degustazioni. È con queste premesse che si presenta il festival Hoppiness\, evento al suo debutto che si terrà da venerdì 29 a domenica 31 marzo presso il Movicentro di Bra (CN). Come il sottotitolo dell’iniziativa suggerisce\, il tema principale è l’associazione tra la birra e la terra. La selezione dei birrifici partecipanti\, ad esempio\, è incentrata su produttori agricoli o che hanno a che fare con quel mondo: Baladin\, Birra Carrù\, Birra Fré\, 2 Sorelle\, Sagrin\, San Gimignano\, Podere La Berta\, Kauss\, Birrificio Castagnero e StaBrau. Anche la parte gastronomica ruoterà intorno ai prodotti del territorio\, con succulenti panini\, piadine\, taglieri e gelati di montagna. Straordinariamente ricco il programma di incontri\, con laboratori sensoriali\, confronti birra vs vino\, abbinamenti gastronomici\, approfondimenti sulle materie prime e altro ancora. Tra gli appuntamenti collaterali anche la presentazione del libro Dieci anni di Cronache di Birra\, in programma venerdì 29 alle 19\,00. Per tutti i dettagli e per prenotarsi ai laboratori potete consultare il sito di Food Around. Chiaramente ci vediamo lì.
URL:https://cronachedibirra.it/evento/hoppiness-dalla-terra-alla-birra/
LOCATION:Movicentro – Bra\, Via Trento e Trieste 6\, Bra\, CN\, 12042\, Italia
CATEGORIES:Manifestazioni
ATTACH;FMTTYPE=image/jpeg:https://cdn1.cronachedibirra.it/wp-content/uploads/20200203094406/hoppiness.jpg
END:VEVENT
END:VCALENDAR