BEGIN:VCALENDAR
VERSION:2.0
PRODID:-//Cronache di Birra - ECPv6.15.20//NONSGML v1.0//EN
CALSCALE:GREGORIAN
METHOD:PUBLISH
X-WR-CALNAME:Cronache di Birra
X-ORIGINAL-URL:https://cronachedibirra.it
X-WR-CALDESC:Eventi per Cronache di Birra
REFRESH-INTERVAL;VALUE=DURATION:PT1H
X-Robots-Tag:noindex
X-PUBLISHED-TTL:PT1H
BEGIN:VTIMEZONE
TZID:Europe/Rome
BEGIN:DAYLIGHT
TZOFFSETFROM:+0100
TZOFFSETTO:+0200
TZNAME:CEST
DTSTART:20180325T010000
END:DAYLIGHT
BEGIN:STANDARD
TZOFFSETFROM:+0200
TZOFFSETTO:+0100
TZNAME:CET
DTSTART:20181028T010000
END:STANDARD
BEGIN:DAYLIGHT
TZOFFSETFROM:+0100
TZOFFSETTO:+0200
TZNAME:CEST
DTSTART:20190331T010000
END:DAYLIGHT
BEGIN:STANDARD
TZOFFSETFROM:+0200
TZOFFSETTO:+0100
TZNAME:CET
DTSTART:20191027T010000
END:STANDARD
BEGIN:DAYLIGHT
TZOFFSETFROM:+0100
TZOFFSETTO:+0200
TZNAME:CEST
DTSTART:20200329T010000
END:DAYLIGHT
BEGIN:STANDARD
TZOFFSETFROM:+0200
TZOFFSETTO:+0100
TZNAME:CET
DTSTART:20201025T010000
END:STANDARD
END:VTIMEZONE
BEGIN:VEVENT
DTSTART;VALUE=DATE:20190201
DTEND;VALUE=DATE:20190203
DTSTAMP:20260424T172606
CREATED:20190118T143410Z
LAST-MODIFIED:20190201T150803Z
UID:22662-1548979200-1549151999@cronachedibirra.it
SUMMARY:La Notte delle Botti 2019
DESCRIPTION:Giunge alla sesta edizione La Notte delle Botti\, il festival dedicato esclusivamente alle produzioni affinate in legno. Venerdì 1 e sabato 2 febbraio presso i Dock’s Dora di Torino i riflettori saranno puntati sulle birre di nove birrifici provenienti dall’Italia e dal Belgio: Elav\, Klanbarrique-Birrificio Italiano\, Filodilana\, Draco’s Cave\, Piccolo Birrificio Clandestino\, Hof Ten Dormaal\, De Ranke\, Alvinne e Belgoo. Il programma prevede area gastronomica con food truck\, cena piemontese con abbinamenti\, percorsi di degustazione e tante altre iniziative. Per i dettagli e ulteriori aggiornamenti potete fare riferimento alla pagina Facebook dell’evento.
URL:https://cronachedibirra.it/evento/la-notte-delle-botti-2019/
LOCATION:Docks Dora\, Via Valprato 68\, Torino\, TO\, Italia
CATEGORIES:Manifestazioni
ATTACH;FMTTYPE=image/jpeg:https://cdn1.cronachedibirra.it/wp-content/uploads/20200203094511/notte-botti-2.jpg
END:VEVENT
BEGIN:VEVENT
DTSTART;VALUE=DATE:20190201
DTEND;VALUE=DATE:20190204
DTSTAMP:20260424T172606
CREATED:20190125T140521Z
LAST-MODIFIED:20190125T140521Z
UID:22766-1548979200-1549238399@cronachedibirra.it
SUMMARY:Brixia Beer Festival 2019
DESCRIPTION:Giunge alla sua terza edizione il Brixia Beer Festival\, manifestazione in programma da venerdì 1 a domenica 3 febbraio negli splendidi spazi di Villa Mazzucchelli a Mazzano (BS). I birrifici partecipanti saranno 13: Carpe Diem\, Darf\, Bachground\, Magis\, Caulier\, La Spezia Brewing\, L’Inconsueto\, Herba Monstrum\, Jeb\, Double Bear\, Esubeerante\, Monte Baldo e Km8. Ampia la selezione di cibo da strada grazie alla presenza di diversi food truck\, mentre non mancherà un’area bimbi\, musica dal vivo e visite guidate al Museo della Moda e del Costume e al Museo del Vino e del Cavatappi. Ulteriori informazioni sono disponibili sulla pagina Facebook dell’evento.
URL:https://cronachedibirra.it/evento/brixia-beer-festival-2019/
LOCATION:Villa Mazzucchelli\, Via G.Mazzucchelli\, 2\, Ciliverghe di Mazzano\, BS\, Italia
CATEGORIES:Manifestazioni
ATTACH;FMTTYPE=image/jpeg:https://cdn1.cronachedibirra.it/wp-content/uploads/20200203094501/brixia.jpg
END:VEVENT
BEGIN:VEVENT
DTSTART;TZID=Europe/Rome:20190201T080000
DTEND;TZID=Europe/Rome:20190203T170000
DTSTAMP:20260424T172606
CREATED:20190118T142202Z
LAST-MODIFIED:20190118T142202Z
UID:22660-1549008000-1549213200@cronachedibirra.it
SUMMARY:Le Birre della Merla 2019
DESCRIPTION:Si terrà da venerdì 1 a domenica 3 febbraio lo storico evento birrario dedicato a chi non teme il freddo: stiamo parlando ovviamente delle Birre della Merla\, organizzato dal Birrificio Montegioco presso la Cascina Capanna di Montegioco (AL)\, per l’appunto. Oltre alle birre della casa\, saranno presenti quelle dei birrifici ospiti Orso Verde\, Maltus Faber\, Croce di Malto e Bi-Du\, oltre alla selezione di Tasso Alcolico. Per quanto riguarda il programma di questa dodicesima edizione aspettatevi quanto già sperimentato in passato: musica dal vivo\, lavoratori di degustazione\, cucina rurale per tutti i gusti e tanto divertimento. Per gli aggiornamenti vi consiglio di seguire la pagina Facebook dell’evento.
URL:https://cronachedibirra.it/evento/le-birre-della-merla-2019/
LOCATION:Cascina Capanna\, Montegioco\, AL\, Italia
CATEGORIES:Iniziative
ATTACH;FMTTYPE=image/jpeg:https://cdn1.cronachedibirra.it/wp-content/uploads/20200131172117/birre-merla-1.jpg
END:VEVENT
BEGIN:VEVENT
DTSTART;VALUE=DATE:20190203
DTEND;VALUE=DATE:20190207
DTSTAMP:20260424T172606
CREATED:20190118T141339Z
LAST-MODIFIED:20190118T141339Z
UID:22656-1549152000-1549497599@cronachedibirra.it
SUMMARY:Solobirra 2019
DESCRIPTION:Si chiama Solobirra il nuovo progetto dedicato alla birra in programma da domenica 3 a mercoledì 6 febbraio e sviluppato all’interno della fiera Expo Riva Hotel\, ospitata negli spazi di Fierecongressi di Riva del Garda (TN). Il programma prevede un fitto calendario di seminari\, degustazioni e presentazioni\, con – tra gli altri – relatori come Teo Musso e Agostino Arioli. Inoltre sono previsti due concorsi tecnici: uno dedicato alla migliore birra artigianale (quarta edizione\, 253 prodotti partecipanti) e l’altro alla migliore etichetta. Chiaramente non mancherà una parte espositiva\, con la presenza di microbirrifici italiani e stranieri. Per ulteriori informazioni potete consultare il sito di Expo Riva Hotel.
URL:https://cronachedibirra.it/evento/solobirra-2019/
LOCATION:Fierecongressi\, Via Baltera\, 20\, Riva del Garda\, TN\, Italia
CATEGORIES:Manifestazioni
ATTACH;FMTTYPE=image/jpeg:https://cdn1.cronachedibirra.it/wp-content/uploads/20200203094511/SoloBirra-Trentino-Birra-e1547820794793.jpg
END:VEVENT
BEGIN:VEVENT
DTSTART;VALUE=DATE:20190214
DTEND;VALUE=DATE:20190215
DTSTAMP:20260424T172606
CREATED:20190201T152642Z
LAST-MODIFIED:20190201T152642Z
UID:22870-1550102400-1550188799@cronachedibirra.it
SUMMARY:VI Anniversario Cerevisia Vetus
DESCRIPTION:Si terrà giovedì 14 febbraio la festa per il sesto anniversario di Cerevisia Vetus\, ovviamente presso il locale di Ceccano\, in provincia di Frosinone. Sarà l’occasione per svelare gli elementi che caratterizzeranno il nuovo corso della “locanda birraria” e l’avviamento del birrificio artigianale a marchio. Durante la giornata saranno presenti le birre della casa (realizzate come beer firm) e quelle dei produttori amici: Kashmir\, Eureka\, Deep Beer\, Sancti Benedicti e Chimera. Il programma prevede buffet gratuito e dj set per tutta la serata. Aggiornamenti e ulteriori informazioni sono disponibili sulla pagina Facebook dell’evento.
URL:https://cronachedibirra.it/evento/vi-anniversario-cerevisia-vetus/
LOCATION:Cerevisia Vetus
CATEGORIES:Iniziative
ATTACH;FMTTYPE=image/jpeg:https://cdn1.cronachedibirra.it/wp-content/uploads/20200203094452/50601072_2313151625364784_3816513217740406784_n.jpg
END:VEVENT
BEGIN:VEVENT
DTSTART;VALUE=DATE:20190215
DTEND;VALUE=DATE:20190216
DTSTAMP:20260424T172606
CREATED:20190208T143402Z
LAST-MODIFIED:20190208T143402Z
UID:22949-1550188800-1550275199@cronachedibirra.it
SUMMARY:Cinque anni di Diorama
DESCRIPTION:Il Diorama è senza dubbio uno dei locali di birra artigianale più importanti di Firenze\, quindi è giusto segnalare il suo quinto compleanno che si festeggerà venerdì 15 febbraio. Tantissimi gli amici coinvolti nell’evento: il Bere Buona Birra di Milano\, il birrificio Brùton di Lucca\, Brasseria della Fonte da Pienza\, il birrificio Hilltop da Bassano Romano e infine da Roma il Macche\, Hey Hop Garbatella e il birrificio Jungle Juice. Sarà un evento celebrativo e goliardico\, con un buffet dolce e salato per rifocillarsi tra una birra e l’altra. Per ulteriori informazioni e aggiornamenti vi consiglio di seguire la pagina Facebook dell’evento.
URL:https://cronachedibirra.it/evento/cinque-anni-di-diorama/
LOCATION:Diorama\, Via Pisana 78r\, Firenze\, FI\, 50143\, Italy
CATEGORIES:Iniziative
ATTACH;FMTTYPE=image/jpeg:https://cdn1.cronachedibirra.it/wp-content/uploads/20200203094445/diorama-1.jpg
END:VEVENT
BEGIN:VEVENT
DTSTART;VALUE=DATE:20190216
DTEND;VALUE=DATE:20190220
DTSTAMP:20260424T172606
CREATED:20190201T150458Z
LAST-MODIFIED:20190204T090758Z
UID:22863-1550275200-1550620799@cronachedibirra.it
SUMMARY:Beer Attraction 2019
DESCRIPTION:Beer Attraction è da sempre uno degli appuntamenti birrari più attesi d’inizio anno. Anche questa volta la cornice sarà quella di Rimini Fiera\, dove\, da sabato 16 a martedì 19 febbraio\, si ritroveranno gli operatori del settore birrario e dei mercati ad esso collegati. Come accaduto nelle ultime edizioni\, i riflettori saranno puntati soprattutto sui birrifici artigianali\, presenti in massa: BAV\, Baladin\, Biren\, 100Venti\, Amiata\, Costa Est\, Birra dell’Elba\, Birra dell’Eremo\, Elvo\, Flea\, Birra Gaia\, Garlatti Costa\, Losa\, Mastino\, Mezzavia\, Muttnik\, Birra Perugia\, Birra Salento\, Godog\, Dottor Barbanera\, Aufugum\, La Tresca\, Birrificio 5\, 61cento\, J63\, La Stecciaia\, Altotevere\, Alveria\, Amerino\, Antoniano\, Apuano\, I Peuceti\, La Villana\, Leder\, B94\, Barbaforte\, Basei\, Beer In\, Bionoc\, Birracruda\, Birranova\, Bradipongo\, Bruno Ribadi\, Bruton\, Busa dei Briganti\, Carpe Diem\, Chinaschi\, Cittavecchia\, Claterna\, Couture\, Birrificio dei Castelli\, Birrificio del Catria\, Birrificio del Forte\, Birrificio dell’Etna\, Birrificio della Granda\, Birrificio di Legnano\, El Issor\, Epica\, Foglie d’Erba\, Fortebraccio\, Forum Iulii\, Gjulia\, Hop Skin\, Il Conte Gelo\, Birrificio Italiano\, Karma\, La Birrofila\, Casa di Cura\, La Ribalta\, Lambrate\, Lariano\, Le Fate\, Legnone\, Manerba\, Manto Bianco\, Math\, Mazapegul\, Menaresta\, Mezzopasso\, Otus\, Porta Bruciata\, Rurale\, Sagrin\, San Gimignano\, BSA\, Birrificio Settimo\, Via Priula\, War\, Birrone\, Brew Gruff\, Tenute Collesi\, Hordeum\, Mastri Birrai Umbri\, Birrificio di Cagliari\, Gilda dei Nani Birrai\, Ebers\, Opperbacco\, Okorei\, Oldo\, P3 Brewing\, PBC\, Premiata Birra Palermo\, Pontino\, Retorto\, San Gabriel e altri ancora. Ad essi come sempre si aggiungeranno distributori\, importatori\, ecc. \nTantissimi gli appuntamenti previsti durante la fiera\, tra cui il riconoscimento che assegnerà l’associazione Le Donne della Birra alle publican italiane e ovviamente la premiazione di Birra dell’anno di Unionbirrai\, il più importante concorso birrario d’Italia i cui risultati saranno svelati sabato pomeriggio. Ricca anche la zona dedicata ai fornitori e alle altre aziende operanti nella filiera. Tutte le informazioni sono disponibili sul sito di Beer Attraction. Chiaramente ci vedremo lì.
URL:https://cronachedibirra.it/evento/beer-attraction-2019/
LOCATION:Rimini Fiera\, Via Emilia 155\, Rimini\, RN\, 47921\, Italy
CATEGORIES:Manifestazioni
ATTACH;FMTTYPE=image/jpeg:https://cdn1.cronachedibirra.it/wp-content/uploads/20200203094453/beer-attraction.jpeg
END:VEVENT
BEGIN:VEVENT
DTSTART;VALUE=DATE:20190221
DTEND;VALUE=DATE:20190222
DTSTAMP:20260424T172606
CREATED:20190208T141819Z
LAST-MODIFIED:20190208T141819Z
UID:22942-1550707200-1550793599@cronachedibirra.it
SUMMARY:San Lorenzo resiste: presentazione Aben Brewery
DESCRIPTION:Difficilmente nelle panoramiche sugli eventi birrari dedichiamo spazio alle “semplici” presentazioni di nuovi birrifici\, ma questa volta facciamo uno strappo alla regola per un motivo ben preciso. Giovedì 21 febbraio i locali capitolini Luppolo 12 e Artisan proporranno\, per la prima volta in Italia\, le birre del giovane produttore danese Aben\, specializzato in Hazy IPA. L’iniziativa però avrà anche uno scopo secondario\, quello cioè di sensibilizzare l’opinione pubblica sulle difficoltà che stanno vivendo i locali di qualità – ahimè pochissimi – operanti nel quartiere di San Lorenzo. L’incomprensibile e restrittiva ordinanza anti alcol che è stata approvata dopo i tristemente famosi eventi di cronaca nera\, infatti\, rappresenta l’unica risposta che le istituzioni sono state in grado di dare per (non) cercare di risolvere un problema che invece affonda le sue radici nella piccola criminalità organizzata\, nel degrado urbano e nella mala gestione che da anni contraddistinguono la zona. Gli effetti sono però controproducenti\, perché vanno a quasi esclusivo detrimento delle attività di qualità\, che al momento incarnano l’unica speranza per risollevare le sorti di un quartiere lasciato sempre più alla deriva. Dunque oltre ad assaggiare birre mai proposte prima in Italia\, l’evento sarà anche un modo per sostenere i due locali di Roma in un momento molto delicato per il territorio in cui operano quotidianamente. Maggiori informazioni sono disponibili su Facebook. \n 
URL:https://cronachedibirra.it/evento/san-lorenzo-resiste-presentazione-aben-brewery/
LOCATION:San Lorenzo – Roma\, Roma\, RM\, 00186\, Italy
CATEGORIES:Degustazioni
ATTACH;FMTTYPE=image/jpeg:https://cdn1.cronachedibirra.it/wp-content/uploads/20200203094445/51202435_2190898811175533_8287447067614248960_n.jpg
END:VEVENT
BEGIN:VEVENT
DTSTART;VALUE=DATE:20190223
DTEND;VALUE=DATE:20190225
DTSTAMP:20260424T172606
CREATED:20190208T142627Z
LAST-MODIFIED:20190208T142627Z
UID:22946-1550880000-1551052799@cronachedibirra.it
SUMMARY:BirrAlp 2019
DESCRIPTION:Giunge addirittura alla sua tredicesima edizione l’evento BirrAlp\, che unisce l’amore per la birra con quello per l’alta montagna. Come sempre si terrà presso il Rifugio Nicola di Piani di Artavaggio (Valsassina)\, raggiungibile da Moggio (LC)\, nei giorni di sabato 23 e domenica 24 febbraio. Protagoniste saranno le birre del Birrificio Italiano: sia sabato che domenica si terrà una degustazione libera con accostamenti a piatti tipici\, ma il primo giorno è prevista anche una cena guidata con abbinamenti. Domenica invece è prevista musica dal vivo. Molti apprezzeranno la possibilità di dormire nella struttura. Maggiori informazioni sono disponibili sulla pagina Facebook dell’iniziativa.
URL:https://cronachedibirra.it/evento/birralp-2019/
LOCATION:Rifugio Nicola
CATEGORIES:Iniziative
ATTACH;FMTTYPE=image/jpeg:https://cdn1.cronachedibirra.it/wp-content/uploads/20200203094445/birralp-2.jpg
END:VEVENT
END:VCALENDAR