BEGIN:VCALENDAR
VERSION:2.0
PRODID:-//Cronache di Birra - ECPv6.15.20//NONSGML v1.0//EN
CALSCALE:GREGORIAN
METHOD:PUBLISH
X-WR-CALNAME:Cronache di Birra
X-ORIGINAL-URL:https://cronachedibirra.it
X-WR-CALDESC:Eventi per Cronache di Birra
REFRESH-INTERVAL;VALUE=DURATION:PT1H
X-Robots-Tag:noindex
X-PUBLISHED-TTL:PT1H
BEGIN:VTIMEZONE
TZID:Europe/Rome
BEGIN:DAYLIGHT
TZOFFSETFROM:+0100
TZOFFSETTO:+0200
TZNAME:CEST
DTSTART:20170326T010000
END:DAYLIGHT
BEGIN:STANDARD
TZOFFSETFROM:+0200
TZOFFSETTO:+0100
TZNAME:CET
DTSTART:20171029T010000
END:STANDARD
BEGIN:DAYLIGHT
TZOFFSETFROM:+0100
TZOFFSETTO:+0200
TZNAME:CEST
DTSTART:20180325T010000
END:DAYLIGHT
BEGIN:STANDARD
TZOFFSETFROM:+0200
TZOFFSETTO:+0100
TZNAME:CET
DTSTART:20181028T010000
END:STANDARD
BEGIN:DAYLIGHT
TZOFFSETFROM:+0100
TZOFFSETTO:+0200
TZNAME:CEST
DTSTART:20190331T010000
END:DAYLIGHT
BEGIN:STANDARD
TZOFFSETFROM:+0200
TZOFFSETTO:+0100
TZNAME:CET
DTSTART:20191027T010000
END:STANDARD
END:VTIMEZONE
BEGIN:VEVENT
DTSTART;VALUE=DATE:20181130
DTEND;VALUE=DATE:20181203
DTSTAMP:20260425T015522
CREATED:20181116T134527Z
LAST-MODIFIED:20181116T134527Z
UID:22063-1543536000-1543795199@cronachedibirra.it
SUMMARY:Le Bire de Nadal 2018
DESCRIPTION:Le Bire de Nadal è uno degli eventi storici italiani dedicati alle birre di Natale e quest’anno tornerà da venerdì 30 novembre a lunedì 2 dicembre. Cambierà però la sede: non più il The Dome di Nembro\, ma la leggendaria Abbazia di Sherwood di Caprino Bergamasco (BG). Per il resto però sarà mantenuta la formula di sempre\, con la possibilità di assaggiare una miriade di birre natalizie e non solo: ci saranno anche rarità\, etichette vintage\, produzioni particolari e birre più “normali”. Il programma sarà molto allettante per gli homebrewer\, con la finale del Campionato Nazionale di MoBI e il concorso a tema organizzato dal locale. Come sempre grande attenzione sarà riposta alla parte gastronomica. Per tutti gli aggiornamenti vi consiglio di collegarvi alla pagina Facebook dell’iniziativa.
URL:https://cronachedibirra.it/evento/le-bire-de-nadal-2018/
LOCATION:Abbazia di Sherwood
CATEGORIES:Iniziative
ATTACH;FMTTYPE=image/png:https://cdn1.cronachedibirra.it/wp-content/uploads/20200203094638/bire-nadal.png
END:VEVENT
BEGIN:VEVENT
DTSTART;VALUE=DATE:20181130
DTEND;VALUE=DATE:20181203
DTSTAMP:20260425T015522
CREATED:20181116T135708Z
LAST-MODIFIED:20181116T142224Z
UID:22066-1543536000-1543795199@cronachedibirra.it
SUMMARY:Jingle Beers 2018
DESCRIPTION:Si terrà da venerdì 30 novembre a domenica 2 dicembre l’edizione 2018 di Jingle Beers\, la manifestazione dedicata alle birre natalizie (e non solo) del Piccolo Birrificio Clandestino. Presso la sede di via Nicolodi a Livorno\, si susseguiranno per tre giorni consecutivi produzioni dedicate al Natale e all’inverno in generale\, prodotte dal birrificio e da tante altre aziende italiane. Il programma sarà come sempre molto fitto\, con laboratori di degustazione\, visite agli impianti produttivi\, musica dal vivo e street food a volontà. Sabato sera non mancherà una cena con degustazioni. Per tutti gli aggiornamenti potete seguire la pagina dell’evento su Facebook.
URL:https://cronachedibirra.it/evento/jingle-beers-2018/
LOCATION:Birrificio Clandestino\, Via Aurelio Nicolodi 40\, Livorno\, LI\, 57122
CATEGORIES:Iniziative
ATTACH;FMTTYPE=image/jpeg:https://cdn1.cronachedibirra.it/wp-content/uploads/20200203094637/jingle-beers-2.jpg
END:VEVENT
BEGIN:VEVENT
DTSTART;VALUE=DATE:20181201
DTEND;VALUE=DATE:20181210
DTSTAMP:20260425T015522
CREATED:20181123T140241Z
LAST-MODIFIED:20181123T140241Z
UID:22135-1543622400-1544399999@cronachedibirra.it
SUMMARY:Artigiano in Fiera 2019
DESCRIPTION:Ci sarà ampio spazio per la birra artigianale anche nell’edizione 2019 di Artigiano in Fiera\, storica manifestazione di Milano che andrà in scena presso Fieramilano da sabato 1 a domenica 9 dicembre. Saranno presenti i birrifici Retorto\, Iris\, Vapori di Birra\, Birrificio di Legnano\, I Due Mastri\, Iriense\, Birrificio Italiano\, Birrificio Occupato\, Svevo\, Gruit\, Flea\, 20100\, Revertis\, Abba\, Caulier\, Zanza Brew\, Bad Guy\, Teddybier\, Jeb e Birrificio del Gargano\, oltre alle selezioni dei distributori Ales & Co.\, Beer & Beard e Beer & Bier. Per tutte le informazioni sull’evento potete consultare il sito di Artigiano in Fiera.
URL:https://cronachedibirra.it/evento/artigiano-in-fiera-2019/
LOCATION:Fieramilano\, Via del Sempione 28\, Rho\, MI\, Italia
CATEGORIES:Manifestazioni
ATTACH;FMTTYPE=image/jpeg:https://cdn1.cronachedibirra.it/wp-content/uploads/20200203094625/artigiano-fiera.jpg
END:VEVENT
BEGIN:VEVENT
DTSTART;VALUE=DATE:20181206
DTEND;VALUE=DATE:20181211
DTSTAMP:20260425T015522
CREATED:20181130T141916Z
LAST-MODIFIED:20181203T120841Z
UID:22224-1544054400-1544486399@cronachedibirra.it
SUMMARY:Franconia Bier Festival
DESCRIPTION:Nel periodo in cui nel resto d’Italia impazzano gli eventi birrari dedicati al Natale\, da quattro anni la Scurreria di Genova organizza il Franconia Bier Festival\, la rassegna dedicata alle birre della piccola regione bavarese. Per cinque giorni consecutivi\, da giovedì 6 a lunedì 10 dicembre\, si potranno assaggiare le tradizionali perle brassicole della zona\, attentamente selezionate dopo un tour tra i birrifici della regione. La selezione proporrà grandi classici ma anche alcune interessanti novità\, il tutto proposto al massimo della freschezza. Non mancherà cucina tipica francone ad accompagnare gli assaggi. Per dettagli e aggiornamenti potete fare riferimento a Facebook.
URL:https://cronachedibirra.it/evento/franconia-bier-festival/
LOCATION:Scurreria\, Via di Scurreria 22r\, Genova\, GE\, 16123\, Italia
CATEGORIES:Iniziative
ATTACH;FMTTYPE=image/png:https://cdn1.cronachedibirra.it/wp-content/uploads/20200203094608/franconia.png
END:VEVENT
BEGIN:VEVENT
DTSTART;VALUE=DATE:20181207
DTEND;VALUE=DATE:20181210
DTSTAMP:20260425T015522
CREATED:20181130T141948Z
LAST-MODIFIED:20181130T141948Z
UID:22230-1544140800-1544399999@cronachedibirra.it
SUMMARY:Birre vive sotto la Torre - Christmas Edition 2018
DESCRIPTION:Tra le storiche manifestazioni italiane dedicate al Natale va inserita l’edizione invernale di Birre vive sotto la Torre\, che quest’anno si terrà da venerdì 7 a domenica 9 dicembre\, come sempre nei suggestivi spazi della Cavallerizza del Castello Sforzesco di Vigevano (PV). I birrifici presenti saranno Stradaregina\, Conte Gelo\, Birrificio Castagnero\, Otus\, Barba d’Oro\, Croce di Malto e le selezioni straniere di Beerinba e Hoplab. Il programma prevede 4 postazioni con street food\, laboratori guidati da Kuaska\, area bimbi\, mercatino di Natale\, visite guidate al castello\, angolo relax\, dj set e altro ancora. Per maggiori informazioni vi consiglio di consultare il sito di Beerinba.
URL:https://cronachedibirra.it/evento/birre-vive-sotto-la-torre-christmas-edition-2018/
LOCATION:Castello Sforzesco
CATEGORIES:Manifestazioni
ATTACH;FMTTYPE=image/jpeg:https://cdn1.cronachedibirra.it/wp-content/uploads/20200203094608/birre-vive-torre-2.jpg
END:VEVENT
BEGIN:VEVENT
DTSTART;VALUE=DATE:20181207
DTEND;VALUE=DATE:20181210
DTSTAMP:20260425T015522
CREATED:20181207T131606Z
LAST-MODIFIED:20181207T131606Z
UID:22279-1544140800-1544399999@cronachedibirra.it
SUMMARY:A Beer Carol
DESCRIPTION:Comincia oggi e proseguirà fino a domenica 9 dicembre la rassegna di birre di Natale de Il Punto di Bologna\, battezzata A Beer Carol\, . La selezione si avvarrà di 14 spine\, che ospiteranno in contemporanea kerstbier italiane e straniere\, come Avec Les Bons Voeux\, Père Noel\, Platinum\, Cintura d’Orione\, Cristmas Cru\, Stille Nacht\, Verguenza Xmas\, Hibernatus e altre ancora. Non mancherà qualche variazione sul tema\, come Lambic di Lindemans e Schandaal di Extraomnes + Canediguerra. Oltre alla classica proposta gastronomica del locale\, ci sarà un menu studiato appositamente che verterà su lasagne classiche e vegetariane\, goulasch alla birra e panettone. Da segnalare infine una degustazione guidata condotta da Riccardo Grana Castagnetti. Dettagli su Facebook.
URL:https://cronachedibirra.it/evento/a-beer-carol/
LOCATION:Il Punto\, Via San Rocco 1/g\, Bologna\, BO\, 40122\, Italia
CATEGORIES:Iniziative
ATTACH;FMTTYPE=image/jpeg:https://cdn1.cronachedibirra.it/wp-content/uploads/20200203094553/beer-carola.jpg
END:VEVENT
BEGIN:VEVENT
DTSTART;VALUE=DATE:20181209
DTEND;VALUE=DATE:20181210
DTSTAMP:20260425T015522
CREATED:20181207T134131Z
LAST-MODIFIED:20181207T134131Z
UID:22286-1544313600-1544399999@cronachedibirra.it
SUMMARY:Turbacci Xmas Fest 2018
DESCRIPTION:Quinta edizione per il Turbacci Xmas Fest\, manifestazione che si terrà domenica 9 dicembre a Mentana (RM)\, ovviamente negli spazi del brewpub Turbacci. Oltre a tantissime birre della casa\, saranno disponibili quelle di birrifici amici come Jungle Juice\, Birrificio Sabino\, Alesmith\, Oxiana\, Cerevisia Vetus\, Loverbeer\, Hilltop\, MashUp e altri. A completare l’offerta ci sarà un angolo curato dal Golden Pot\, mentre sul fronte gastronomico non mancheranno gli ospiti\, come Stefano Callegari con il suo Trapizzino o i ragazzi di SPQR Grillers. E poi tante iniziative collaterali\, come il Beerkerling\, la possibilità di pattinare sulla pista dell’adiacente Palaghiaccio\, la musica dal vivo e altro ancora. Aggiornamenti e approfondimenti sulla pagina Facebook dell’evento.
URL:https://cronachedibirra.it/evento/turbacci-xmas-fest-2018/
LOCATION:Turbacci
CATEGORIES:Iniziative
ATTACH;FMTTYPE=image/jpeg:https://cdn1.cronachedibirra.it/wp-content/uploads/20200203094549/turbacci-xmas-1-scaled.jpg
END:VEVENT
BEGIN:VEVENT
DTSTART;VALUE=DATE:20181213
DTEND;VALUE=DATE:20181216
DTSTAMP:20260425T015522
CREATED:20181130T141916Z
LAST-MODIFIED:20181130T141916Z
UID:22228-1544659200-1544918399@cronachedibirra.it
SUMMARY:Giro del mondo in 40 spine - Xmas Edition
DESCRIPTION:Le rassegne di birre natalizie nei locali italiani sono un must del periodo e tra gli immancabili appuntamenti a tema bisogna menzionare il Giro del mondo in 40 spine dello Xander di Brescia\, che si terrà da giovedì 13 a sabato 15 dicembre. La selezione sarà ovviamente dedicata a kerstbier nazionali e straniere\, ma permetterà anche di assaggiare alcune chicche introvabili in Italia come quelle di Brekeriet (Svezia)\, Browerij de Moersleutel (Olanda)\, Eight Arch (Inghilterra) e Widawa (Polonia). Il menu sarà studiato appositamente per l’evento\, con panini\, lasagne\, polenta\, dolci di Natale e altro ancora. Per tutti i dettagli\, compresa la lista completa delle birre disponibili\, potete consultare la pagina Facebook dell’iniziativa.
URL:https://cronachedibirra.it/evento/giro-del-mondo-in-40-spine-xmas-edition/
LOCATION:Xander Brewpub
CATEGORIES:Iniziative
ATTACH;FMTTYPE=image/jpeg:https://cdn1.cronachedibirra.it/wp-content/uploads/20200203094608/giro-mondo.jpg
END:VEVENT
BEGIN:VEVENT
DTSTART;VALUE=DATE:20181214
DTEND;VALUE=DATE:20181217
DTSTAMP:20260425T015522
CREATED:20181214T112156Z
LAST-MODIFIED:20181214T123504Z
UID:22344-1544745600-1545004799@cronachedibirra.it
SUMMARY:Le Bae de Nadae 2018
DESCRIPTION:Giunge alla sua sesta edizione l’evento Le Bae de Nadae\,  l’iniziativa del The Drunken Duck che da oggi fino a domenica 16 dicembre coinvolgerà produttori e locali di tutta Italia. Protagoniste saranno ovviamente le birre natalizie\, realizzate dai birrifici Lariano\, Porta Bruciata\, Extraomnes\, Foglie d’Erba\, Rattbrew\, Birra Perugia\, Manerba\, Jungle Juice\, Altotevere\, Rebel’s\, Birrone\, Ofelia\, Croce di Malto\, Terre di Faul\, Almond 22\, Loverbeer e Batzen. I locali coinvolti saranno una trentina\, tutti di qualità e ben distribuiti sull’intero territorio nazionale. Per i dettagli sui vari appuntamenti potete consultare la pagina Facebook de Le Bae de Nadae.
URL:https://cronachedibirra.it/evento/le-bae-de-nadae-2018/
LOCATION:Italia\, Italia
CATEGORIES:Iniziative
ATTACH;FMTTYPE=image/jpeg:https://cdn1.cronachedibirra.it/wp-content/uploads/20200203094534/bae-nadae-1.jpg
END:VEVENT
BEGIN:VEVENT
DTSTART;VALUE=DATE:20181214
DTEND;VALUE=DATE:20181217
DTSTAMP:20260425T015522
CREATED:20181214T113520Z
LAST-MODIFIED:20181214T113520Z
UID:22347-1544745600-1545004799@cronachedibirra.it
SUMMARY:Birrette di Natale 2018
DESCRIPTION:Comincia oggi e proseguirà fino a domenica 16 dicembre la seconda edizione di Birrette di Natale\, evento a tema che si terrà presso il Palapesca di Sommacampagnana (VR). I birrifici presenti saranno Monte Baldo\, Birrificio della Scala\, Lesster\, Birrificio Legnone\, War\, Brewfist\, Baladin\, Mister B\, La Ribalta\, The Drunken Duck\, The Wall\, B2O e Revertis. Il programma prevede ampia scelta gastronomica con hamburger\, zuppe\, stinchi e dolci\, conferenze\, concerti musicali e altro ancora. Per maggiori informazioni potete consultare la pagina Facebook dell’iniziativa.
URL:https://cronachedibirra.it/evento/birrette-di-natale-2018/
LOCATION:Palapesca\, Via Cesarina 16\, Sommacampagnana\, VR\, 37066\, Italia
CATEGORIES:Manifestazioni
ATTACH;FMTTYPE=image/png:https://cdn1.cronachedibirra.it/wp-content/uploads/20200203094540/Birrette-1x1.png
END:VEVENT
BEGIN:VEVENT
DTSTART;VALUE=DATE:20181214
DTEND;VALUE=DATE:20181226
DTSTAMP:20260425T015522
CREATED:20181214T122302Z
LAST-MODIFIED:20181214T122302Z
UID:22357-1544745600-1545782399@cronachedibirra.it
SUMMARY:Kerst Over the Tap 2018
DESCRIPTION:Anche quest’anno il Mosaik di Catania organizza il suo evento dedicato alle birre di Natale. Ufficialmente il Kerst Over the Tap si è tenuto la scorsa settimana\, ma in realtà la rotazione di birre di Natale continuerà per tutto il periodo delle feste. La selezione punta chiaramente a kerstbier italiane e straniere\, ma non disdegna fermentazioni spontanee\, affinamenti in legno\, produzioni vintage e chicche di tutti i tipi. Tra gli appuntamenti ancora in programma segnalo il laboratorio di degustazione e abbinamenti di domenica 16 dicembre. Informazioni e aggiornamenti sono disponibili su Facebook.
URL:https://cronachedibirra.it/evento/kerst-over-the-tap-2018/
LOCATION:Mosaik\, Via Musumeci 60\, Catani\, CT\, 95131\, Italia
CATEGORIES:Iniziative
ATTACH;FMTTYPE=image/jpeg:https://cdn1.cronachedibirra.it/wp-content/uploads/20200203094534/kerst-mosaik.jpg
END:VEVENT
BEGIN:VEVENT
DTSTART;VALUE=DATE:20181215
DTEND;VALUE=DATE:20181217
DTSTAMP:20260425T015522
CREATED:20181130T141915Z
LAST-MODIFIED:20181130T141915Z
UID:22222-1544832000-1545004799@cronachedibirra.it
SUMMARY:Birre sotto l'albero 2018
DESCRIPTION:Tra le tante attese birrarie delle festività va sicuramente inserito Birre sotto l’albero\, la tradizionale rassegna di specialità e rarità brassicole che ogni anno riscalda le strade di Roma e che si terrà sabato 15 e domenica 16 dicembre. Il cuore dell’evento sarà come sempre Via Benedetta a Trastevere\, con il Macche e il Bir&fud a dividersi rispettivamente le birre straniere e italiane disponibili alla spina. Al di là del Tevere ci sarà la “succursale” della manifestazione presso il Bere di Piazza Risorgimento\, con una linea internazionale alternativa. Come sempre tanti gli appuntamenti collaterali: l’apertura di una botte da 50 litri di Monchsambacher Bock con cui dare il via alle danze\, il focus sulle Kveik di sabato pomeriggio al Bere\, l’English breakfast con Hilltop di domenica e la successiva degustazione pomeridiana al Bir&fud. Tutti gli aggiornamenti sono disponibili su Facebook. Superfluo specificare che ci vedremo lì.
URL:https://cronachedibirra.it/evento/birre-sotto-lalbero-2018/
LOCATION:Via Benedetta\, Via Benedetta\, Roma\, Italia
CATEGORIES:Iniziative
ATTACH;FMTTYPE=image/jpeg:https://cdn1.cronachedibirra.it/wp-content/uploads/20200203094608/46526109_10155868753571546_7578929325227900928_n.jpg
END:VEVENT
BEGIN:VEVENT
DTSTART;VALUE=DATE:20181217
DTEND;VALUE=DATE:20181224
DTSTAMP:20260425T015522
CREATED:20181214T114258Z
LAST-MODIFIED:20181214T114258Z
UID:22351-1545004800-1545609599@cronachedibirra.it
SUMMARY:Festa delle Birre di Natale da Eataly Roma
DESCRIPTION:Comincerà lunedì 17 e proseguirà fino a domenica 23 dicembre la lunga Festa delle Birre di Natale organizzata da Eataly Roma. La giornata clou sarà venerdì 21 con la presentazione della kerstbier della casa\, battezzata Fenikso\, e con tanta musica dal vivo. Durante tutta la settimana si terranno laboratori condotti dai birrai della Birreria e incentrati su birre agricole\, Christmas Ale e produzioni a fermentazione spontanea e mista. Sarà inoltre possibile assaggiare diverse kerstbier italiane disponibili alla spina e in formato degustazione. Maggiori informazioni sono disponibili sul sito di Eataly.
URL:https://cronachedibirra.it/evento/festa-delle-birre-di-natale-da-eataly-roma/
LOCATION:Eataly Roma
CATEGORIES:Iniziative
ATTACH;FMTTYPE=image/jpeg:https://cdn1.cronachedibirra.it/wp-content/uploads/20200203094539/festa-birre-natale-roma-interno.jpg
END:VEVENT
BEGIN:VEVENT
DTSTART;VALUE=DATE:20181219
DTEND;VALUE=DATE:20181224
DTSTAMP:20260425T015522
CREATED:20181207T132509Z
LAST-MODIFIED:20181207T132509Z
UID:22283-1545177600-1545609599@cronachedibirra.it
SUMMARY:Elav Yule Fest 2018
DESCRIPTION:Settima edizione per l’Elav Yule Fest\, la festa birrario-pagana che il birrificio Elav di Comun Nuovo (BG) organizza ogni anno in prossimità del Natale. Quest’anno andrà in scena da mercoledì 19 a domenica 23 dicembre con la formula di sempre\, a partire dal ricco programma musicale messo a punto in collaborazione con Soundreef. Per il resto ci saranno ovviamente le birre della casa\, ma anche visite agli impianti di produzione\, cucina\, snack e pasticceria alla birra. Troverete anche un grande shop per gli ultimi regali a tema birra\, compreso il panettone al luppolo. Ulteriori informazioni sono disponibili sulla pagina Facebook dell’evento.
URL:https://cronachedibirra.it/evento/elav-yule-fest-2018/
LOCATION:Elav
CATEGORIES:Iniziative
ATTACH;FMTTYPE=image/jpeg:https://cdn1.cronachedibirra.it/wp-content/uploads/20200203094553/elav-yule-3.jpg
END:VEVENT
BEGIN:VEVENT
DTSTART;VALUE=DATE:20181221
DTEND;VALUE=DATE:20181224
DTSTAMP:20260425T015522
CREATED:20181207T125931Z
LAST-MODIFIED:20181207T125931Z
UID:22276-1545350400-1545609599@cronachedibirra.it
SUMMARY:Birrathon 2018
DESCRIPTION:Si chiama Birrathon l’evento a scopo benefico diventato ormai una tradizione birraria del periodo delle festività. Da venerdì 21 a domenica 23 dicembre il pub Mad for Beer di Roma (zona Monteverde) resterà aperto per 60 ore di fila\, dando vita a una maratona che metterà a dura prova la resistenza dello staff del locale. Ma a dare loro supporto arriveranno publican e amici dal resto della città\, che contribuiranno alla lodevole iniziativa alla base di Birrathon: raccogliere dei fondi da devolvere all’associazione Leucevia. Le birre infatti costeranno più del solito (6 € contro i consueti 5 €)\, ma 2 euro andranno alla onlus: in pratica per ogni birra venduta un 1 euro del cliente e 1 del locale finirà in beneficenza. Sarà possibile mangiare a qualsiasi ora e la mattina sarà proposta una English breakfast. Il divertimento è assicurato. Ulteriori informazioni sulla pagina Facebook di Birrathon.
URL:https://cronachedibirra.it/evento/birrathon-2018-2/
LOCATION:Mad for Beer
CATEGORIES:Iniziative
ATTACH;FMTTYPE=image/jpeg:https://cdn1.cronachedibirra.it/wp-content/uploads/20200203094555/birrathon-2.jpg
END:VEVENT
BEGIN:VEVENT
DTSTART;VALUE=DATE:20181222
DTEND;VALUE=DATE:20181223
DTSTAMP:20260425T015522
CREATED:20181214T120956Z
LAST-MODIFIED:20181214T120956Z
UID:22354-1545436800-1545523199@cronachedibirra.it
SUMMARY:Maiella 10 anni birthday fest
DESCRIPTION:Sono tanti i birrifici importanti che nel 2018 hanno festeggiato 10 anni e in zona Cesarini si aggiunge alla lista anche l’abruzzese Birrificio Maiella. Dalla mattina a notte inoltrata di sabato 22 dicembre si celebrerà il traguardo raggiunto con un grande evento\, con 12 birre della casa (compresa la Pils 10-50 brassata appositamente per il decennale)\, musica dal vivo\, stand gastronomici e happy hour dalle 21\,00 alle 22\,00. L’iniziativa si terrà presso la sede del birrificio a Pretoro\, in provincia di Chieti. Per ulteriori informazioni date un’occhiata alla relativa pagina Facebook.
URL:https://cronachedibirra.it/evento/maiella-10-anni-birthday-fest/
LOCATION:Birrificio Maiella\, Località Cerrani\, Pretoro\, CH\, Italia
CATEGORIES:Iniziative
ATTACH;FMTTYPE=image/jpeg:https://cdn1.cronachedibirra.it/wp-content/uploads/20200203094537/maiella-10.jpg
END:VEVENT
END:VCALENDAR