BEGIN:VCALENDAR
VERSION:2.0
PRODID:-//Cronache di Birra - ECPv6.15.20//NONSGML v1.0//EN
CALSCALE:GREGORIAN
METHOD:PUBLISH
X-WR-CALNAME:Cronache di Birra
X-ORIGINAL-URL:https://cronachedibirra.it
X-WR-CALDESC:Eventi per Cronache di Birra
REFRESH-INTERVAL;VALUE=DURATION:PT1H
X-Robots-Tag:noindex
X-PUBLISHED-TTL:PT1H
BEGIN:VTIMEZONE
TZID:Europe/Rome
BEGIN:DAYLIGHT
TZOFFSETFROM:+0100
TZOFFSETTO:+0200
TZNAME:CEST
DTSTART:20160327T010000
END:DAYLIGHT
BEGIN:STANDARD
TZOFFSETFROM:+0200
TZOFFSETTO:+0100
TZNAME:CET
DTSTART:20161030T010000
END:STANDARD
BEGIN:DAYLIGHT
TZOFFSETFROM:+0100
TZOFFSETTO:+0200
TZNAME:CEST
DTSTART:20170326T010000
END:DAYLIGHT
BEGIN:STANDARD
TZOFFSETFROM:+0200
TZOFFSETTO:+0100
TZNAME:CET
DTSTART:20171029T010000
END:STANDARD
BEGIN:DAYLIGHT
TZOFFSETFROM:+0100
TZOFFSETTO:+0200
TZNAME:CEST
DTSTART:20180325T010000
END:DAYLIGHT
BEGIN:STANDARD
TZOFFSETFROM:+0200
TZOFFSETTO:+0100
TZNAME:CET
DTSTART:20181028T010000
END:STANDARD
END:VTIMEZONE
BEGIN:VEVENT
DTSTART;VALUE=DATE:20170727
DTEND;VALUE=DATE:20170730
DTSTAMP:20260421T211336
CREATED:20170728T122133Z
LAST-MODIFIED:20170728T125453Z
UID:18211-1501113600-1501372799@cronachedibirra.it
SUMMARY:Birralguer 2017
DESCRIPTION:È iniziata ieri e proseguirà fino a sabato 29 luglio la quinta edizione del festival sardo Birralguer\, in corso nel prestigioso Forte della Maddalena di Alghero (SS). Oltre agli ospiti stranieri Kuhbacher ed Eggenberg\, sono presenti solo birrifici della Sardegna: Nora\, Dolmen\, 4 Mori\, Seddaiu\, Bam\, Lara e Nugoresa. Il programma prevede un’ampia rassegna musicale che coprirà tutti i principali stili\, concorso per homebrewer\, escursioni in mare con grigliata a bordo\, dj set\, street food e prodotti gastronomici locali. Per i dettagli vi rimando al sito di Birralguer.
URL:https://cronachedibirra.it/evento/birralguer-2017/
LOCATION:Forte della Maddalena\, Forte della Maddalena\, Alghero\, SS\, Italia
CATEGORIES:Manifestazioni
ATTACH;FMTTYPE=image/jpeg:https://cdn1.cronachedibirra.it/wp-content/uploads/20200131180844/birralguer.jpg
END:VEVENT
END:VCALENDAR