BEGIN:VCALENDAR
VERSION:2.0
PRODID:-//Cronache di Birra - ECPv6.15.20//NONSGML v1.0//EN
CALSCALE:GREGORIAN
METHOD:PUBLISH
X-WR-CALNAME:Cronache di Birra
X-ORIGINAL-URL:https://cronachedibirra.it
X-WR-CALDESC:Eventi per Cronache di Birra
REFRESH-INTERVAL;VALUE=DURATION:PT1H
X-Robots-Tag:noindex
X-PUBLISHED-TTL:PT1H
BEGIN:VTIMEZONE
TZID:Europe/Rome
BEGIN:DAYLIGHT
TZOFFSETFROM:+0100
TZOFFSETTO:+0200
TZNAME:CEST
DTSTART:20160327T010000
END:DAYLIGHT
BEGIN:STANDARD
TZOFFSETFROM:+0200
TZOFFSETTO:+0100
TZNAME:CET
DTSTART:20161030T010000
END:STANDARD
BEGIN:DAYLIGHT
TZOFFSETFROM:+0100
TZOFFSETTO:+0200
TZNAME:CEST
DTSTART:20170326T010000
END:DAYLIGHT
BEGIN:STANDARD
TZOFFSETFROM:+0200
TZOFFSETTO:+0100
TZNAME:CET
DTSTART:20171029T010000
END:STANDARD
BEGIN:DAYLIGHT
TZOFFSETFROM:+0100
TZOFFSETTO:+0200
TZNAME:CEST
DTSTART:20180325T010000
END:DAYLIGHT
BEGIN:STANDARD
TZOFFSETFROM:+0200
TZOFFSETTO:+0100
TZNAME:CET
DTSTART:20181028T010000
END:STANDARD
END:VTIMEZONE
BEGIN:VEVENT
DTSTART;VALUE=DATE:20170705
DTEND;VALUE=DATE:20170710
DTSTAMP:20260419T235115
CREATED:20170628T120529Z
LAST-MODIFIED:20170628T120529Z
UID:17893-1499212800-1499644799@cronachedibirra.it
SUMMARY:Hoppy Days 2017
DESCRIPTION:Sarà l’ex Galoppatoio di San Benedetto del Tronto (AP) a ospitare la quarta edizione di Hoppy Days\, in programma da mercoledì 5 a domenica 9 luglio. Saranno disponibili 50 spine alle quali ruoteranno oltre 150 birre da produttori di tutta Italia e resto del mondo\, come Babylon\, Birrificio dei Castelli\, Canediguerra\, Casa di Cura\, Ducato\, ECB\, Foglie d’Erba\, Hilltop\, Jungle Juice\, Lambrate\, Mahrs\, Moor\, MC 77\, Mukkeller\, Opperbacco\, Pontino\, Schlenkerla\, St. Peter’s\, Toccalmatto e altri ancora. Il programma prevede street food\, musica\, sala giochi vintage\, gonfiabili per bambini e tanto altro. Per i dettagli potete consultare il sito di Hoppy Days.
URL:https://cronachedibirra.it/evento/hoppy-days-2017/
LOCATION:Ex Galoppatoio di San Bendetto del Tronto\, Via dei Tigli 1\, San Benedetto del Tronto\, AP\, Italia
CATEGORIES:Manifestazioni
ATTACH;FMTTYPE=image/jpeg:https://cdn1.cronachedibirra.it/wp-content/uploads/20200131180958/hoppy-days-2.jpg
END:VEVENT
BEGIN:VEVENT
DTSTART;VALUE=DATE:20170707
DTEND;VALUE=DATE:20170710
DTSTAMP:20260419T235115
CREATED:20170628T121501Z
LAST-MODIFIED:20170628T121501Z
UID:17898-1499385600-1499644799@cronachedibirra.it
SUMMARY:Genova Beer Festival Summer & Grill 2017
DESCRIPTION:Dopo il successo delle prime due edizioni\, il Genova Beer Festival raddoppia e si propone in versione estiva da venerdì 7 a domenica 9 luglio\, all’interno di Villa Bombrini a Genova. L’idea è di abbinare sei street food specializzati nella cottura alla griglia ad altrettanti birrifici: Maltus Faber\, Birra Busalla\, Kamun\, Civale\, Argo e Lord Chambray. Le oltre trenta birra alle spine potranno quindi essere accompagnate da salsicce\, tagliate\, hamburger\, arrosticini\, gamberoni e altre specialità\, non solo di carne. Il programma prevede un training di barbecue\, spettacoli d’intrattenimento\, musica dal vivo\, laboratori. Per i dettagli vi rimando al sito della manifestazione.
URL:https://cronachedibirra.it/evento/genova-beer-festival-summer-grill-2017/
LOCATION:Villa Bombrini\, Via Muratori 5\, Genova\, GE\, Italia
CATEGORIES:Manifestazioni
ATTACH;FMTTYPE=image/jpeg:https://cdn1.cronachedibirra.it/wp-content/uploads/20200131180958/genova-beer-festival-1.jpg
END:VEVENT
BEGIN:VEVENT
DTSTART;VALUE=DATE:20170707
DTEND;VALUE=DATE:20170710
DTSTAMP:20260419T235115
CREATED:20170628T122605Z
LAST-MODIFIED:20170628T122605Z
UID:17901-1499385600-1499644799@cronachedibirra.it
SUMMARY:Spinalamberto 2017
DESCRIPTION:Torna anche quest’anno l’appuntamento con Spinalamberto\, festival della birra artigianale e dell’arte e della cultura in programma a Spilamberto\, nel modenese\, da venerdì 7 a domenica 9 luglio. I birrifici presenti saranno Retorto\, Statale Nove\, Argo\, Vecchia Orsa\, Dada\, Birrificio Emiliano\, Edigue\, Lambrate e Amiata. La tre giorni prevede angolo food con ampia scelta\, banchi di artigianato e soprattutto una marea di musica dal vivo e spettacoli artistici che animeranno le vie del piccolo borgo. Per il programma completo e altre informazioni potete consultare il sito di Spinalamberto.
URL:https://cronachedibirra.it/evento/spinalamberto-2017/
LOCATION:Spilamberto\, Spilamberto\, MO\, Italia
CATEGORIES:Manifestazioni
ATTACH;FMTTYPE=image/png:https://cdn1.cronachedibirra.it/wp-content/uploads/20200131180958/spinalamberto.png
END:VEVENT
BEGIN:VEVENT
DTSTART;VALUE=DATE:20170707
DTEND;VALUE=DATE:20170710
DTSTAMP:20260419T235115
CREATED:20170707T122806Z
LAST-MODIFIED:20170707T122806Z
UID:17992-1499385600-1499644799@cronachedibirra.it
SUMMARY:Le Birre in Corte
DESCRIPTION:Si chiama Le Birre in Corte il festival che si terrà a Grazzano Visconti\, nel piacentino\, da oggi fino a domenica 9 luglio. I birrifici presenti saranno Jeb\, Birrificio di Legnano\, Bad Guy\, La Buttiga\, Ex Fabbrica\, Black Swan\, Selva\, Birrificio Pavese\, I 3 Bagai\, Aurora e Retorto. Il programma prevede due concerti di musica ogni sera\, stand di street food\, concorso gratuito e altro ancora. Trovate ulteriori informazioni sul sito della manifestazione.
URL:https://cronachedibirra.it/evento/le-birre-in-corte/
LOCATION:Grazzano Visconti\, Grazzano Visconti\, PC\, Italia
CATEGORIES:Manifestazioni
ATTACH;FMTTYPE=image/jpeg:https://cdn1.cronachedibirra.it/wp-content/uploads/20200131180950/birre-corte.jpg
END:VEVENT
BEGIN:VEVENT
DTSTART;VALUE=DATE:20170707
DTEND;VALUE=DATE:20170710
DTSTAMP:20260419T235115
CREATED:20170707T123559Z
LAST-MODIFIED:20170707T123559Z
UID:17996-1499385600-1499644799@cronachedibirra.it
SUMMARY:Bevi Birra 2017
DESCRIPTION:Comincia oggi e continuerà fino a domenica 9 luglio la manifestazione Bevi Birra\, che si terrà nel Parco delle Feste di Ponte Ghiara\, a Salsomaggiore Terme (PR). I birrifici presenti saranno Argo\, Elvo\, I Fermentatori\, Ducato\, Padus Cerevisiae\, Zuker e Stirone Barleyfree. Il programma prevede laboratori su birra e cucina\, cotta pubblica\, musica dal vivo\, dj set e angolo gastronomico. Se ne volete sapere di più\, potete consultare il sito web del festival.
URL:https://cronachedibirra.it/evento/bevi-birra-2017/
LOCATION:Parco delle Feste a Ponte Ghiara\, Salsomaggiore Terme\, PR\, Italia
CATEGORIES:Manifestazioni
ATTACH;FMTTYPE=image/jpeg:https://cdn1.cronachedibirra.it/wp-content/uploads/20200131180950/bevibirra_d.jpg
END:VEVENT
END:VCALENDAR