BEGIN:VCALENDAR
VERSION:2.0
PRODID:-//Cronache di Birra - ECPv6.15.20//NONSGML v1.0//EN
CALSCALE:GREGORIAN
METHOD:PUBLISH
X-ORIGINAL-URL:https://cronachedibirra.it
X-WR-CALDESC:Eventi per Cronache di Birra
REFRESH-INTERVAL;VALUE=DURATION:PT1H
X-Robots-Tag:noindex
X-PUBLISHED-TTL:PT1H
BEGIN:VTIMEZONE
TZID:Europe/Rome
BEGIN:DAYLIGHT
TZOFFSETFROM:+0100
TZOFFSETTO:+0200
TZNAME:CEST
DTSTART:20160327T010000
END:DAYLIGHT
BEGIN:STANDARD
TZOFFSETFROM:+0200
TZOFFSETTO:+0100
TZNAME:CET
DTSTART:20161030T010000
END:STANDARD
BEGIN:DAYLIGHT
TZOFFSETFROM:+0100
TZOFFSETTO:+0200
TZNAME:CEST
DTSTART:20170326T010000
END:DAYLIGHT
BEGIN:STANDARD
TZOFFSETFROM:+0200
TZOFFSETTO:+0100
TZNAME:CET
DTSTART:20171029T010000
END:STANDARD
BEGIN:DAYLIGHT
TZOFFSETFROM:+0100
TZOFFSETTO:+0200
TZNAME:CEST
DTSTART:20180325T010000
END:DAYLIGHT
BEGIN:STANDARD
TZOFFSETFROM:+0200
TZOFFSETTO:+0100
TZNAME:CET
DTSTART:20181028T010000
END:STANDARD
END:VTIMEZONE
BEGIN:VEVENT
DTSTART;VALUE=DATE:20170705
DTEND;VALUE=DATE:20170710
DTSTAMP:20260421T172604
CREATED:20170628T120529Z
LAST-MODIFIED:20170628T120529Z
UID:17893-1499212800-1499644799@cronachedibirra.it
SUMMARY:Hoppy Days 2017
DESCRIPTION:Sarà l’ex Galoppatoio di San Benedetto del Tronto (AP) a ospitare la quarta edizione di Hoppy Days\, in programma da mercoledì 5 a domenica 9 luglio. Saranno disponibili 50 spine alle quali ruoteranno oltre 150 birre da produttori di tutta Italia e resto del mondo\, come Babylon\, Birrificio dei Castelli\, Canediguerra\, Casa di Cura\, Ducato\, ECB\, Foglie d’Erba\, Hilltop\, Jungle Juice\, Lambrate\, Mahrs\, Moor\, MC 77\, Mukkeller\, Opperbacco\, Pontino\, Schlenkerla\, St. Peter’s\, Toccalmatto e altri ancora. Il programma prevede street food\, musica\, sala giochi vintage\, gonfiabili per bambini e tanto altro. Per i dettagli potete consultare il sito di Hoppy Days.
URL:https://cronachedibirra.it/evento/hoppy-days-2017/
LOCATION:Ex Galoppatoio di San Bendetto del Tronto\, Via dei Tigli 1\, San Benedetto del Tronto\, AP\, Italia
CATEGORIES:Manifestazioni
ATTACH;FMTTYPE=image/jpeg:https://cdn1.cronachedibirra.it/wp-content/uploads/20200131180958/hoppy-days-2.jpg
END:VEVENT
END:VCALENDAR