BEGIN:VCALENDAR
VERSION:2.0
PRODID:-//Cronache di Birra - ECPv6.15.20//NONSGML v1.0//EN
CALSCALE:GREGORIAN
METHOD:PUBLISH
X-WR-CALNAME:Cronache di Birra
X-ORIGINAL-URL:https://cronachedibirra.it
X-WR-CALDESC:Eventi per Cronache di Birra
REFRESH-INTERVAL;VALUE=DURATION:PT1H
X-Robots-Tag:noindex
X-PUBLISHED-TTL:PT1H
BEGIN:VTIMEZONE
TZID:Europe/Rome
BEGIN:DAYLIGHT
TZOFFSETFROM:+0100
TZOFFSETTO:+0200
TZNAME:CEST
DTSTART:20160327T010000
END:DAYLIGHT
BEGIN:STANDARD
TZOFFSETFROM:+0200
TZOFFSETTO:+0100
TZNAME:CET
DTSTART:20161030T010000
END:STANDARD
BEGIN:DAYLIGHT
TZOFFSETFROM:+0100
TZOFFSETTO:+0200
TZNAME:CEST
DTSTART:20170326T010000
END:DAYLIGHT
BEGIN:STANDARD
TZOFFSETFROM:+0200
TZOFFSETTO:+0100
TZNAME:CET
DTSTART:20171029T010000
END:STANDARD
BEGIN:DAYLIGHT
TZOFFSETFROM:+0100
TZOFFSETTO:+0200
TZNAME:CEST
DTSTART:20180325T010000
END:DAYLIGHT
BEGIN:STANDARD
TZOFFSETFROM:+0200
TZOFFSETTO:+0100
TZNAME:CET
DTSTART:20181028T010000
END:STANDARD
END:VTIMEZONE
BEGIN:VEVENT
DTSTART;VALUE=DATE:20170624
DTEND;VALUE=DATE:20170627
DTSTAMP:20260421T225122
CREATED:20170616T125354Z
LAST-MODIFIED:20170616T125354Z
UID:17814-1498262400-1498521599@cronachedibirra.it
SUMMARY:Villaggio della Birra Belgian Edition 2017
DESCRIPTION:Nella panoramiche sugli eventi tendiamo a rimanere all’interno dei confini italiani\, ma non possiamo non citare la seconda edizione “belga” del Villaggio della Birra\, che si terrà a Sint-Truiden\, nelle Fiandre\, sabato 24 e domenica 25 giugno. Saranno presenti birrifici sia belgi (divisi tra i due giorni)\, sia italiani. Nello specifico: Verzet\, Du Brabamt\, Den Hopperd\, Hofbrouwerijke\, 3 Fonteinen\, Achilles\, Hof Ten Dormaal\, Glazen Toren\, Amiata\, Canediguerra\, Extraomnes ed Etnia. Il programma prevede un angolo gastronomico con panini e carne toscana cotta alla brace\, beerhop corner\, prodotti tipici della Toscana\, musica dal vivo\, kindergarten e altro ancora. Per dettagli e aggiornamenti potete consultare l’evento su Facebook.
URL:https://cronachedibirra.it/evento/villaggio-della-birra-belgian-edition-2017/
LOCATION:Brouwerij Kerkom\, Naamsesteenweg 469\, Sint.-Truiden\, Belgio
CATEGORIES:Manifestazioni
ATTACH;FMTTYPE=image/jpeg:https://cdn1.cronachedibirra.it/wp-content/uploads/20200131181018/Villaggio_Belgian_Edition.jpg
END:VEVENT
END:VCALENDAR