BEGIN:VCALENDAR
VERSION:2.0
PRODID:-//Cronache di Birra - ECPv6.15.20//NONSGML v1.0//EN
CALSCALE:GREGORIAN
METHOD:PUBLISH
X-WR-CALNAME:Cronache di Birra
X-ORIGINAL-URL:https://cronachedibirra.it
X-WR-CALDESC:Eventi per Cronache di Birra
REFRESH-INTERVAL;VALUE=DURATION:PT1H
X-Robots-Tag:noindex
X-PUBLISHED-TTL:PT1H
BEGIN:VTIMEZONE
TZID:Europe/Rome
BEGIN:DAYLIGHT
TZOFFSETFROM:+0100
TZOFFSETTO:+0200
TZNAME:CEST
DTSTART:20160327T010000
END:DAYLIGHT
BEGIN:STANDARD
TZOFFSETFROM:+0200
TZOFFSETTO:+0100
TZNAME:CET
DTSTART:20161030T010000
END:STANDARD
BEGIN:DAYLIGHT
TZOFFSETFROM:+0100
TZOFFSETTO:+0200
TZNAME:CEST
DTSTART:20170326T010000
END:DAYLIGHT
BEGIN:STANDARD
TZOFFSETFROM:+0200
TZOFFSETTO:+0100
TZNAME:CET
DTSTART:20171029T010000
END:STANDARD
BEGIN:DAYLIGHT
TZOFFSETFROM:+0100
TZOFFSETTO:+0200
TZNAME:CEST
DTSTART:20180325T010000
END:DAYLIGHT
BEGIN:STANDARD
TZOFFSETFROM:+0200
TZOFFSETTO:+0100
TZNAME:CET
DTSTART:20181028T010000
END:STANDARD
END:VTIMEZONE
BEGIN:VEVENT
DTSTART;VALUE=DATE:20170622
DTEND;VALUE=DATE:20170626
DTSTAMP:20260421T211339
CREATED:20170503T093335Z
LAST-MODIFIED:20170616T120112Z
UID:17437-1498089600-1498435199@cronachedibirra.it
SUMMARY:C'è Fermento 2017
DESCRIPTION:Saranno i cortili dell’ex Caserma Musso di Saluzzo (CN) a ospitare l’ottava edizione di C’è Fermento\, festival in programma da giovedì 22 a domenica 25 giugno. I birrifici presenti saranno 20\, tutti italiani: Birranova\, Crak\, Birrificio del Forte\, Maltus Faber\, Nadir\, Nicese\, Kamun\, Croce di Malto\, Canediguerra\, Beba\, Elvo\, Beertola\, Frè\, Trunasse\, Birrificio della Granda\, Antagonisti\, Baladin\, Kauss\, Troll e Sta Bräu. Ad accompagnare la birra 9 spazi food di qualità selezionati da Slow Food\, con hamburger\, carne alla brace\, pizza\, fritti\, street food e molto altro. Il programma prevede spettacoli d’intrattenimento\, musica dal vivo\, tavole rotonde con i birrifici\, seminari\, angolo bambini e l’assaggio della birra collettiva del festival\, battezzata Birra Bodoni. Se ne volete sapere di più vi rimando alla pagina Facebook dell’evento.
URL:https://cronachedibirra.it/evento/ce-fermento-2017/
LOCATION:Ex Caserma Musso\, Piazza Montebello 1\, Saluzzo\, CN\, Italia
CATEGORIES:Manifestazioni
ATTACH;FMTTYPE=image/png:https://cdn1.cronachedibirra.it/wp-content/uploads/20200131181230/ce-fermento-1.png
END:VEVENT
BEGIN:VEVENT
DTSTART;VALUE=DATE:20170623
DTEND;VALUE=DATE:20170626
DTSTAMP:20260421T211339
CREATED:20170324T105058Z
LAST-MODIFIED:20170608T114716Z
UID:17160-1498176000-1498435199@cronachedibirra.it
SUMMARY:Birra Expo 2017
DESCRIPTION:Sbarca al Parco Esposizioni di Novegro\, a Milano\, la manifestazione Birra Expo – Grande Fiera della Birra Artigianale\, che si terrà da venerdì 23 a domenica 25 giugno. I birrifici presenti saranno Baladin\, 100Venti\, Birraviva\, Mastino\, 50/50\, I 3 Bagai\, La Piazza\, Beer In\, Birrificio Italiano\, Birrificio Nicese\, Soralama\, Yblon\, BSA\, Ofelia\, Terre d’Acquaviva\, La Buttiga\, Croce di Malto\, L’Inconsueto. Formula confermatissima con tanti stand gastronomici di specialità regionali\, angolo di collezionismo\, concerti\, spettacoli d’intrattenimento\, laboratori di degustazione e altro ancora. Per tutti i dettagli potete consultare il sito web di Birra Expo.
URL:https://cronachedibirra.it/evento/birra-expo-2017/
LOCATION:Parco Esposizioni Novegro\, via Novegro\, Milano\, MI\, 20090\, Italia
CATEGORIES:Manifestazioni
ATTACH;FMTTYPE=image/jpeg:https://cdn1.cronachedibirra.it/wp-content/uploads/20200131181358/birra-expo-milano.jpg
END:VEVENT
BEGIN:VEVENT
DTSTART;VALUE=DATE:20170623
DTEND;VALUE=DATE:20170626
DTSTAMP:20260421T211339
CREATED:20170608T124610Z
LAST-MODIFIED:20170608T124610Z
UID:17756-1498176000-1498435199@cronachedibirra.it
SUMMARY:Isola Birra 2017
DESCRIPTION:Sarà la suggestiva cornice dell’Exma di Cagliari a ospitare la sesta edizione di Isola Birra\, in programma da venerdì 23 a domenica 25 giugno. I birrifici partecipanti saranno Brewfist\, Rebel’s\, Free Lions\, Toccalmatto\, Canediguerra\, Rurale\, Elav e The Wall\, oltre ai sardi Mezzavia e Gattarancio e al belga Rulles. Il programma prevede diverse postazioni food con prodotti artigianali d’eccellenza\, concorso di homebrewing a firma MoBI\, laboratori di approfondimento\, dj set\, musica dal vivo e altro ancora. Trovate ulteriori informazioni sul sito di Isola Birra.
URL:https://cronachedibirra.it/evento/isola-birra-2017/
LOCATION:Exma\, Via S. Lucifero\, 71\, Cagliari\, CA\, 09127\, Italia
CATEGORIES:Manifestazioni
ATTACH;FMTTYPE=image/jpeg:https://cdn1.cronachedibirra.it/wp-content/uploads/20200131181035/isola-birra-2.jpg
END:VEVENT
BEGIN:VEVENT
DTSTART;VALUE=DATE:20170623
DTEND;VALUE=DATE:20170626
DTSTAMP:20260421T211339
CREATED:20170616T115322Z
LAST-MODIFIED:20170616T115322Z
UID:17800-1498176000-1498435199@cronachedibirra.it
SUMMARY:Il Senso della Birra 2017
DESCRIPTION:Giunge alla sua nona edizione il festival denominato Il Senso della Birra\, che si terrà da venerdì 23 a domenica 25 giugno presso l’Ex Real Collegio di Lucca. I birrifici presenti saranno: PLB\, Birrificio del Forte\, La Steffetta\, Toptà\, Etnia\, Lz0\, Bruton\, Biren\, Birrificio Italiano\, Birrificio degli Archi\, Petrognola\, PBC\, Chianti Brew Fighters\, I Due Mastri\, Crack e Canediguerra\, oltre agli inglesi Orbit\, Anspach & Hobday e Meantime. Il programma prevede masterclass e degustazioni\, concorso di abbinamento con cibo e altro ancora. Per maggiori informazioni potete consultare il sito della manifestazione.
URL:https://cronachedibirra.it/evento/il-senso-della-birra-2017/
LOCATION:Ex Real Collegio\, Piazza del Collegio\, Lucca\, LU\, Italia
CATEGORIES:Manifestazioni
ATTACH;FMTTYPE=image/jpeg:https://cdn1.cronachedibirra.it/wp-content/uploads/20200131181020/senso-della-birra.jpg
END:VEVENT
BEGIN:VEVENT
DTSTART;VALUE=DATE:20170623
DTEND;VALUE=DATE:20170626
DTSTAMP:20260421T211339
CREATED:20170616T121306Z
LAST-MODIFIED:20170616T121306Z
UID:17806-1498176000-1498435199@cronachedibirra.it
SUMMARY:Urbeers Festival
DESCRIPTION:Si terrà da venerdì 23 a domenica 25 giugno nel centro storico di Urbisaglia (MC) la manifestazione Urbeers Festival\, che se non sbaglio è al suo debutto. Saranno presenti i birrifici Il Mastio\, Babylon e La Casa di Cura e le birre di Biren\, Birra Perugia\, Birrificio del Rio\, Foglie d’Erba\, MC77\, Croce di Malto\, PBC\, BSA\, Mukkeller\, Birrificio dei Castelli\, Godog\, Renton\, e Oltremondo. Il programma prevede ampia selezione di street food\, torneo di bastet 3 on 3\, musica dal vivo\, concorso canino\, contest per homebrewers e altro ancora. Dettagli su Facebook.
URL:https://cronachedibirra.it/evento/urbeers-festival/
LOCATION:Urbisaglia\, Urbisaglia\, MC\, Italia
CATEGORIES:Manifestazioni
ATTACH;FMTTYPE=image/jpeg:https://cdn1.cronachedibirra.it/wp-content/uploads/20200131181019/urbeers.jpg
END:VEVENT
BEGIN:VEVENT
DTSTART;VALUE=DATE:20170624
DTEND;VALUE=DATE:20170627
DTSTAMP:20260421T211339
CREATED:20170616T125354Z
LAST-MODIFIED:20170616T125354Z
UID:17814-1498262400-1498521599@cronachedibirra.it
SUMMARY:Villaggio della Birra Belgian Edition 2017
DESCRIPTION:Nella panoramiche sugli eventi tendiamo a rimanere all’interno dei confini italiani\, ma non possiamo non citare la seconda edizione “belga” del Villaggio della Birra\, che si terrà a Sint-Truiden\, nelle Fiandre\, sabato 24 e domenica 25 giugno. Saranno presenti birrifici sia belgi (divisi tra i due giorni)\, sia italiani. Nello specifico: Verzet\, Du Brabamt\, Den Hopperd\, Hofbrouwerijke\, 3 Fonteinen\, Achilles\, Hof Ten Dormaal\, Glazen Toren\, Amiata\, Canediguerra\, Extraomnes ed Etnia. Il programma prevede un angolo gastronomico con panini e carne toscana cotta alla brace\, beerhop corner\, prodotti tipici della Toscana\, musica dal vivo\, kindergarten e altro ancora. Per dettagli e aggiornamenti potete consultare l’evento su Facebook.
URL:https://cronachedibirra.it/evento/villaggio-della-birra-belgian-edition-2017/
LOCATION:Brouwerij Kerkom\, Naamsesteenweg 469\, Sint.-Truiden\, Belgio
CATEGORIES:Manifestazioni
ATTACH;FMTTYPE=image/jpeg:https://cdn1.cronachedibirra.it/wp-content/uploads/20200131181018/Villaggio_Belgian_Edition.jpg
END:VEVENT
END:VCALENDAR