BEGIN:VCALENDAR
VERSION:2.0
PRODID:-//Cronache di Birra - ECPv6.15.20//NONSGML v1.0//EN
CALSCALE:GREGORIAN
METHOD:PUBLISH
X-WR-CALNAME:Cronache di Birra
X-ORIGINAL-URL:https://cronachedibirra.it
X-WR-CALDESC:Eventi per Cronache di Birra
REFRESH-INTERVAL;VALUE=DURATION:PT1H
X-Robots-Tag:noindex
X-PUBLISHED-TTL:PT1H
BEGIN:VTIMEZONE
TZID:Europe/Rome
BEGIN:DAYLIGHT
TZOFFSETFROM:+0100
TZOFFSETTO:+0200
TZNAME:CEST
DTSTART:20160327T010000
END:DAYLIGHT
BEGIN:STANDARD
TZOFFSETFROM:+0200
TZOFFSETTO:+0100
TZNAME:CET
DTSTART:20161030T010000
END:STANDARD
BEGIN:DAYLIGHT
TZOFFSETFROM:+0100
TZOFFSETTO:+0200
TZNAME:CEST
DTSTART:20170326T010000
END:DAYLIGHT
BEGIN:STANDARD
TZOFFSETFROM:+0200
TZOFFSETTO:+0100
TZNAME:CET
DTSTART:20171029T010000
END:STANDARD
BEGIN:DAYLIGHT
TZOFFSETFROM:+0100
TZOFFSETTO:+0200
TZNAME:CEST
DTSTART:20180325T010000
END:DAYLIGHT
BEGIN:STANDARD
TZOFFSETFROM:+0200
TZOFFSETTO:+0100
TZNAME:CET
DTSTART:20181028T010000
END:STANDARD
END:VTIMEZONE
BEGIN:VEVENT
DTSTART;VALUE=DATE:20170601
DTEND;VALUE=DATE:20170605
DTSTAMP:20260422T002057
CREATED:20170519T114731Z
LAST-MODIFIED:20170519T114731Z
UID:17573-1496275200-1496620799@cronachedibirra.it
SUMMARY:Beerghem 2017
DESCRIPTION:La provincia di Bergamo è una terra molto ricca dal punto di vista birrario ed è a essa che è dedicato l’ormai tradizionale Beerghem\, festival che quest’anno si terrà da giovedì 1 a domenica 4 giugno come sempre a San Pellegrino Terme. I birrifici presenti saranno  Via Priula\, Elav\, Lemine\, Otus\, Kaos\, Valcavallina\, Birrificio del Lago\, Birrificio della Ghironda\, Endorama\, Monangi e Adda. Tante le iniziative previste nel programma: musica dal vivo\, dj set\, mercato alimentare\, didattica\, dibattiti e incontri. La cucina sarà gestita dallo chef Pier Milesi che studierà un menu speciale per l’occasione. Ulteriori dettagli sono disponibili sul sito del birrificio Via Priula.
URL:https://cronachedibirra.it/evento/beerghem-2017/
LOCATION:San Pellegrino Terme\, San Pellegrino Terme\, BG\, Italia
CATEGORIES:Manifestazioni
ATTACH;FMTTYPE=image/jpeg:https://cdn1.cronachedibirra.it/wp-content/uploads/20200131181201/BeerGhem_1-2-3-4_Giugno_Promo_1_web.jpg
END:VEVENT
BEGIN:VEVENT
DTSTART;VALUE=DATE:20170601
DTEND;VALUE=DATE:20170605
DTSTAMP:20260422T002057
CREATED:20170519T120342Z
LAST-MODIFIED:20170519T120342Z
UID:17581-1496275200-1496620799@cronachedibirra.it
SUMMARY:Birrammano 2017
DESCRIPTION:Si terrà anche quest’anno a Loreo\, in provincia di Rovigo\, il festival Birramano\, in programma da giovedì 1 a domenica 4 giugno. I birrifici presenti saranno nove: B2o\, Birrificio del Lago\, Capovolto\, Forgotten\, Il Conte Gelo\, Maglio\, Monterosso\, Praforte e Sognandobirra. Il programma prevede musica dal vivo\, dj set\, moto raduno\, concorso di homebrewing\, concorso popolare\, giochi e laboratori. Per i dettagli potete dare un’occhiata alla pagina Facebook dell’evento.
URL:https://cronachedibirra.it/evento/birrammano-2017/
LOCATION:Riviera Marconi\, Loreo\, RO\, Italia
CATEGORIES:Manifestazioni
ATTACH;FMTTYPE=image/jpeg:https://cdn1.cronachedibirra.it/wp-content/uploads/20200131181149/birramano-scaled.jpg
END:VEVENT
BEGIN:VEVENT
DTSTART;VALUE=DATE:20170601
DTEND;VALUE=DATE:20170605
DTSTAMP:20260422T002057
CREATED:20170526T122441Z
LAST-MODIFIED:20170526T122441Z
UID:17641-1496275200-1496620799@cronachedibirra.it
SUMMARY:Beernocchi Beer Festival 2017
DESCRIPTION:Torna anche quest’anno a Roma l’appuntamento con il Beernocchi Beer Festival\, l’evento birrario del quartiere Casal Bernocchi che andrà in scena da giovedì 1 a domenica 4 giugno. Come sempre sarà un festival polivalente\, con tanti contenuti innaffiati da birre italiane e straniere disponibili a rotazione nelle 20 spine totali. Il programma è davvero denso di appuntamenti\, quindi vi consiglio di dare un’occhiata alla pagina Facebook della manifestazione\, comunque considerate che ci sarà una valanga di musica dal vivo\, contest fotografico\, tornei sportivi\, street food\, mercato di artigianato\, iniziative culturali e di intrattenimento e altro ancora.
URL:https://cronachedibirra.it/evento/beernocchi-beer-festival-2017/
LOCATION:Centro Polivalente Casal Bernocchi\, Via Scartazzini 19\, Roma\, RM\, Italia
CATEGORIES:Manifestazioni
ATTACH;FMTTYPE=image/jpeg:https://cdn1.cronachedibirra.it/wp-content/uploads/20200131181125/beernocchi-1.jpg
END:VEVENT
BEGIN:VEVENT
DTSTART;VALUE=DATE:20170602
DTEND;VALUE=DATE:20170605
DTSTAMP:20260422T002057
CREATED:20170602T162240Z
LAST-MODIFIED:20170602T162240Z
UID:17717-1496361600-1496620799@cronachedibirra.it
SUMMARY:Arrogant Sour Festival
DESCRIPTION:Torna più acido e arrogante che mai l’Arrogant Sour Festival\, l’evento completamente dedicato alle birre “sour”. Teatro della manifestazione saranno ancora i Chiostri della Ghiara di Reggio Emilia\, dove da venerdì 2 a domenica 4 giugno troverete una marea di birre acide (70 spine raccolte in un unico bancone di 40 metri) da birrifici italiani e stranieri. Oltre a un’enormità di chicche sour\, il programma prevede tantissimi laboratori di approfondimento\, un seminario tematico per homebrewer\, musica dal vivo e altro ancora. Se siete amanti di queste specialità\, è ovvio che è un appuntamento da non mancare. Dettagli sul sito del festival.
URL:https://cronachedibirra.it/evento/arrogant-sour-festival-2/
LOCATION:Chiostri della Ghiara
CATEGORIES:Manifestazioni
ATTACH;FMTTYPE=image/jpeg:https://cdn1.cronachedibirra.it/wp-content/uploads/20200131181045/arrogant.jpg
END:VEVENT
END:VCALENDAR