BEGIN:VCALENDAR
VERSION:2.0
PRODID:-//Cronache di Birra - ECPv6.15.20//NONSGML v1.0//EN
CALSCALE:GREGORIAN
METHOD:PUBLISH
X-WR-CALNAME:Cronache di Birra
X-ORIGINAL-URL:https://cronachedibirra.it
X-WR-CALDESC:Eventi per Cronache di Birra
REFRESH-INTERVAL;VALUE=DURATION:PT1H
X-Robots-Tag:noindex
X-PUBLISHED-TTL:PT1H
BEGIN:VTIMEZONE
TZID:Europe/Rome
BEGIN:DAYLIGHT
TZOFFSETFROM:+0100
TZOFFSETTO:+0200
TZNAME:CEST
DTSTART:20160327T010000
END:DAYLIGHT
BEGIN:STANDARD
TZOFFSETFROM:+0200
TZOFFSETTO:+0100
TZNAME:CET
DTSTART:20161030T010000
END:STANDARD
BEGIN:DAYLIGHT
TZOFFSETFROM:+0100
TZOFFSETTO:+0200
TZNAME:CEST
DTSTART:20170326T010000
END:DAYLIGHT
BEGIN:STANDARD
TZOFFSETFROM:+0200
TZOFFSETTO:+0100
TZNAME:CET
DTSTART:20171029T010000
END:STANDARD
BEGIN:DAYLIGHT
TZOFFSETFROM:+0100
TZOFFSETTO:+0200
TZNAME:CEST
DTSTART:20180325T010000
END:DAYLIGHT
BEGIN:STANDARD
TZOFFSETFROM:+0200
TZOFFSETTO:+0100
TZNAME:CET
DTSTART:20181028T010000
END:STANDARD
END:VTIMEZONE
BEGIN:VEVENT
DTSTART;VALUE=DATE:20170526
DTEND;VALUE=DATE:20170529
DTSTAMP:20260422T000350
CREATED:20170512T120425Z
LAST-MODIFIED:20170512T120425Z
UID:17538-1495756800-1496015999@cronachedibirra.it
SUMMARY:Birra in B... rocca 2017
DESCRIPTION:Sarà di nuovo il suggestivo Castello Arechi di Salerno a ospitare la manifestazione Birra in B… rocca\, in programma da venerdì 26 a domenica 28 maggio. Tutti campani i birrifici presenti al festival: Arechi Birra\, Karma\, Felix\, Fiej\, Cuoremalto\, Lievito & Nuvole\, Okorei\, Sud Birra. Varia l’offerta di street food con panini\, fritti\, pizze a libretto e prodotti siciliani. Il programma prevede laboratori di degustazione\, musica dal vivo\, concorso per la migliore birra\, servizio navetta\, spettacoli e altro ancora. Per maggiori informazioni potete collegarvi al sito del festival.
URL:https://cronachedibirra.it/evento/birra-in-b-rocca-2017/
LOCATION:Castello Arechi\, Salerno\, SA\, Italia
CATEGORIES:Manifestazioni
ATTACH;FMTTYPE=image/jpeg:https://cdn1.cronachedibirra.it/wp-content/uploads/20200131181212/birra-brocca.jpg
END:VEVENT
BEGIN:VEVENT
DTSTART;VALUE=DATE:20170526
DTEND;VALUE=DATE:20170529
DTSTAMP:20260422T000350
CREATED:20170519T115738Z
LAST-MODIFIED:20170519T115738Z
UID:17577-1495756800-1496015999@cronachedibirra.it
SUMMARY:Tripel B Fest
DESCRIPTION:Edizione di debutto per Tripel B Fest\, manifestazione in programma da venerdì 26 a domenica 28 maggio presso i Docks Dora di Torino. È un festival completamente dedicato alla birra belga\, con tredici produttori provenienti dalla piccola ma grande nazione birraria. I birrifici presenti saranno Fort Lapin\, Bertinchamps\, Halve Maan\, Van den Bossche\, Brugs Bierinstituut\, Het Nest\, Kompel Bryggja\, Bierboom / Vier Monniken\, Dilewyns\, Ter Dolen\, Alvinne\, Hof Ten Dormaal. Il programma appare davvero molto curato\, con street food d’eccellenza\, abbinamenti gastronomici\, show cooking\, laboratori di degustazione\, visite guidate\, live radio\, area bimbi e altro ancora. Per tutti i dettagli potete consultare la pagina Facebook dell’evento.
URL:https://cronachedibirra.it/evento/tripel-b-fest/
LOCATION:Docks Dora\, Via Valprato 68\, Torino\, TO\, Italia
CATEGORIES:Manifestazioni
ATTACH;FMTTYPE=image/jpeg:https://cdn1.cronachedibirra.it/wp-content/uploads/20200131181200/tripel-b.jpg
END:VEVENT
BEGIN:VEVENT
DTSTART;VALUE=DATE:20170526
DTEND;VALUE=DATE:20170529
DTSTAMP:20260422T000350
CREATED:20170519T121159Z
LAST-MODIFIED:20170519T121159Z
UID:17584-1495756800-1496015999@cronachedibirra.it
SUMMARY:Festival delle birrette 2017
DESCRIPTION:Dopo le due edizioni del 2016\, torna l’appuntamento con il Festival delle birrette\, manifestazione che si terrà da venerdì 26 a domenica 28 maggio presso gli spazi di Mare culturale urbano di Milano. I birrifici presenti saranno Birrificio Italiano\, Rurale\, PicoBrew\, Birrificio Milano\, Brewfist\, Menaresta e WAR. Il programma prevede tanto street food\, dj set\, musica dal cico\, pranzo domenicale \, live painting e altro ancora. Per saperne di più potete visitare il sito di Mare culturale urbano.
URL:https://cronachedibirra.it/evento/festival-delle-birrette-2017/
LOCATION:BZ
CATEGORIES:Manifestazioni
ATTACH;FMTTYPE=image/jpeg:https://cdn1.cronachedibirra.it/wp-content/uploads/20200131181145/festival-delle-birretteBIRRA_mare-culturale-urbano_ph-Luca-Chiaudano-1.jpg
END:VEVENT
END:VCALENDAR