BEGIN:VCALENDAR
VERSION:2.0
PRODID:-//Cronache di Birra - ECPv6.15.20//NONSGML v1.0//EN
CALSCALE:GREGORIAN
METHOD:PUBLISH
X-WR-CALNAME:Cronache di Birra
X-ORIGINAL-URL:https://cronachedibirra.it
X-WR-CALDESC:Eventi per Cronache di Birra
REFRESH-INTERVAL;VALUE=DURATION:PT1H
X-Robots-Tag:noindex
X-PUBLISHED-TTL:PT1H
BEGIN:VTIMEZONE
TZID:Europe/Rome
BEGIN:DAYLIGHT
TZOFFSETFROM:+0100
TZOFFSETTO:+0200
TZNAME:CEST
DTSTART:20160327T010000
END:DAYLIGHT
BEGIN:STANDARD
TZOFFSETFROM:+0200
TZOFFSETTO:+0100
TZNAME:CET
DTSTART:20161030T010000
END:STANDARD
BEGIN:DAYLIGHT
TZOFFSETFROM:+0100
TZOFFSETTO:+0200
TZNAME:CEST
DTSTART:20170326T010000
END:DAYLIGHT
BEGIN:STANDARD
TZOFFSETFROM:+0200
TZOFFSETTO:+0100
TZNAME:CET
DTSTART:20171029T010000
END:STANDARD
BEGIN:DAYLIGHT
TZOFFSETFROM:+0100
TZOFFSETTO:+0200
TZNAME:CEST
DTSTART:20180325T010000
END:DAYLIGHT
BEGIN:STANDARD
TZOFFSETFROM:+0200
TZOFFSETTO:+0100
TZNAME:CET
DTSTART:20181028T010000
END:STANDARD
END:VTIMEZONE
BEGIN:VEVENT
DTSTART;VALUE=DATE:20170505
DTEND;VALUE=DATE:20170508
DTSTAMP:20260421T223139
CREATED:20170421T114847Z
LAST-MODIFIED:20170421T114847Z
UID:17353-1493942400-1494201599@cronachedibirra.it
SUMMARY:LuppolaTI 2017
DESCRIPTION:Si terrà da venerdì 5 a domenica 7 maggio l’edizione 2017 di LuppolaTI\, festival che si tiene in terra svizzera e più precisamente a Chiasso\, ma a due passi col confine italiano. I birrifici presenti provengono da tutta Europa: ai nostrani Opperbacco\, Bibibir\, Birrificio Italiano\, Croce di Malto e Revertis si aggiungono No Land\, San Martino\, RudBir\, Terramatta\, Momo\, Lervig\, Alvinne\, Mont Salève\, Mad Brewing\, White Frontier\, La Pirata\, Nebuleuse\, Lupulus\, Trois Dames\, Bier Factory Rapperswil e BFM. Il programma prevede musica dal vivo\, dj set\, cibo di qualità\, beer shop\, area mercato\, seminari\, angolo bambini e altro ancora. Tutti i dettagli sono disponibili sul sito di LuppolaTI.
URL:https://cronachedibirra.it/evento/luppolati-2017/
LOCATION:Pista del ghiaccio
CATEGORIES:Manifestazioni
ATTACH;FMTTYPE=image/jpeg:https://cdn1.cronachedibirra.it/wp-content/uploads/20200131181254/luppolati-2.jpg
END:VEVENT
BEGIN:VEVENT
DTSTART;VALUE=DATE:20170505
DTEND;VALUE=DATE:20170508
DTSTAMP:20260421T223139
CREATED:20170421T120318Z
LAST-MODIFIED:20170421T120318Z
UID:17356-1493942400-1494201599@cronachedibirra.it
SUMMARY:Bierfest Platz: 10 anni di Birrificio La Piazza
DESCRIPTION:Il birrificio La Piazza raggiunge quest’anno il traguardo del suo decimo anniversario e organizza per l’occasione la Bierfest Platz\, una festa che durerà tre giorni\, da venerdì 5 a domenica 7 maggio. Luogo delle celebrazioni sarà la Piazza dei Mestieri di Torino (zona San Donato). Oltre alle birre della casa ci saranno tanti birrifici ospiti\, che hanno segnato il cammino de La Piazza fino a oggi: Aleghe\, Beba\, Canediguerra\, Elvo\, Birrificio Italiano\, Lambrate\, Mastino\, San Paolo\, Soralama e Birrificio Torino. La parte gastronomica dell’evento proporrà brezel\, hamburger\, wurstel e crauti\, stichi alla birra e altro ancora. Non mancherà musica dal vivo\, un seminario sul luppolo\, laboratori di degustazione\, dj set. Per aggiornamenti vi rimando alla pagina Facebook del festival.
URL:https://cronachedibirra.it/evento/bierfest-platz-10-anni-di-birrificio-la-piazza/
LOCATION:Piazza dei Mestieri\, Via Durandi 13\, Torino\, TO\, Italia
CATEGORIES:Manifestazioni
ATTACH;FMTTYPE=image/jpeg:https://cdn1.cronachedibirra.it/wp-content/uploads/20200131181253/bierfest.jpg
END:VEVENT
BEGIN:VEVENT
DTSTART;VALUE=DATE:20170505
DTEND;VALUE=DATE:20170508
DTSTAMP:20260421T223139
CREATED:20170421T121126Z
LAST-MODIFIED:20170421T141530Z
UID:17360-1493942400-1494201599@cronachedibirra.it
SUMMARY:Roba da Mastri
DESCRIPTION:Debutta in quel di Terni la manifestazione Roba da Mastri: salone della Birra e dei Mestieri\, che si terrà in pieno centro città da venerdì 5 a domenica 7 maggio. I birrifici presenti saranno nove: Hilltop\, Magester\, Rebel’s\, Free Lions\, Birra dell’Eremo\, Vale La Pena\, BCR\, Birra Bro e Centolitri. La parte gastronomica sarà curata da Slow Food con tante specialità locali\, mentre il programma prevede anche laboratori\, seminari\, proiezioni e musica live. Se ne volete sapere di più vi rimando al sito di Roba da Mastri.
URL:https://cronachedibirra.it/evento/roba-da-mastri/
LOCATION:Pala Sì\, Piazza della Repubblica\, Terni\, TR\, Italia
CATEGORIES:Manifestazioni
ATTACH;FMTTYPE=image/jpeg:https://cdn1.cronachedibirra.it/wp-content/uploads/20200131181253/roba-mastri.jpg
END:VEVENT
BEGIN:VEVENT
DTSTART;VALUE=DATE:20170505
DTEND;VALUE=DATE:20170510
DTSTAMP:20260421T223139
CREATED:20170421T122235Z
LAST-MODIFIED:20170421T122235Z
UID:17364-1493942400-1494374399@cronachedibirra.it
SUMMARY:Villaggio del Gusto 2017
DESCRIPTION:Giunge alla terza edizione il Villaggio del Gusto\, festival di gastronomia tradizionale e birra artigianale in programma a Bari in concomitanza con la Festa di San Nicola\, da venerdì 5 a martedì 9 maggio. I birrifici\, tutti provenienti dalla provincia e dal resto della Puglia\, saranno Birrificio Bari\, Beer-Oz\, Birra del Sud\, Ebers\, Birra Pugliese\, Birrificio degli Ostuni\, Duan e Svevo. Chiaramente l’offerta gastronomica sarà ampia e incentrata sulla qualità\, con panzerotti\, focaccia barese e altre specialità locali\, ma anche panini\, dolci\, frittura e altro ancora. Non mancherà musica e momenti di intrattenimento. Dettagli su Facebook.
URL:https://cronachedibirra.it/evento/villaggio-del-gusto-2017/
LOCATION:Piazza Diaz\, Piazza Diaz\, Bari\, Italia
CATEGORIES:Manifestazioni
ATTACH;FMTTYPE=image/jpeg:https://cdn1.cronachedibirra.it/wp-content/uploads/20200131181253/villaggio-gusto.jpg
END:VEVENT
END:VCALENDAR