BEGIN:VCALENDAR
VERSION:2.0
PRODID:-//Cronache di Birra - ECPv6.15.20//NONSGML v1.0//EN
CALSCALE:GREGORIAN
METHOD:PUBLISH
X-WR-CALNAME:Cronache di Birra
X-ORIGINAL-URL:https://cronachedibirra.it
X-WR-CALDESC:Eventi per Cronache di Birra
REFRESH-INTERVAL;VALUE=DURATION:PT1H
X-Robots-Tag:noindex
X-PUBLISHED-TTL:PT1H
BEGIN:VTIMEZONE
TZID:Europe/Rome
BEGIN:DAYLIGHT
TZOFFSETFROM:+0100
TZOFFSETTO:+0200
TZNAME:CEST
DTSTART:20160327T010000
END:DAYLIGHT
BEGIN:STANDARD
TZOFFSETFROM:+0200
TZOFFSETTO:+0100
TZNAME:CET
DTSTART:20161030T010000
END:STANDARD
BEGIN:DAYLIGHT
TZOFFSETFROM:+0100
TZOFFSETTO:+0200
TZNAME:CEST
DTSTART:20170326T010000
END:DAYLIGHT
BEGIN:STANDARD
TZOFFSETFROM:+0200
TZOFFSETTO:+0100
TZNAME:CET
DTSTART:20171029T010000
END:STANDARD
BEGIN:DAYLIGHT
TZOFFSETFROM:+0100
TZOFFSETTO:+0200
TZNAME:CEST
DTSTART:20180325T010000
END:DAYLIGHT
BEGIN:STANDARD
TZOFFSETFROM:+0200
TZOFFSETTO:+0100
TZNAME:CET
DTSTART:20181028T010000
END:STANDARD
END:VTIMEZONE
BEGIN:VEVENT
DTSTART;VALUE=DATE:20170422
DTEND;VALUE=DATE:20170426
DTSTAMP:20260421T211244
CREATED:20170407T120321Z
LAST-MODIFIED:20170407T120321Z
UID:17267-1492819200-1493164799@cronachedibirra.it
SUMMARY:Bosa Beer Fest 2017
DESCRIPTION:Terza edizione per il Bosa Beer Fest\, il più grande festival sardo dedicato alla birra artigianale. Quest’anno si terrà da sabato 22 a martedì 25 aprile\, ovviamente nel comune di Bosa (OR) e vedrà la partecipazione di birrifici della Sardegna\, ma anche provenienti dal resto d’Italia e dal Regno Unito. Saranno presenti Horo\, 4 Mori\, Birrificio di Cagliari\, BBBirra\, Mezzavia\, Birrificio Anglona\, Nora\, Lara\, BAM\, Brumare\, Seddaiu\, Trulla\, Rubiu\, A Mine of Beer\, Marduk\, Zemyna\, Le Springo\, Mediterraneo\, Rejal\, Sea Malt\, Acelum\, Borgo Antico\, Birrificio Italiano\, Amiata\, Opperbacco\, Meantime. Il programma prevede convegni\, ospiti internazionali\, cene con abbinamenti\, musica dal vivo\, dj set\, area bimbi e bus navetta. Ulteriori informazioni sul sito del Bosa Beer Fest.
URL:https://cronachedibirra.it/evento/bosa-beer-fest-2017/
LOCATION:Bosa\, Bosa\, OR\, Italia
CATEGORIES:Manifestazioni
ATTACH;FMTTYPE=image/jpeg:https://cdn1.cronachedibirra.it/wp-content/uploads/20200131181317/bosa-beer-fest.jpg
END:VEVENT
BEGIN:VEVENT
DTSTART;VALUE=DATE:20170423
DTEND;VALUE=DATE:20170426
DTSTAMP:20260421T211245
CREATED:20170407T115210Z
LAST-MODIFIED:20170407T115210Z
UID:17264-1492905600-1493164799@cronachedibirra.it
SUMMARY:Acido Acida 2017
DESCRIPTION:Giunge alla sua quarta edizione il festival Acido Acida\, organizzato da Il Molo di Ferrara e che andrà in scena da domenica 23 a martedì 25 aprile presso il Chiostro di San Paolo. Come il nome suggerisce è un evento dedicato alle birre acide\, in particolare quelle britanniche. Le 32 vie di somministrazione ospiteranno produzioni di Red Willow\, Tempest\, Vibrant Forest\, The White Hag\, Irish Brewing\, Wild Beer\, Brew By Numbers\, Siren\, Kernel\, Fourpure\, Left Handed Giant\, Beavertown\, Tiny Rebel\, Burning Sky\, Celt Experience e Redchurch\, oltre a quelle degli italiani “ospiti” Bionoc e Antica Contea. Saranno presenti tanti birrai\, una selezione brassicola “resto del mondo”\, una zona food. Dettagli su Facebook.
URL:https://cronachedibirra.it/evento/acido-acida-2017/
LOCATION:Chiostro di San Paolo
CATEGORIES:Manifestazioni
ATTACH;FMTTYPE=image/jpeg:https://cdn1.cronachedibirra.it/wp-content/uploads/20200131181323/14355705_299581040412332_428987893148489427_n.jpg
END:VEVENT
END:VCALENDAR