BEGIN:VCALENDAR
VERSION:2.0
PRODID:-//Cronache di Birra - ECPv6.15.20//NONSGML v1.0//EN
CALSCALE:GREGORIAN
METHOD:PUBLISH
X-ORIGINAL-URL:https://cronachedibirra.it
X-WR-CALDESC:Eventi per Cronache di Birra
REFRESH-INTERVAL;VALUE=DURATION:PT1H
X-Robots-Tag:noindex
X-PUBLISHED-TTL:PT1H
BEGIN:VTIMEZONE
TZID:Europe/Rome
BEGIN:DAYLIGHT
TZOFFSETFROM:+0100
TZOFFSETTO:+0200
TZNAME:CEST
DTSTART:20160327T010000
END:DAYLIGHT
BEGIN:STANDARD
TZOFFSETFROM:+0200
TZOFFSETTO:+0100
TZNAME:CET
DTSTART:20161030T010000
END:STANDARD
BEGIN:DAYLIGHT
TZOFFSETFROM:+0100
TZOFFSETTO:+0200
TZNAME:CEST
DTSTART:20170326T010000
END:DAYLIGHT
BEGIN:STANDARD
TZOFFSETFROM:+0200
TZOFFSETTO:+0100
TZNAME:CET
DTSTART:20171029T010000
END:STANDARD
BEGIN:DAYLIGHT
TZOFFSETFROM:+0100
TZOFFSETTO:+0200
TZNAME:CEST
DTSTART:20180325T010000
END:DAYLIGHT
BEGIN:STANDARD
TZOFFSETFROM:+0200
TZOFFSETTO:+0100
TZNAME:CET
DTSTART:20181028T010000
END:STANDARD
END:VTIMEZONE
BEGIN:VEVENT
DTSTART;VALUE=DATE:20170324
DTEND;VALUE=DATE:20170410
DTSTAMP:20260422T000452
CREATED:20170214T101840Z
LAST-MODIFIED:20170317T144235Z
UID:16875-1490313600-1491782399@cronachedibirra.it
SUMMARY:Mastro Birraio Santa Lucia di Piave 2017
DESCRIPTION:Giunge alla sua sesta edizione la manifestazione Mastro Birraio a Santa Lucia di Piave (PV)\, che andrà in scena per tre weekend consecutivi da venerdì 24 marzo a domenica 9 aprile. Il primo fine settimana (24 – 26 marzo) sarà dedicato ai birrifici italiani\, con la presenza di: L’Inconsueto\, Diciottozerouno\, Birradamare\, Trami\, Bibibir\, Brasseria Alpina\, Jeb\, Terre d’Acquaviva\, Dr. Barbanera\, Birrificio Italiano\, Calibro 22\, Chianti Brew Fighters\, Legnone\, Baladin\, Ostuni\, San Biagio\, IBeer\, Brasseria della Fonte\, Orso Verde e Gilda dei Nani Birrai. Il secondo week end (31 marzo – 2 aprile) sarà incentrato sui birrifici del triveneto\, con Villa Chazil\, Salgaro\, Mr. Sez\, Sognandobirra\, Baracca\, Trevigiano\, Bradipongo\, Naon\, Forgotten\, LZO\, Estense\, Quero\, Zhare\, Acelum\, Plotegher\, La Ru\, Couture\, Rattabrew\, San Gabriel\, Sant Jago. Infine nell’ultimo weekend (7-9 aprile) saranno protagonisti diversi birrifici europei\, presenti in proprio o rappresentati dai rispettivi distributori. \nCome sempre il programma prevede un’ampia selezione gastronomica di qualità\, conferenze\, incontri di degustazione\, cotta pubblica\, visite ai birrifici delle vicinanze\, mostre e tanta musica dal vivo. Per i dettagli potete consultare il sito della manifestazione.
URL:https://cronachedibirra.it/evento/mastro-birraio-santa-lucia-di-piave-2017/
LOCATION:Santa Lucia di Piave\, Santa Lucia di Piave\, TV\, Italia
CATEGORIES:Manifestazioni
ATTACH;FMTTYPE=image/jpeg:https://cdn1.cronachedibirra.it/wp-content/uploads/20200131181402/fiera-santa-lucia.jpg
END:VEVENT
BEGIN:VEVENT
DTSTART;VALUE=DATE:20170407
DTEND;VALUE=DATE:20170410
DTSTAMP:20260422T000452
CREATED:20170324T125137Z
LAST-MODIFIED:20170324T125137Z
UID:17166-1491523200-1491782399@cronachedibirra.it
SUMMARY:FrankenFestBier 2017
DESCRIPTION:Nato nel 2015\, il Franken Fest doveva essere un evento estemporaneo\, una follia destinata a non ripetersi negli anni a venire. Invece il successo di un festival dedicato esclusivamente alle birre della Franconia ha superato anche le più rosee aspettative e adesso eccoci qui\, a parlare della sua terza edizione che si terrà da venerdì 7 a domenica 9 aprile\, come sempre nella splendida cornice della Limonaia di Villa Torlonia\, a Roma. Protagoniste saranno ovviamente Keller\, Zwickel\, Landbier\, Rauchbier e altre tipologie tipiche della regione più settentrionale della Baviera\, spillate direttamente dalle tipice botticelle di legno. Saranno presenti i birrai\, oltre ad autorità locali ed esperti del settore. Non mancherà una mostra fotografica a tema\, mentre la parte gastronomica sarà immancabilmente ispirata alla cucina della Franconia. Per la lista dei birrifici partecipanti seguite la pagina Facebook del Franken Fest. Naturalmente ci vediamo lì.
URL:https://cronachedibirra.it/evento/frankenfestbier-2017/
LOCATION:Limonaia di Villa Torlonia
CATEGORIES:Manifestazioni
ATTACH;FMTTYPE=image/jpeg:https://cdn1.cronachedibirra.it/wp-content/uploads/20200131181352/franken-fest.jpg
END:VEVENT
BEGIN:VEVENT
DTSTART;VALUE=DATE:20170407
DTEND;VALUE=DATE:20170410
DTSTAMP:20260422T000452
CREATED:20170324T130442Z
LAST-MODIFIED:20170324T130442Z
UID:17169-1491523200-1491782399@cronachedibirra.it
SUMMARY:Italia Beer Festival 2017
DESCRIPTION:La tredicesima edizione dell’Italia Beer Festival entrerà nella storia per la sua genesi tribolata: programmata a Milano per fine marzo\, è stata spostata all’ultimo momento a causa dello sciopero del trasporto pubblico locale e soprattutto della visita del Papa. Comunque una delle più longevi manifestazioni d’Italia andrà regolarmente in scena con date diverse da quelle annunciate inizialmente: si terrà da venerdì 7 a domenica 9 aprile\, sempre presso gli East End Studios. I birrifici presenti saranno: BQ\, War\, Picobrew\, Sensolibero\, Railroad\, Extraomnes\, Settimocielo\, Beer In\, Kamun\, Croce di Malto\, L’Inconsueto\, La Buttiga\, Retorto\, Legnone\, Jeb\, Otus\, Valcavallina\, Pavese\, Toccalmatto\, Amiata\, Il Mastio\, Birra Epica\, Ortyx e The Brave. Come sempre la formula del festival proporrà un’ampia selezione di street food\, un concorso per la migliore birra della rassegna\, laboratori di degustazione. La parte musicale sarà realizzata in collaborazione con Hypelife e consisterà in un vero e proprio festival con rap e hip pop. Dettagli sulla pagina Facebook dell’IBF.
URL:https://cronachedibirra.it/evento/italia-beer-festival-2017/
LOCATION:East End Studios
CATEGORIES:Manifestazioni
ATTACH;FMTTYPE=image/jpeg:https://cdn1.cronachedibirra.it/wp-content/uploads/20200131181347/IBF_2017_HEADER_NEW_DAYS.jpg
END:VEVENT
END:VCALENDAR