BEGIN:VCALENDAR
VERSION:2.0
PRODID:-//Cronache di Birra - ECPv6.15.20//NONSGML v1.0//EN
CALSCALE:GREGORIAN
METHOD:PUBLISH
X-ORIGINAL-URL:https://cronachedibirra.it
X-WR-CALDESC:Eventi per Cronache di Birra
REFRESH-INTERVAL;VALUE=DURATION:PT1H
X-Robots-Tag:noindex
X-PUBLISHED-TTL:PT1H
BEGIN:VTIMEZONE
TZID:Europe/Rome
BEGIN:DAYLIGHT
TZOFFSETFROM:+0100
TZOFFSETTO:+0200
TZNAME:CEST
DTSTART:20150329T010000
END:DAYLIGHT
BEGIN:STANDARD
TZOFFSETFROM:+0200
TZOFFSETTO:+0100
TZNAME:CET
DTSTART:20151025T010000
END:STANDARD
BEGIN:DAYLIGHT
TZOFFSETFROM:+0100
TZOFFSETTO:+0200
TZNAME:CEST
DTSTART:20160327T010000
END:DAYLIGHT
BEGIN:STANDARD
TZOFFSETFROM:+0200
TZOFFSETTO:+0100
TZNAME:CET
DTSTART:20161030T010000
END:STANDARD
BEGIN:DAYLIGHT
TZOFFSETFROM:+0100
TZOFFSETTO:+0200
TZNAME:CEST
DTSTART:20170326T010000
END:DAYLIGHT
BEGIN:STANDARD
TZOFFSETFROM:+0200
TZOFFSETTO:+0100
TZNAME:CET
DTSTART:20171029T010000
END:STANDARD
END:VTIMEZONE
BEGIN:VEVENT
DTSTART;VALUE=DATE:20161215
DTEND;VALUE=DATE:20161219
DTSTAMP:20260422T130152
CREATED:20161216T143739Z
LAST-MODIFIED:20161216T143739Z
UID:16597-1481760000-1482105599@cronachedibirra.it
SUMMARY:Elav Yule Fest 2016
DESCRIPTION:È cominciato ieri e proseguirà fino a domenica 18 dicembre il festival natalizio del birrificio Elav\, battezzato Elav Yule Fest. Presso la sede di Comun Nuovo (BG) andranno in scena quattro giorni di festa con le birre della casa e tante ospiti\, per un totale di 30 produzioni alla spina a rotazione. Il programma prevede laboratori e seminari\, concerti\, dj set\, visite guidate all’impianto\, cucina tipica bergamasca e altro ancora. Per i dettagli vi rimando al sito di Elav.
URL:https://cronachedibirra.it/evento/elav-yule-fest-2016/
LOCATION:Birrificio Elav
CATEGORIES:Manifestazioni
ATTACH;FMTTYPE=image/jpeg:https://cdn1.cronachedibirra.it/wp-content/uploads/20200131181642/Yule-banner.jpg
END:VEVENT
BEGIN:VEVENT
DTSTART;VALUE=DATE:20161216
DTEND;VALUE=DATE:20161219
DTSTAMP:20260422T130152
CREATED:20161207T132355Z
LAST-MODIFIED:20161207T132355Z
UID:16540-1481846400-1482105599@cronachedibirra.it
SUMMARY:Birre vive sotto la Torre xmas edition 2016
DESCRIPTION:Quarta edizione anche per la versione natalizia di Birre vive sotto la Torre\, che si terrà ancora una volta presso la Cavallerizza del Castello di Vigevano\, in provincia di Pavia\, da venerdì 16 a domenica 18 dicembre. I birrifici presenti saranno Baladin\, Bibibir\, Castagnero\, Castelli Romani\, Diciottozerouno\, Decameron\, Jeb\, Legnone e Lambrate\, più il distributore Beerinba con una selezione internazionale di kerstbier. Il programma prevede mercatini di Natale\, ampio spazio gastronomico\, truck food\, musica dal vivo\, animazione per bambini e un laboratorio di degustazione. Ulteriori informazioni sono reperibili su Facebook.
URL:https://cronachedibirra.it/evento/birre-vive-sotto-la-torre-xmas-edition-2016/
LOCATION:Castello Sforzesco
CATEGORIES:Manifestazioni
ATTACH;FMTTYPE=image/jpeg:https://cdn1.cronachedibirra.it/wp-content/uploads/20200131181704/birre-vive-xmas.jpg
END:VEVENT
BEGIN:VEVENT
DTSTART;VALUE=DATE:20161216
DTEND;VALUE=DATE:20161219
DTSTAMP:20260422T130152
CREATED:20161207T133554Z
LAST-MODIFIED:20161207T133554Z
UID:16537-1481846400-1482105599@cronachedibirra.it
SUMMARY:Birre sotto l'albero 2016
DESCRIPTION:Anche quest’anno torna l’immancabile e attesissimo appuntamento con Birre sotto l’albero\, la manifestazione capitolina dedicata alle birre di Natale. L’evento comincerà venerdì 16 con un pre-festival\, per poi entrare nel vivo sabato 17 e domenica 18 dicembre. Per questa edizione 2016 l’estensione di Birre sotto l’albero sarà più circoscritta: il Macche e il Bir&fud di Trastevere rappresenteranno il cuore dell’iniziativa\, mentre la giornata inaugurale si terrà nel nuovissimo Be.Re. di Prati. La formula invece resterà invariata: una marea di birre natalizie\, vintage e chicche varie\, oltre a qualche produzione più standard per smaltire la fatica nei momenti più difficili. Confermata la presenza di Kuaska\, che condurrà anche due laboratori di degustazione come sempre imperdibili\, così come l’English breakfast di domenica. Ad allietare il tutto tanti birrai\, publican\, appassionati e goliardia a profusione. Ci si vede lì!
URL:https://cronachedibirra.it/evento/birre-sotto-lalbero-2016/
LOCATION:BZ
CATEGORIES:Manifestazioni
ATTACH;FMTTYPE=image/jpeg:https://cdn1.cronachedibirra.it/wp-content/uploads/20200131181704/birre-sotto-albero-2016.jpg
END:VEVENT
END:VCALENDAR