BEGIN:VCALENDAR
VERSION:2.0
PRODID:-//Cronache di Birra - ECPv6.15.20//NONSGML v1.0//EN
CALSCALE:GREGORIAN
METHOD:PUBLISH
X-ORIGINAL-URL:https://cronachedibirra.it
X-WR-CALDESC:Eventi per Cronache di Birra
REFRESH-INTERVAL;VALUE=DURATION:PT1H
X-Robots-Tag:noindex
X-PUBLISHED-TTL:PT1H
BEGIN:VTIMEZONE
TZID:Europe/Rome
BEGIN:DAYLIGHT
TZOFFSETFROM:+0100
TZOFFSETTO:+0200
TZNAME:CEST
DTSTART:20150329T010000
END:DAYLIGHT
BEGIN:STANDARD
TZOFFSETFROM:+0200
TZOFFSETTO:+0100
TZNAME:CET
DTSTART:20151025T010000
END:STANDARD
BEGIN:DAYLIGHT
TZOFFSETFROM:+0100
TZOFFSETTO:+0200
TZNAME:CEST
DTSTART:20160327T010000
END:DAYLIGHT
BEGIN:STANDARD
TZOFFSETFROM:+0200
TZOFFSETTO:+0100
TZNAME:CET
DTSTART:20161030T010000
END:STANDARD
BEGIN:DAYLIGHT
TZOFFSETFROM:+0100
TZOFFSETTO:+0200
TZNAME:CEST
DTSTART:20170326T010000
END:DAYLIGHT
BEGIN:STANDARD
TZOFFSETFROM:+0200
TZOFFSETTO:+0100
TZNAME:CET
DTSTART:20171029T010000
END:STANDARD
END:VTIMEZONE
BEGIN:VEVENT
DTSTART;VALUE=DATE:20161215
DTEND;VALUE=DATE:20161219
DTSTAMP:20260422T165956
CREATED:20161216T143739Z
LAST-MODIFIED:20161216T143739Z
UID:16597-1481760000-1482105599@cronachedibirra.it
SUMMARY:Elav Yule Fest 2016
DESCRIPTION:È cominciato ieri e proseguirà fino a domenica 18 dicembre il festival natalizio del birrificio Elav\, battezzato Elav Yule Fest. Presso la sede di Comun Nuovo (BG) andranno in scena quattro giorni di festa con le birre della casa e tante ospiti\, per un totale di 30 produzioni alla spina a rotazione. Il programma prevede laboratori e seminari\, concerti\, dj set\, visite guidate all’impianto\, cucina tipica bergamasca e altro ancora. Per i dettagli vi rimando al sito di Elav.
URL:https://cronachedibirra.it/evento/elav-yule-fest-2016/
LOCATION:Birrificio Elav
CATEGORIES:Manifestazioni
ATTACH;FMTTYPE=image/jpeg:https://cdn1.cronachedibirra.it/wp-content/uploads/20200131181642/Yule-banner.jpg
END:VEVENT
END:VCALENDAR