BEGIN:VCALENDAR
VERSION:2.0
PRODID:-//Cronache di Birra - ECPv6.15.20//NONSGML v1.0//EN
CALSCALE:GREGORIAN
METHOD:PUBLISH
X-WR-CALNAME:Cronache di Birra
X-ORIGINAL-URL:https://cronachedibirra.it
X-WR-CALDESC:Eventi per Cronache di Birra
REFRESH-INTERVAL;VALUE=DURATION:PT1H
X-Robots-Tag:noindex
X-PUBLISHED-TTL:PT1H
BEGIN:VTIMEZONE
TZID:Europe/Rome
BEGIN:DAYLIGHT
TZOFFSETFROM:+0100
TZOFFSETTO:+0200
TZNAME:CEST
DTSTART:20150329T010000
END:DAYLIGHT
BEGIN:STANDARD
TZOFFSETFROM:+0200
TZOFFSETTO:+0100
TZNAME:CET
DTSTART:20151025T010000
END:STANDARD
BEGIN:DAYLIGHT
TZOFFSETFROM:+0100
TZOFFSETTO:+0200
TZNAME:CEST
DTSTART:20160327T010000
END:DAYLIGHT
BEGIN:STANDARD
TZOFFSETFROM:+0200
TZOFFSETTO:+0100
TZNAME:CET
DTSTART:20161030T010000
END:STANDARD
BEGIN:DAYLIGHT
TZOFFSETFROM:+0100
TZOFFSETTO:+0200
TZNAME:CEST
DTSTART:20170326T010000
END:DAYLIGHT
BEGIN:STANDARD
TZOFFSETFROM:+0200
TZOFFSETTO:+0100
TZNAME:CET
DTSTART:20171029T010000
END:STANDARD
END:VTIMEZONE
BEGIN:VEVENT
DTSTART;VALUE=DATE:20161207
DTEND;VALUE=DATE:20161212
DTSTAMP:20260422T041226
CREATED:20161207T130055Z
LAST-MODIFIED:20161207T130055Z
UID:16534-1481068800-1481500799@cronachedibirra.it
SUMMARY:Festival Internazionale della Birra 2016
DESCRIPTION:Quarta edizione per il Festival Internazionale della Birra\, che andrà in scena da oggi mercoledì 7 a domenica 11 dicembre presso la confermatissima location degli Ex Macelli – Officina Giovani di Prato. I birrifici presenti saranno: I Due Mastri\, Fermento Libero\, Demonia\, Ducato\, Black Diamond\, L’Olmaia\, La Diana\, Foresteria\, Corzano 1985\, Beer on th Road\, Badalà\, 20.13\, Mostodolce\, Calibro 22\, Lilium\, Terre d’Acquaviva\, La Moncerà\, Mastrale\, Chianti Brew Fighters. Il programma prevede un’ampia area street food\, musica dal vivo\, beer shop\, mercatini di Natale e altro ancora. Tutti i dettagli sul sito della manifestazione.
URL:https://cronachedibirra.it/evento/festival-internazionale-della-birra-2016/
LOCATION:Officina Giovani\, Piazza Macelli\, Prato\, PO\, Italia
CATEGORIES:Manifestazioni
ATTACH;FMTTYPE=image/jpeg:https://cdn1.cronachedibirra.it/wp-content/uploads/20200131181704/festival-birra.jpg
END:VEVENT
END:VCALENDAR