BEGIN:VCALENDAR
VERSION:2.0
PRODID:-//Cronache di Birra - ECPv6.15.20//NONSGML v1.0//EN
CALSCALE:GREGORIAN
METHOD:PUBLISH
X-WR-CALNAME:Cronache di Birra
X-ORIGINAL-URL:https://cronachedibirra.it
X-WR-CALDESC:Eventi per Cronache di Birra
REFRESH-INTERVAL;VALUE=DURATION:PT1H
X-Robots-Tag:noindex
X-PUBLISHED-TTL:PT1H
BEGIN:VTIMEZONE
TZID:Europe/Rome
BEGIN:DAYLIGHT
TZOFFSETFROM:+0100
TZOFFSETTO:+0200
TZNAME:CEST
DTSTART:20150329T010000
END:DAYLIGHT
BEGIN:STANDARD
TZOFFSETFROM:+0200
TZOFFSETTO:+0100
TZNAME:CET
DTSTART:20151025T010000
END:STANDARD
BEGIN:DAYLIGHT
TZOFFSETFROM:+0100
TZOFFSETTO:+0200
TZNAME:CEST
DTSTART:20160327T010000
END:DAYLIGHT
BEGIN:STANDARD
TZOFFSETFROM:+0200
TZOFFSETTO:+0100
TZNAME:CET
DTSTART:20161030T010000
END:STANDARD
BEGIN:DAYLIGHT
TZOFFSETFROM:+0100
TZOFFSETTO:+0200
TZNAME:CEST
DTSTART:20170326T010000
END:DAYLIGHT
BEGIN:STANDARD
TZOFFSETFROM:+0200
TZOFFSETTO:+0100
TZNAME:CET
DTSTART:20171029T010000
END:STANDARD
END:VTIMEZONE
BEGIN:VEVENT
DTSTART;VALUE=DATE:20160827
DTEND;VALUE=DATE:20160829
DTSTAMP:20260422T151621
CREATED:20160812T082039Z
LAST-MODIFIED:20160812T082039Z
UID:15673-1472256000-1472428799@cronachedibirra.it
SUMMARY:Matti per la Birra
DESCRIPTION:Si terrà sabato 27 e domenica 28 agosto la manifestazione Matti per la Birra\, ospitata nel Chiostro di San Pietro a Gubbio (PG). Saranno presenti i birrifici Foglie d’Erba\, Birra dell’Eremo\, Old 476\, L’Olmaia\, Il Mastio\, Birranova\, Birrificio dei Castelli\, Birra Perugia\, Amiata\, Vale la Pena e Birrificio dei Castelli Romani. Molto fitto il programma di appuntamenti\, con una serie di laboratori di degustazione organizzati in collaborazione con Unionbirrai\, seminari e conferenze\, street food e musica dal vivo. Tutti i dettagli sono presenti sulla pagina Facebook di Matti per la Birra.
URL:https://cronachedibirra.it/evento/matti-per-la-birra/
LOCATION:Chiostro di San Pietro\, Gubbio\, PG\, Italia
CATEGORIES:Manifestazioni
ATTACH;FMTTYPE=image/jpeg:https://cdn1.cronachedibirra.it/wp-content/uploads/20200131182120/13316928_1393702087312504_7626860497461751551_o.jpg
END:VEVENT
END:VCALENDAR