BEGIN:VCALENDAR
VERSION:2.0
PRODID:-//Cronache di Birra - ECPv6.15.20//NONSGML v1.0//EN
CALSCALE:GREGORIAN
METHOD:PUBLISH
X-WR-CALNAME:Cronache di Birra
X-ORIGINAL-URL:https://cronachedibirra.it
X-WR-CALDESC:Eventi per Cronache di Birra
REFRESH-INTERVAL;VALUE=DURATION:PT1H
X-Robots-Tag:noindex
X-PUBLISHED-TTL:PT1H
BEGIN:VTIMEZONE
TZID:Europe/Rome
BEGIN:DAYLIGHT
TZOFFSETFROM:+0100
TZOFFSETTO:+0200
TZNAME:CEST
DTSTART:20150329T010000
END:DAYLIGHT
BEGIN:STANDARD
TZOFFSETFROM:+0200
TZOFFSETTO:+0100
TZNAME:CET
DTSTART:20151025T010000
END:STANDARD
BEGIN:DAYLIGHT
TZOFFSETFROM:+0100
TZOFFSETTO:+0200
TZNAME:CEST
DTSTART:20160327T010000
END:DAYLIGHT
BEGIN:STANDARD
TZOFFSETFROM:+0200
TZOFFSETTO:+0100
TZNAME:CET
DTSTART:20161030T010000
END:STANDARD
BEGIN:DAYLIGHT
TZOFFSETFROM:+0100
TZOFFSETTO:+0200
TZNAME:CEST
DTSTART:20170326T010000
END:DAYLIGHT
BEGIN:STANDARD
TZOFFSETFROM:+0200
TZOFFSETTO:+0100
TZNAME:CET
DTSTART:20171029T010000
END:STANDARD
END:VTIMEZONE
BEGIN:VEVENT
DTSTART;VALUE=DATE:20160812
DTEND;VALUE=DATE:20160816
DTSTAMP:20260422T164030
CREATED:20160805T115222Z
LAST-MODIFIED:20160805T115222Z
UID:15651-1470960000-1471305599@cronachedibirra.it
SUMMARY:Hop Summer Fest
DESCRIPTION:Si terrà da venerdì 12 a lunedì 15 agosto la prima edizione di Hop Summer Fest\, il nuovo festival della birra artigianale di Livorno. Saranno presenti dodici tra i migliori birrifici italiani: irrificio del Ducato\, Fermento Libero\, Birra Baladin\, L’Olmaia\, Birra Amiata\, Brùton\, Birra del Borgo\, Birrificio Lambrate\, Piccolo Birrificio Clandestino\, Brewfist\, Foglie d’Erba\, Toccalmatto. La parte gastronomica sarà articolata in diversi punti ristoro con cucina da strada\, mentre il programma prevede anche interessanti laboratori di degustazione\, musica dal vivo\, angolo gadget e assaggi in battello. Tutti i dettagli sono disponibili sul sito di Hop Summer Fest.
URL:https://cronachedibirra.it/evento/hop-summer-fest/
LOCATION:Fortezza Vecchia\, Piazza dei Marmi\, Livorno\, LI\, http://www.hopsummerfestival.it/\, Italia
CATEGORIES:Manifestazioni
ATTACH;FMTTYPE=image/png:https://cdn1.cronachedibirra.it/wp-content/uploads/20200131182126/hop-summer-fest.png
END:VEVENT
END:VCALENDAR