BEGIN:VCALENDAR
VERSION:2.0
PRODID:-//Cronache di Birra - ECPv6.15.20//NONSGML v1.0//EN
CALSCALE:GREGORIAN
METHOD:PUBLISH
X-WR-CALNAME:Cronache di Birra
X-ORIGINAL-URL:https://cronachedibirra.it
X-WR-CALDESC:Eventi per Cronache di Birra
REFRESH-INTERVAL;VALUE=DURATION:PT1H
X-Robots-Tag:noindex
X-PUBLISHED-TTL:PT1H
BEGIN:VTIMEZONE
TZID:Europe/Rome
BEGIN:DAYLIGHT
TZOFFSETFROM:+0100
TZOFFSETTO:+0200
TZNAME:CEST
DTSTART:20150329T010000
END:DAYLIGHT
BEGIN:STANDARD
TZOFFSETFROM:+0200
TZOFFSETTO:+0100
TZNAME:CET
DTSTART:20151025T010000
END:STANDARD
BEGIN:DAYLIGHT
TZOFFSETFROM:+0100
TZOFFSETTO:+0200
TZNAME:CEST
DTSTART:20160327T010000
END:DAYLIGHT
BEGIN:STANDARD
TZOFFSETFROM:+0200
TZOFFSETTO:+0100
TZNAME:CET
DTSTART:20161030T010000
END:STANDARD
BEGIN:DAYLIGHT
TZOFFSETFROM:+0100
TZOFFSETTO:+0200
TZNAME:CEST
DTSTART:20170326T010000
END:DAYLIGHT
BEGIN:STANDARD
TZOFFSETFROM:+0200
TZOFFSETTO:+0100
TZNAME:CET
DTSTART:20171029T010000
END:STANDARD
END:VTIMEZONE
BEGIN:VEVENT
DTSTART;VALUE=DATE:20160803
DTEND;VALUE=DATE:20160809
DTSTAMP:20260422T163934
CREATED:20160805T121647Z
LAST-MODIFIED:20160805T121647Z
UID:15657-1470182400-1470700799@cronachedibirra.it
SUMMARY:Festa della Birra di Baronissi
DESCRIPTION:È iniziata mercoledì e proseguirà fino a lunedì 8 agosto l’edizione 2016 della Festa della Birra di Baronissi\, ovviamente in svolgimento nel comune della provincia di Salerno. Sono presenti 13 birrifici\, tutti con sede in Campania: St. John’s\, Karma\, Maltovivo\, Sorrento\, Lievito e Nuvole\, Felix\, Irpino\, Serrocroce\, Malerba\, Brew Inn\, Aeffe\, Aspide\, Fiej. Il programma prevede diversi incontri di approfondimento\, spettacoli\, area food (anche con pietanza per celiaci) e altro ancora. Dettagli sul sito di Birra Campania.
URL:https://cronachedibirra.it/evento/festa-della-birra-di-baronissi/
LOCATION:Via Don Minzoni\, Baronissi\, Italia
CATEGORIES:Manifestazioni
ATTACH;FMTTYPE=image/jpeg:https://cdn1.cronachedibirra.it/wp-content/uploads/20200131182126/festa-baronissi.jpg
END:VEVENT
END:VCALENDAR