BEGIN:VCALENDAR
VERSION:2.0
PRODID:-//Cronache di Birra - ECPv6.15.20//NONSGML v1.0//EN
CALSCALE:GREGORIAN
METHOD:PUBLISH
X-WR-CALNAME:Cronache di Birra
X-ORIGINAL-URL:https://cronachedibirra.it
X-WR-CALDESC:Eventi per Cronache di Birra
REFRESH-INTERVAL;VALUE=DURATION:PT1H
X-Robots-Tag:noindex
X-PUBLISHED-TTL:PT1H
BEGIN:VTIMEZONE
TZID:Europe/Rome
BEGIN:DAYLIGHT
TZOFFSETFROM:+0100
TZOFFSETTO:+0200
TZNAME:CEST
DTSTART:20150329T010000
END:DAYLIGHT
BEGIN:STANDARD
TZOFFSETFROM:+0200
TZOFFSETTO:+0100
TZNAME:CET
DTSTART:20151025T010000
END:STANDARD
BEGIN:DAYLIGHT
TZOFFSETFROM:+0100
TZOFFSETTO:+0200
TZNAME:CEST
DTSTART:20160327T010000
END:DAYLIGHT
BEGIN:STANDARD
TZOFFSETFROM:+0200
TZOFFSETTO:+0100
TZNAME:CET
DTSTART:20161030T010000
END:STANDARD
BEGIN:DAYLIGHT
TZOFFSETFROM:+0100
TZOFFSETTO:+0200
TZNAME:CEST
DTSTART:20170326T010000
END:DAYLIGHT
BEGIN:STANDARD
TZOFFSETFROM:+0200
TZOFFSETTO:+0100
TZNAME:CET
DTSTART:20171029T010000
END:STANDARD
END:VTIMEZONE
BEGIN:VEVENT
DTSTART;VALUE=DATE:20160729
DTEND;VALUE=DATE:20160801
DTSTAMP:20260422T163735
CREATED:20160722T123202Z
LAST-MODIFIED:20160722T123202Z
UID:15527-1469750400-1470009599@cronachedibirra.it
SUMMARY:Birragustando 2016
DESCRIPTION:Quinta edizione per il festival Birragustando\, che si terrà a Montenero d’Orcia\, in provincia di Grosseto\, da venerdì 29 a domenica 31 luglio. I birrifici presenti saranno Biren\, Eastside\, Sarangiolino\, Bibibir\, Insieme Birra\, Amiata\, oltre agli spagnoli di Bidassoa e a un angolo a cura del Tnt Pub. Il programma prevede laboratori di degustazione condotti da Simone Cantoni\, workshop sull’incontro tra birra e vino\, meeting per homebrewer\, musica dal vivo e intrattenimento per bambini. Per maggiori informazioni potete consultare la pagina Facebook dell’evento.
URL:https://cronachedibirra.it/evento/birragustando-2016/
CATEGORIES:Manifestazioni
ATTACH;FMTTYPE=image/jpeg:https://cdn1.cronachedibirra.it/wp-content/uploads/20200131182152/birragustando-1.jpg
END:VEVENT
BEGIN:VEVENT
DTSTART;VALUE=DATE:20160729
DTEND;VALUE=DATE:20160801
DTSTAMP:20260422T163735
CREATED:20160722T125631Z
LAST-MODIFIED:20160722T125649Z
UID:15536-1469750400-1470009599@cronachedibirra.it
SUMMARY:Nova Beer Festival 2016
DESCRIPTION:È dedicato completamente alle basse fermentazioni il Nova Beer Festival\, che andrà in scena per la sua seconda edizione a Noventa Vicentina (VI) per tre giorni consecutivi e più precisamente da venerdì 29 a domenica 31 luglio. Saranno presenti 50 spine che ospiteranno produzioni di numerosi birrifici italiani\, oltre a una selezione di birre della Franconia\, quasi tutte servite dalla botte. Ad accompagnare il tutto ci sarà un angolo gastronomico e tanta musica dal vivo. Ulteriori informazioni sono disponibili su Facebook.
URL:https://cronachedibirra.it/evento/nova-beer-festival-2016/
LOCATION:Noventa Vicentin\, VI\, Italia
CATEGORIES:Manifestazioni
ATTACH;FMTTYPE=image/jpeg:https://cdn1.cronachedibirra.it/wp-content/uploads/20200131182142/nova.jpg
END:VEVENT
BEGIN:VEVENT
DTSTART;VALUE=DATE:20160729
DTEND;VALUE=DATE:20160801
DTSTAMP:20260422T163735
CREATED:20160729T121647Z
LAST-MODIFIED:20160729T122500Z
UID:15595-1469750400-1470009599@cronachedibirra.it
SUMMARY:Note di Luppolo 2016
DESCRIPTION:Dopo il debutto dello scorso anno\, torna da oggi fino a domenica 31 luglio l’appuntamento con Note di Luppolo\, che si terrà a San Martino al Cimino\, in provincia di Viterbo. I birrifici partecipanti saranno Eastside\, Terre di Faul\, Turan\, BAI\, Castelli Romani\, Bellazzi\, Brùton\, Beer Shock\, Alta Quota\, PAdus e Centolitri. Il programma prevede tanta musica dal vivo (6 band musicali)\, street food\, wifi gratuito\, spettacoli e altro ancora. Dettagli sono disponibili su Facebook.
URL:https://cronachedibirra.it/evento/note-di-luppolo-2016/
LOCATION:San Martino al Cimino\, VT\, Italia
CATEGORIES:Manifestazioni
ATTACH;FMTTYPE=image/jpeg:https://cdn1.cronachedibirra.it/wp-content/uploads/20200131182131/note-luppolo.jpg
END:VEVENT
END:VCALENDAR