BEGIN:VCALENDAR
VERSION:2.0
PRODID:-//Cronache di Birra - ECPv6.15.20//NONSGML v1.0//EN
CALSCALE:GREGORIAN
METHOD:PUBLISH
X-WR-CALNAME:Cronache di Birra
X-ORIGINAL-URL:https://cronachedibirra.it
X-WR-CALDESC:Eventi per Cronache di Birra
REFRESH-INTERVAL;VALUE=DURATION:PT1H
X-Robots-Tag:noindex
X-PUBLISHED-TTL:PT1H
BEGIN:VTIMEZONE
TZID:Europe/Rome
BEGIN:DAYLIGHT
TZOFFSETFROM:+0100
TZOFFSETTO:+0200
TZNAME:CEST
DTSTART:20150329T010000
END:DAYLIGHT
BEGIN:STANDARD
TZOFFSETFROM:+0200
TZOFFSETTO:+0100
TZNAME:CET
DTSTART:20151025T010000
END:STANDARD
BEGIN:DAYLIGHT
TZOFFSETFROM:+0100
TZOFFSETTO:+0200
TZNAME:CEST
DTSTART:20160327T010000
END:DAYLIGHT
BEGIN:STANDARD
TZOFFSETFROM:+0200
TZOFFSETTO:+0100
TZNAME:CET
DTSTART:20161030T010000
END:STANDARD
BEGIN:DAYLIGHT
TZOFFSETFROM:+0100
TZOFFSETTO:+0200
TZNAME:CEST
DTSTART:20170326T010000
END:DAYLIGHT
BEGIN:STANDARD
TZOFFSETFROM:+0200
TZOFFSETTO:+0100
TZNAME:CET
DTSTART:20171029T010000
END:STANDARD
END:VTIMEZONE
BEGIN:VEVENT
DTSTART;VALUE=DATE:20160722
DTEND;VALUE=DATE:20160727
DTSTAMP:20260422T175457
CREATED:20160715T104313Z
LAST-MODIFIED:20160715T110813Z
UID:15489-1469145600-1469577599@cronachedibirra.it
SUMMARY:Birranova Beer Fest 2016
DESCRIPTION:Torna anche quest’anno il Birranova Beer Fest\, la manifestazione di Triggianello (BA) sponsorizzata ormai da anni dal birrificio Birranova. Da venerdì 22 a martedì 26 luglio troverete un grande festival in cui protagoniste saranno chiaramente le birre di Birranova\, ma non mancheranno i birrifici ospiti: Vecchia Orsa\, Croce di Malto\, Birrificio di Cagliari\, Foglie d’Erba\, Bevog\, e BFM. Come sempre il programma sarà davvero fitto di appuntamenti\, con laboratori di degustazione\, cotta pubblica\, musica dal vivo\, stand gastronomici con prodotti locali. Per i dettagli potete visitare la pagina Facebook dell’evento.
URL:https://cronachedibirra.it/evento/birranova-beer-fest-2016/
CATEGORIES:Manifestazioni
ATTACH;FMTTYPE=image/png:https://cdn1.cronachedibirra.it/wp-content/uploads/20200131182234/birranova-beer-fest.png
END:VEVENT
END:VCALENDAR