BEGIN:VCALENDAR
VERSION:2.0
PRODID:-//Cronache di Birra - ECPv6.15.20//NONSGML v1.0//EN
CALSCALE:GREGORIAN
METHOD:PUBLISH
X-WR-CALNAME:Cronache di Birra
X-ORIGINAL-URL:https://cronachedibirra.it
X-WR-CALDESC:Eventi per Cronache di Birra
REFRESH-INTERVAL;VALUE=DURATION:PT1H
X-Robots-Tag:noindex
X-PUBLISHED-TTL:PT1H
BEGIN:VTIMEZONE
TZID:Europe/Rome
BEGIN:DAYLIGHT
TZOFFSETFROM:+0100
TZOFFSETTO:+0200
TZNAME:CEST
DTSTART:20150329T010000
END:DAYLIGHT
BEGIN:STANDARD
TZOFFSETFROM:+0200
TZOFFSETTO:+0100
TZNAME:CET
DTSTART:20151025T010000
END:STANDARD
BEGIN:DAYLIGHT
TZOFFSETFROM:+0100
TZOFFSETTO:+0200
TZNAME:CEST
DTSTART:20160327T010000
END:DAYLIGHT
BEGIN:STANDARD
TZOFFSETFROM:+0200
TZOFFSETTO:+0100
TZNAME:CET
DTSTART:20161030T010000
END:STANDARD
BEGIN:DAYLIGHT
TZOFFSETFROM:+0100
TZOFFSETTO:+0200
TZNAME:CEST
DTSTART:20170326T010000
END:DAYLIGHT
BEGIN:STANDARD
TZOFFSETFROM:+0200
TZOFFSETTO:+0100
TZNAME:CET
DTSTART:20171029T010000
END:STANDARD
END:VTIMEZONE
BEGIN:VEVENT
DTSTART;VALUE=DATE:20160721
DTEND;VALUE=DATE:20160725
DTSTAMP:20260422T175416
CREATED:20160715T094532Z
LAST-MODIFIED:20160715T094532Z
UID:15480-1469059200-1469404799@cronachedibirra.it
SUMMARY:Porck'n Beer 2016
DESCRIPTION:Giunge alla sua sesta edizione l’ormai tradizionale appuntamento con il Porck’n Beer del Birrificio Montegioco\, che quest’anno si terrà da giovedì 21 a domenica 24 luglio sempre alla Cascina Capanna di Montegioco (AL). Come in passato sarà un festival orientato alla goliardia più totale\, chiaramente accompagnata da un’ampia scelta di birre artigianali: oltre a quelle della casa\, ci sarà una selezione della Franconia a cura di Andreas Gaenstaller e una “mista berlinese” presentata da Manuele Colonna. Non mancherà la solita ampia scelta di pietanze\, una visita agli impianti di Canediguerra (e di Montegioco\, ovviamente)\, uno spazio per campeggio non attrezzato. Per i dettagli potete consultare Facebook.
URL:https://cronachedibirra.it/evento/porckn-beer-2016/
LOCATION:Agriturismo La Capanna
CATEGORIES:Manifestazioni
ATTACH;FMTTYPE=image/jpeg:https://cdn1.cronachedibirra.it/wp-content/uploads/20200131182235/porck-beer-1.jpg
END:VEVENT
END:VCALENDAR