BEGIN:VCALENDAR
VERSION:2.0
PRODID:-//Cronache di Birra - ECPv6.15.20//NONSGML v1.0//EN
CALSCALE:GREGORIAN
METHOD:PUBLISH
X-WR-CALNAME:Cronache di Birra
X-ORIGINAL-URL:https://cronachedibirra.it
X-WR-CALDESC:Eventi per Cronache di Birra
REFRESH-INTERVAL;VALUE=DURATION:PT1H
X-Robots-Tag:noindex
X-PUBLISHED-TTL:PT1H
BEGIN:VTIMEZONE
TZID:Europe/Rome
BEGIN:DAYLIGHT
TZOFFSETFROM:+0100
TZOFFSETTO:+0200
TZNAME:CEST
DTSTART:20150329T010000
END:DAYLIGHT
BEGIN:STANDARD
TZOFFSETFROM:+0200
TZOFFSETTO:+0100
TZNAME:CET
DTSTART:20151025T010000
END:STANDARD
BEGIN:DAYLIGHT
TZOFFSETFROM:+0100
TZOFFSETTO:+0200
TZNAME:CEST
DTSTART:20160327T010000
END:DAYLIGHT
BEGIN:STANDARD
TZOFFSETFROM:+0200
TZOFFSETTO:+0100
TZNAME:CET
DTSTART:20161030T010000
END:STANDARD
BEGIN:DAYLIGHT
TZOFFSETFROM:+0100
TZOFFSETTO:+0200
TZNAME:CEST
DTSTART:20170326T010000
END:DAYLIGHT
BEGIN:STANDARD
TZOFFSETFROM:+0200
TZOFFSETTO:+0100
TZNAME:CET
DTSTART:20171029T010000
END:STANDARD
END:VTIMEZONE
BEGIN:VEVENT
DTSTART;VALUE=DATE:20160713
DTEND;VALUE=DATE:20160718
DTSTAMP:20260422T180909
CREATED:20160708T122429Z
LAST-MODIFIED:20160708T125835Z
UID:15440-1468368000-1468799999@cronachedibirra.it
SUMMARY:20 anni di Baladin
DESCRIPTION:Sarà una grande festa lunga cinque giorni quella organizzata da Baladin di Piozzo (CN) per festeggiare i 20 anni del birrificio\, l’inaugurazione del nuovo impianto produttivo e i 30 anni del marchio. La festa comincerà già da mercoledì 13 luglio\, ma la giornata clou sarà quella di sabato 16\, con il Campionato Italiano Homebrewing\, concerto di Eugenio Finardi\, dj set. Le visite guidate al presente e al futuro di Baladin sono previste per domenica 17. Tra i contenuti da segnalare anche gli spettacoli del circo Bidon – che 30 anni fa ha contribuito a inventare il nome Baladin – e le prelibatezze di Gabriele Bonci. Dettagli sul sito del produttore piemontese.
URL:https://cronachedibirra.it/evento/20-anni-di-baladin/
LOCATION:Baladin\, Piozzo\, CN\, Italia
CATEGORIES:Manifestazioni
ATTACH;FMTTYPE=image/jpeg:https://cdn1.cronachedibirra.it/wp-content/uploads/20200131182257/20-anni-baladin.jpg
END:VEVENT
BEGIN:VEVENT
DTSTART;VALUE=DATE:20160714
DTEND;VALUE=DATE:20160718
DTSTAMP:20260422T180909
CREATED:20160715T101300Z
LAST-MODIFIED:20160715T101300Z
UID:15486-1468454400-1468799999@cronachedibirra.it
SUMMARY:Don't Worry Beer Happy 2016
DESCRIPTION:È cominciata ieri e andrà avanti fino a domenica 17 luglio la nona edizione dell’iniziativa Don’t Worry Beer Happy\, organizzata presso la birreria I Santi di Porto Sant’Elpidio (FM). Oltre al birrificio Mukkeller\, praticamente di casa\, parteciperanno i seguenti produttori:  Elvo\, Bibibir\, Carrabiolo\, Hibu\, MC-77\, Garlatti Costa\, Etnia\, La Fortezza\, Extraomnes e Oltremondo. Per il resto troverete tanta musica dal vivo e dj set. Per i dettagli vi rimando alla pagina Facebook dell’evento.
URL:https://cronachedibirra.it/evento/dont-worry-beer-happy-2016/
LOCATION:I Santi\, Via Cesare Battisti 68\, Porto Sant'Elpidio\, FM\, 63821\, Italia
CATEGORIES:Manifestazioni
ATTACH;FMTTYPE=image/jpeg:https://cdn1.cronachedibirra.it/wp-content/uploads/20200131182234/dont-worry-beer-happy.jpg
END:VEVENT
BEGIN:VEVENT
DTSTART;VALUE=DATE:20160715
DTEND;VALUE=DATE:20160717
DTSTAMP:20260422T180909
CREATED:20160708T115813Z
LAST-MODIFIED:20160708T131518Z
UID:15430-1468540800-1468713599@cronachedibirra.it
SUMMARY:Marano Wild Hopfest 2016
DESCRIPTION:Anche quest’anno si rinnova l’appuntamento con la festa del luppolo di Marano sul Panaro (MO)\, quel Marano Wild Hopfest voluto fortemente da Italian Hops Company (l’azienda nazionale più all’avanguardia sul tema) che se non sbaglio giunge alla sua terza edizione. In programma venerdì 15 e sabato 16 luglio\, la manifestazione permetterà di visitare il luppoleto\, partecipare a degustazioni e seminari e assaggiare le produzioni dei sei birrifici presenti: Birrificio Italiano\, Argo\, Vecchia Orsa\, Piccolo Birrificio Clandestino\, Dada\, Canediguerra. Non mancherà street food\, musica dal vivo\, cotta pubblica\, incontro per homebrewer e altro ancora. Dettagli sulla pagina Facebook dell’evento.
URL:https://cronachedibirra.it/evento/marano-wild-hopfest-2016/
LOCATION:Marano sul Panaro\, MO\, Italia
CATEGORIES:Manifestazioni
ATTACH;FMTTYPE=image/jpeg:https://cdn1.cronachedibirra.it/wp-content/uploads/20200131182306/hopfest.jpg
END:VEVENT
BEGIN:VEVENT
DTSTART;VALUE=DATE:20160715
DTEND;VALUE=DATE:20160718
DTSTAMP:20260422T180909
CREATED:20160708T121054Z
LAST-MODIFIED:20230109T101909Z
UID:15428-1468540800-1468799999@cronachedibirra.it
SUMMARY:La Bira te Fascia 2016
DESCRIPTION:Terza edizione per La Bira te Fascia\, il festival della birra di montagna che si terrà a Campitello di Fassa (TN)\, in piene Dolomiti\, da venerdì 15 a domenica 16 luglio. I birrifici presenti saranno Foglie d’Erba\, Rethia\, La Petrognola\, Batzen Brau\, Via Priula e Pejo. Il programma prevede un’ampia selezione gastronomica di specialità trentine e cucina creativa\, musica live\, laboratori di degustazione\, cooking show\, concorso di homebrewing. Da sottolineare che per tutti il mese di luglio i rifugi aderenti all’iniziativa proporranno menu alla birra. Informazioni aggiuntive sul sito de La Bira te Fascia.
URL:https://cronachedibirra.it/evento/la-bira-te-fascia-2016/
LOCATION:Campitello di Fassa\, Campitello di Fassa\, TN\, Italia
CATEGORIES:Manifestazioni
ATTACH;FMTTYPE=image/jpeg:https://cdn1.cronachedibirra.it/wp-content/uploads/20200131182306/bira-fascia-1.jpg
END:VEVENT
BEGIN:VEVENT
DTSTART;VALUE=DATE:20160715
DTEND;VALUE=DATE:20160718
DTSTAMP:20260422T180909
CREATED:20160708T121559Z
LAST-MODIFIED:20160708T121559Z
UID:15437-1468540800-1468799999@cronachedibirra.it
SUMMARY:Etruria Beer Festival
DESCRIPTION:Si terrà a Montalto di Castro\, in provincia di Viterbo\, la prima edizione dell’Etruria Beer Festival\, in programma da venerdì 15 a domenica 17 luglio. A partecipare saranno birrifici operanti nel centro Italia: Birra Amiata\, Birrificio Aurelio\, Free Lions Brewery\, Hilltop Brewery\, Birrificio Pontino\, Ritual Lab\, Terre di Faul e Birra Turbacci. Il programma prevede musica live\, stand gastronomici\, street food\, spettacoli d’intrattenimento. Approfondimenti disponibili su Facebook.
URL:https://cronachedibirra.it/evento/etruria-beer-festival/
LOCATION:Montalto di Castro\, VT\, Italia
CATEGORIES:Manifestazioni
ATTACH;FMTTYPE=image/jpeg:https://cdn1.cronachedibirra.it/wp-content/uploads/20200131182301/etruria.jpg
END:VEVENT
BEGIN:VEVENT
DTSTART;VALUE=DATE:20160715
DTEND;VALUE=DATE:20160718
DTSTAMP:20260422T180909
CREATED:20160708T123528Z
LAST-MODIFIED:20160708T123528Z
UID:15446-1468540800-1468799999@cronachedibirra.it
SUMMARY:Birra in Abbazia
DESCRIPTION:Si terrà a Morimondo (MI) per tre giorni consecutivi (da venerdì 15 a domenica 17 luglio) la manifestazione Birra in Abbazia. Saranno presenti 14 birrifici: Legnone\, Hordeum\, Sette Sensi\, Birrificio Opera\, Orso Verde\, Birrifico Legnano\, La Morosina\, Croce di Malto\, Classe 1920\, Birrificio Oltrepò\, Canna Beer\, I Tri Bagai\, Birrificio Belgrano\, Aurora\, Conte Gelo. Il programma prevede spettacoli musicali\, concorso popolare\, concerti\, dj set e area gastronomica. Ulteriori informazioni sono consultabili su Internet.
URL:https://cronachedibirra.it/evento/birra-in-abbazia/
LOCATION:Morimondo\, MI\, Italia
CATEGORIES:Manifestazioni
ATTACH;FMTTYPE=image/jpeg:https://cdn1.cronachedibirra.it/wp-content/uploads/20200131182257/birra-in-abbazia.jpg
END:VEVENT
BEGIN:VEVENT
DTSTART;VALUE=DATE:20160715
DTEND;VALUE=DATE:20160718
DTSTAMP:20260422T180909
CREATED:20160715T093452Z
LAST-MODIFIED:20160715T093452Z
UID:15477-1468540800-1468799999@cronachedibirra.it
SUMMARY:Legio Birrae 2.0 Summer Beer Fest
DESCRIPTION:Comincia oggi e proseguirà fino a domenica 17 luglio la manifestazione Legio Birrae 2.0 Summer Beer Fest\, che si terrà ai piedi dell’affascinante Tempio di Diana a due passi dal Lago di Nemi (RM). I birrifici e le beer firm presenti saranno tutte laziali: Birrificio Pontino\, Mash Up\, San Lorenzo Beer Lab e Birrificio 04. Ampio spazio sarà dedicato allo street food\, con american bbq\, fritti di pesce\, seadas e dolci. Non mancheranno dj set\, spettacoli d’intrattenimento e proiezione di film. Per tutti i dettagli vi rimando alla pagina Facebook dell’evento.
URL:https://cronachedibirra.it/evento/legio-birrae-2-0-summer-beer-fest/
LOCATION:Azienda agricola Il Giardino di Diana\, Via Tempio di Diana\, Nemi\, RM\, 00040\, Italia
CATEGORIES:Manifestazioni
ATTACH;FMTTYPE=image/jpeg:https://cdn1.cronachedibirra.it/wp-content/uploads/20200131182235/legio-birrae.jpg
END:VEVENT
END:VCALENDAR