BEGIN:VCALENDAR
VERSION:2.0
PRODID:-//Cronache di Birra - ECPv6.15.20//NONSGML v1.0//EN
CALSCALE:GREGORIAN
METHOD:PUBLISH
X-ORIGINAL-URL:https://cronachedibirra.it
X-WR-CALDESC:Eventi per Cronache di Birra
REFRESH-INTERVAL;VALUE=DURATION:PT1H
X-Robots-Tag:noindex
X-PUBLISHED-TTL:PT1H
BEGIN:VTIMEZONE
TZID:Europe/Rome
BEGIN:DAYLIGHT
TZOFFSETFROM:+0100
TZOFFSETTO:+0200
TZNAME:CEST
DTSTART:20150329T010000
END:DAYLIGHT
BEGIN:STANDARD
TZOFFSETFROM:+0200
TZOFFSETTO:+0100
TZNAME:CET
DTSTART:20151025T010000
END:STANDARD
BEGIN:DAYLIGHT
TZOFFSETFROM:+0100
TZOFFSETTO:+0200
TZNAME:CEST
DTSTART:20160327T010000
END:DAYLIGHT
BEGIN:STANDARD
TZOFFSETFROM:+0200
TZOFFSETTO:+0100
TZNAME:CET
DTSTART:20161030T010000
END:STANDARD
BEGIN:DAYLIGHT
TZOFFSETFROM:+0100
TZOFFSETTO:+0200
TZNAME:CEST
DTSTART:20170326T010000
END:DAYLIGHT
BEGIN:STANDARD
TZOFFSETFROM:+0200
TZOFFSETTO:+0100
TZNAME:CET
DTSTART:20171029T010000
END:STANDARD
END:VTIMEZONE
BEGIN:VEVENT
DTSTART;VALUE=DATE:20160713
DTEND;VALUE=DATE:20160718
DTSTAMP:20260422T180232
CREATED:20160708T122429Z
LAST-MODIFIED:20160708T125835Z
UID:15440-1468368000-1468799999@cronachedibirra.it
SUMMARY:20 anni di Baladin
DESCRIPTION:Sarà una grande festa lunga cinque giorni quella organizzata da Baladin di Piozzo (CN) per festeggiare i 20 anni del birrificio\, l’inaugurazione del nuovo impianto produttivo e i 30 anni del marchio. La festa comincerà già da mercoledì 13 luglio\, ma la giornata clou sarà quella di sabato 16\, con il Campionato Italiano Homebrewing\, concerto di Eugenio Finardi\, dj set. Le visite guidate al presente e al futuro di Baladin sono previste per domenica 17. Tra i contenuti da segnalare anche gli spettacoli del circo Bidon – che 30 anni fa ha contribuito a inventare il nome Baladin – e le prelibatezze di Gabriele Bonci. Dettagli sul sito del produttore piemontese.
URL:https://cronachedibirra.it/evento/20-anni-di-baladin/
LOCATION:Baladin\, Piozzo\, CN\, Italia
CATEGORIES:Manifestazioni
ATTACH;FMTTYPE=image/jpeg:https://cdn1.cronachedibirra.it/wp-content/uploads/20200131182257/20-anni-baladin.jpg
END:VEVENT
END:VCALENDAR