BEGIN:VCALENDAR
VERSION:2.0
PRODID:-//Cronache di Birra - ECPv6.15.20//NONSGML v1.0//EN
CALSCALE:GREGORIAN
METHOD:PUBLISH
X-WR-CALNAME:Cronache di Birra
X-ORIGINAL-URL:https://cronachedibirra.it
X-WR-CALDESC:Eventi per Cronache di Birra
REFRESH-INTERVAL;VALUE=DURATION:PT1H
X-Robots-Tag:noindex
X-PUBLISHED-TTL:PT1H
BEGIN:VTIMEZONE
TZID:Europe/Rome
BEGIN:DAYLIGHT
TZOFFSETFROM:+0100
TZOFFSETTO:+0200
TZNAME:CEST
DTSTART:20150329T010000
END:DAYLIGHT
BEGIN:STANDARD
TZOFFSETFROM:+0200
TZOFFSETTO:+0100
TZNAME:CET
DTSTART:20151025T010000
END:STANDARD
BEGIN:DAYLIGHT
TZOFFSETFROM:+0100
TZOFFSETTO:+0200
TZNAME:CEST
DTSTART:20160327T010000
END:DAYLIGHT
BEGIN:STANDARD
TZOFFSETFROM:+0200
TZOFFSETTO:+0100
TZNAME:CET
DTSTART:20161030T010000
END:STANDARD
BEGIN:DAYLIGHT
TZOFFSETFROM:+0100
TZOFFSETTO:+0200
TZNAME:CEST
DTSTART:20170326T010000
END:DAYLIGHT
BEGIN:STANDARD
TZOFFSETFROM:+0200
TZOFFSETTO:+0100
TZNAME:CET
DTSTART:20171029T010000
END:STANDARD
END:VTIMEZONE
BEGIN:VEVENT
DTSTART;VALUE=DATE:20160706
DTEND;VALUE=DATE:20160711
DTSTAMP:20260422T163735
CREATED:20160701T120127Z
LAST-MODIFIED:20160701T120127Z
UID:15385-1467763200-1468195199@cronachedibirra.it
SUMMARY:Høppy Days 2016
DESCRIPTION:Dopo le passate edizioni\, anche quest’anno andrà in scena a San Benedetto del Tronto (AP) la manifestazione Hoppy Days\, in programma da mercoledì 6 a domenica 10 luglio. Le 50 spine presenti ospiteranno a rotazioni 150 birre artigianali provenienti dall’Italia e dal resto del mondo\, mentre non mancherà la presenza di diversi birrai: Opperbacco\, Bibibir\, Pontino\, Casa di Cura\, Carnival\, Free Lions\, Mukkeller\, MC77\, La Fucina\, ECB e altri. Il programma prevede area food con proposte studiate per l’occasione\, corsi di degustazione\, concorso popolare\, dj set. Informazioni aggiuntive sul sito di Hoppy Days.
URL:https://cronachedibirra.it/evento/hoppy-days-2016/
LOCATION:San Benedetto del Tronto\, AP\, Italia
CATEGORIES:Manifestazioni
ATTACH;FMTTYPE=image/jpeg:https://cdn1.cronachedibirra.it/wp-content/uploads/20200131182341/hoppy-days-1.jpg
END:VEVENT
BEGIN:VEVENT
DTSTART;VALUE=DATE:20160707
DTEND;VALUE=DATE:20160710
DTSTAMP:20260422T163735
CREATED:20160624T102147Z
LAST-MODIFIED:20160624T102147Z
UID:15326-1467849600-1468108799@cronachedibirra.it
SUMMARY:Birreggio 2016
DESCRIPTION:Giunge alla sua nona edizione l’ormai tradizionale festival Birreggio\, che quest’anno si terrà da giovedì 7 a sabato 9 luglio sempre presso il Circolo Pigal di Reggio Emilia. I birrifici partecipanti saranno Brewfist\, Orso Verde\, Canediguerra e Birrificio Etnia\, oltre al beershop Wild Hops con le sue birre prodotte presso Dada\, una selezione di birre belghe e locali (TNT Pub e Carboneria Reggiana) e altre produzioni straniere (Beer Hunter). Il programma prevede zona food\, musica dal vivo e la possibilità di campeggiare gratuitamente. Ulteriori informazioni su Facebook.
URL:https://cronachedibirra.it/evento/birreggio-2016/
LOCATION:Circolo Pigal
CATEGORIES:Manifestazioni
ATTACH;FMTTYPE=image/jpeg:https://cdn1.cronachedibirra.it/wp-content/uploads/20200131182421/birreggio-1.jpg
END:VEVENT
BEGIN:VEVENT
DTSTART;VALUE=DATE:20160707
DTEND;VALUE=DATE:20160711
DTSTAMP:20260422T163735
CREATED:20160701T123131Z
LAST-MODIFIED:20160701T123131Z
UID:15394-1467849600-1468195199@cronachedibirra.it
SUMMARY:Birre Vive in Pila
DESCRIPTION:Si terrà per quattro giorni consecutivi\, da giovedì 7 a domenica 10 luglio\, la quinta edizione di Birre Vive in Pila. Il festival si terrà presso La Pila di Sartirana Lomellina (PV) e ospiterà otto birrifici artigianali: Conte Gelo\, Nobili\, Jeb\, Orso Verde\, Birrificio della Granda\, Via Priula\, Aurora ed Ex Fabrica. Saranno presenti 6 stand food a coprire un po’ tutti i gusti alimentari\, mentre il programma prevede laboratori di degustazione\, musica dal vivo e spettacoli d’intrattenimento. Dettagli sul sito di Beerinba.
URL:https://cronachedibirra.it/evento/birre-vive-in-pila/
LOCATION:La Pila\, Sartirana Lomellina\, PV\, Italia
CATEGORIES:Manifestazioni
ATTACH;FMTTYPE=image/jpeg:https://cdn1.cronachedibirra.it/wp-content/uploads/20200131182341/fronte.jpg
END:VEVENT
BEGIN:VEVENT
DTSTART;VALUE=DATE:20160708
DTEND;VALUE=DATE:20160711
DTSTAMP:20260422T163735
CREATED:20160708T123021Z
LAST-MODIFIED:20160708T123021Z
UID:15443-1467936000-1468195199@cronachedibirra.it
SUMMARY:Spinalamberto 2016
DESCRIPTION:Comincia oggi e proseguirà fino a domenica 10 luglio l’edizione 2016 di Spinalamberto\, ospitata dal borgo medievale di Spilamberto (MO). I birrifici partecipanti saranno Dada\, Argo\, Aleghe\, Statalenove\, Birrificio Emiliano\, Ducato\, Birrificio Italiano\, Toccalmatto e Lambrate. Il programma prevede ampia area gastronomica\, musica dal vivo\, spettacoli da strada e mercatino artigianale. Tutte le informazioni sono disponibili sul sito di Spinalamberto.
URL:https://cronachedibirra.it/evento/spinalamberto-2016/
LOCATION:Spilamberto\, MO\, Italia
CATEGORIES:Manifestazioni
ATTACH;FMTTYPE=image/jpeg:https://cdn1.cronachedibirra.it/wp-content/uploads/20200131182257/spinalamberto-1.jpg
END:VEVENT
BEGIN:VEVENT
DTSTART;VALUE=DATE:20160709
DTEND;VALUE=DATE:20160710
DTSTAMP:20260422T163735
CREATED:20160701T115410Z
LAST-MODIFIED:20160701T115432Z
UID:15382-1468022400-1468108799@cronachedibirra.it
SUMMARY:Macao Beer Day
DESCRIPTION:Il centro culturale Macao di Milano (area dell’ex macello occupato di viale Molise) ospiterà sabato 9 luglio la prima edizione di Macao Beer Day. I birrifici presenti saranno nove: La Ribalta\, Hopskin\, Birra Gaia\, Birra Del Parco\, Birrificio Ma’am\, PicoBrew\, Birrificio Alma\, Birrificio di Legnano e Pogue Mahone. Il programma prevede tre incontri a tema birrario\, stand di street food e musica e dj set fino a notte inoltrata. Per i dettagli potete consultare Facebook.
URL:https://cronachedibirra.it/evento/macao-beer-day/
LOCATION:Macao Milano\, Viale Molise\, Milano\, MI\, 20867\, Italia
CATEGORIES:Manifestazioni
ATTACH;FMTTYPE=image/jpeg:https://cdn1.cronachedibirra.it/wp-content/uploads/20200131182346/macao-beer-day-scaled.jpg
END:VEVENT
BEGIN:VEVENT
DTSTART;VALUE=DATE:20160709
DTEND;VALUE=DATE:20160710
DTSTAMP:20260422T163735
CREATED:20160701T122441Z
LAST-MODIFIED:20160701T122441Z
UID:15391-1468022400-1468108799@cronachedibirra.it
SUMMARY:Robe da Chiodi
DESCRIPTION:In passato abbiamo accennato a Barbarrique\, progetto parallelo “sperimentale” del Birrificio Italiano che spero di poter approfondire a breve su Cronache di Birra. Ed è proprio presso la sede di Barbarrique\, a Rovereto (TN)\, che sabato 9 luglio si terrà Robe da Chiodi\, festival dedicato alle fermentazioni sperimentali. Oltre a birre acide e inconsuete – presenti i birrifici Montegioco\, Stavio\, Loverbeer\, Ducato e Black Barrels\, in aggiunta ai due di “casa” – si potranno degustare vini naturali e sidri. Ad accompagnare l’offerta liquida ci sarà ottimo cibo\, musica\, arti performative e la guida di Kuaska. Per aggiornamenti e ulteriori dettagli date un’occhiata a Facebook.
URL:https://cronachedibirra.it/evento/robe-da-chiodi/
LOCATION:Barbarrique\, Località Sega 2\, Trambileno\, TN\, Italia
CATEGORIES:Manifestazioni
ATTACH;FMTTYPE=image/jpeg:https://cdn1.cronachedibirra.it/wp-content/uploads/20200131182341/robe-chiodi.jpg
END:VEVENT
END:VCALENDAR