BEGIN:VCALENDAR
VERSION:2.0
PRODID:-//Cronache di Birra - ECPv6.15.20//NONSGML v1.0//EN
CALSCALE:GREGORIAN
METHOD:PUBLISH
X-WR-CALNAME:Cronache di Birra
X-ORIGINAL-URL:https://cronachedibirra.it
X-WR-CALDESC:Eventi per Cronache di Birra
REFRESH-INTERVAL;VALUE=DURATION:PT1H
X-Robots-Tag:noindex
X-PUBLISHED-TTL:PT1H
BEGIN:VTIMEZONE
TZID:Europe/Rome
BEGIN:DAYLIGHT
TZOFFSETFROM:+0100
TZOFFSETTO:+0200
TZNAME:CEST
DTSTART:20150329T010000
END:DAYLIGHT
BEGIN:STANDARD
TZOFFSETFROM:+0200
TZOFFSETTO:+0100
TZNAME:CET
DTSTART:20151025T010000
END:STANDARD
BEGIN:DAYLIGHT
TZOFFSETFROM:+0100
TZOFFSETTO:+0200
TZNAME:CEST
DTSTART:20160327T010000
END:DAYLIGHT
BEGIN:STANDARD
TZOFFSETFROM:+0200
TZOFFSETTO:+0100
TZNAME:CET
DTSTART:20161030T010000
END:STANDARD
BEGIN:DAYLIGHT
TZOFFSETFROM:+0100
TZOFFSETTO:+0200
TZNAME:CEST
DTSTART:20170326T010000
END:DAYLIGHT
BEGIN:STANDARD
TZOFFSETFROM:+0200
TZOFFSETTO:+0100
TZNAME:CET
DTSTART:20171029T010000
END:STANDARD
END:VTIMEZONE
BEGIN:VEVENT
DTSTART;VALUE=DATE:20160701
DTEND;VALUE=DATE:20160704
DTSTAMP:20260422T163649
CREATED:20160315T121546Z
LAST-MODIFIED:20160624T092959Z
UID:14565-1467331200-1467590399@cronachedibirra.it
SUMMARY:C'è Fermento 2016
DESCRIPTION:Torna anche quest’anno l’appuntamento con C’è Fermento\, importante manifestazione dedicata ai piccoli produttori che andrà in scena a Saluzzo (CN) per tre giorni consecutivi\, da venerdì 1 a domenica 3 luglio. Molto ampia la selezione dei birrifici presenti: Aleghe\, Antagonisti\, Argo\, Baladin\, Beba\, Birra Elvo\, Stabrau. Birrificio 2 Sorelle\, B94\, Birrificio del Forte\, Birrificio della Granda\, Birrificio Sant’Andrea\, Black Barrels\, Canediguerra\, Civale\, CR/AK Brewery\, Croce Di Malto\, Gilac\, Kauss\, Maltus Faber\, Nadir\, Soralama’\, Troll\, Trunasse. Come sempre ci saranno diverse cucine da strada di qualità\, tanta musica dal vivo e la presentazione della Guida alle Birre d’Italia di Slow Food (sabato 2 luglio). Da tenere d’occhio anche il pre festival Aspettando C’è Fermento\, con diversi eventi in città. Ulteriori dettagli sul sito web della manifestazione.
URL:https://cronachedibirra.it/evento/ce-fermento-2016/
LOCATION:Luogo Senza Nome
CATEGORIES:Manifestazioni
ATTACH;FMTTYPE=image/png:https://cdn1.cronachedibirra.it/wp-content/uploads/20200131171502/ce-fermento.png
END:VEVENT
BEGIN:VEVENT
DTSTART;VALUE=DATE:20160701
DTEND;VALUE=DATE:20160704
DTSTAMP:20260422T163649
CREATED:20160701T120914Z
LAST-MODIFIED:20160701T120914Z
UID:15388-1467331200-1467590399@cronachedibirra.it
SUMMARY:Le birre del Parco Parri
DESCRIPTION:Comincia oggi a Vigevano (PV) e proseguirà fino a domenica 3 luglio la manifestazione Le birre del Parco Parri\, ospitata dall’omonimo parco di Vigevano (PV). I birrifici presenti saranno sette: Il Conte Gelo\, Croce di Malto\, Castagnero\, Jeb\, Decameron\, Gaia e Civale. Il programma prevede quattro postazioni food\, musica dal vivo\, area pic nic e proiezione della partita dell’Italia. Per approfondimenti collegatevi alla pagina Facebook dell’evento.
URL:https://cronachedibirra.it/evento/le-birre-del-parco-parri/
LOCATION:Parco Parri\, Vigevano\, PV\, 27029\, Italia
CATEGORIES:Manifestazioni
ATTACH;FMTTYPE=image/jpeg:https://cdn1.cronachedibirra.it/wp-content/uploads/20200131182341/parco-parri.jpg
END:VEVENT
BEGIN:VEVENT
DTSTART;VALUE=DATE:20160702
DTEND;VALUE=DATE:20160704
DTSTAMP:20260422T163649
CREATED:20160624T095527Z
LAST-MODIFIED:20160624T095527Z
UID:15317-1467417600-1467590399@cronachedibirra.it
SUMMARY:Birra Village
DESCRIPTION:Si chiama Birra Village il nuovo festival che si terrà al Lido di Ostia (Roma) all’inizio del prossimo mese\, e più precisamente sabato 2 e domenica 3 luglio. A partecipare saranno 9 birrifici artigianali italiani: Birra dell’Eremo\, Birrificio Pontino\, Free Lions\, Birrificio dei Castelli\, Piccolo Birrificio Clandestino\, Rebel’s Microbrewery\, La Buttiga\, Railroad Brewing\, The Wall. Il programma prevede street food “marittimo” di livello\, servizi da spiaggia\, musica dal vivo e dj set. Per ulteriori informazioni potete consultare Facebook.
URL:https://cronachedibirra.it/evento/birra-village/
LOCATION:Marina Village\, Via Litoranea \, Roma\, RM\, 00122\, Italia
CATEGORIES:Manifestazioni
ATTACH;FMTTYPE=image/jpeg:https://cdn1.cronachedibirra.it/wp-content/uploads/20200131182428/13433353_1140615059293742_1482728243931493717_o.jpg
END:VEVENT
END:VCALENDAR