BEGIN:VCALENDAR
VERSION:2.0
PRODID:-//Cronache di Birra - ECPv6.15.20//NONSGML v1.0//EN
CALSCALE:GREGORIAN
METHOD:PUBLISH
X-ORIGINAL-URL:https://cronachedibirra.it
X-WR-CALDESC:Eventi per Cronache di Birra
REFRESH-INTERVAL;VALUE=DURATION:PT1H
X-Robots-Tag:noindex
X-PUBLISHED-TTL:PT1H
BEGIN:VTIMEZONE
TZID:Europe/Rome
BEGIN:DAYLIGHT
TZOFFSETFROM:+0100
TZOFFSETTO:+0200
TZNAME:CEST
DTSTART:20150329T010000
END:DAYLIGHT
BEGIN:STANDARD
TZOFFSETFROM:+0200
TZOFFSETTO:+0100
TZNAME:CET
DTSTART:20151025T010000
END:STANDARD
BEGIN:DAYLIGHT
TZOFFSETFROM:+0100
TZOFFSETTO:+0200
TZNAME:CEST
DTSTART:20160327T010000
END:DAYLIGHT
BEGIN:STANDARD
TZOFFSETFROM:+0200
TZOFFSETTO:+0100
TZNAME:CET
DTSTART:20161030T010000
END:STANDARD
BEGIN:DAYLIGHT
TZOFFSETFROM:+0100
TZOFFSETTO:+0200
TZNAME:CEST
DTSTART:20170326T010000
END:DAYLIGHT
BEGIN:STANDARD
TZOFFSETFROM:+0200
TZOFFSETTO:+0100
TZNAME:CET
DTSTART:20171029T010000
END:STANDARD
END:VTIMEZONE
BEGIN:VEVENT
DTSTART;VALUE=DATE:20160408
DTEND;VALUE=DATE:20160426
DTSTAMP:20260422T124535
CREATED:20160203T095749Z
LAST-MODIFIED:20160325T120911Z
UID:14289-1460073600-1461628799@cronachedibirra.it
SUMMARY:Mastro Birraio Santa Lucia di Piave
DESCRIPTION:Torna anche quest’anno\, per la bellezza di tre fine settimana successivi\, l’appuntamento con Mastro Birraio a Santa Lucia di Piave (TV). Il festival comincerà venerdì 8 aprile per andare avanti fino a domenica 10\, poi riprenderà da venerdì 15 a domenica 17 aprile\, infine l’ultima finestra sarà da venerdì 22 a lunedì 25 aprile. Il primo weekend sarà dedicato ai birrifici italiani\, il secondo a quelli del triveneto\, il terzo avrà invece un carattere internazionale. La formula sarà sempre la stessa dei precedenti anni\, quindi spazio a eccellenze gastronomiche locali\, mostre a tema\, operatori del settore\, collezionismo\, laboratori di degustazione\, seminari e conferenze\, musica dal vivo. Per tutti i dettagli\, che sono tantissimi\, vi rimando al sito della manifestazione.
URL:https://cronachedibirra.it/evento/mastro-birraio-santa-lucia-di-piave-2/
LOCATION:Luogo Senza Nome\, Santa Lucia di Piave\, TV\, Italia
CATEGORIES:Manifestazioni
ATTACH;FMTTYPE=image/jpeg:https://cdn1.cronachedibirra.it/wp-content/uploads/20200131171423/fiera-birra-santa-lucia.jpg
END:VEVENT
BEGIN:VEVENT
DTSTART;VALUE=DATE:20160422
DTEND;VALUE=DATE:20160426
DTSTAMP:20260422T124535
CREATED:20160415T101210Z
LAST-MODIFIED:20160415T101210Z
UID:14744-1461283200-1461628799@cronachedibirra.it
SUMMARY:Beer Expo
DESCRIPTION:Il Palamastroeni di Pace del Mela (ME) sarà la location dove andrà in scena\, da venerdì 22 a lunedì 25 aprile\, la manifestazione Beer Expo. I birrifici partecipanti saranno Mirenda\, Birra Minchia\, De Alchemia e Irias\, oltre ad alcuni distributori con le loro selezioni. Il programma prevede musica dal vivo\, show cooking\, area food\, degustazioni guidate\, incontri con le aziende e mostre. Tutti i dettagli sul sito di Beer Expo.
URL:https://cronachedibirra.it/evento/beer-expo/
LOCATION:Palamastroeni\, Zona industriale\, Pace del Mela\, ME\, Italia
CATEGORIES:Manifestazioni
ATTACH;FMTTYPE=image/jpeg:https://cdn1.cronachedibirra.it/wp-content/uploads/20200131171347/beer-expo.jpg
END:VEVENT
BEGIN:VEVENT
DTSTART;VALUE=DATE:20160423
DTEND;VALUE=DATE:20160425
DTSTAMP:20260422T124535
CREATED:20160415T101915Z
LAST-MODIFIED:20160415T101915Z
UID:14747-1461369600-1461542399@cronachedibirra.it
SUMMARY:Ad Arzachena... c'è fermento
DESCRIPTION:Debutterà sabato 23 e domenica 24 aprile il festival Ad Arzachena… c’è fermento\, chiaramente in programma nel comune di Arzachena (OT). Parteciperanno i seguenti birrifici: Van de Streek\, P3 Brewing\, Loverbeer\, Birrificio di Cagliari\, Birrificio del Ducato\, Birrificio Mediterraneo\, Montegioco\, Marduk\, Barley. Il programma prevede due laboratori di degustazione\, cotta pubblica\, navette gratuite\, dj set\, spettacoli per bambini\, musica dal vivo. Per i dettagli vi consiglio di dare un’occhiata all’evento su Facebook.
URL:https://cronachedibirra.it/evento/ad-arzachena-ce-fermento/
LOCATION:Luogo Senza Nome\, Arzachena\, OT\, Italia
CATEGORIES:Manifestazioni
ATTACH;FMTTYPE=image/jpeg:https://cdn1.cronachedibirra.it/wp-content/uploads/20200131171347/arzachena.jpg
END:VEVENT
END:VCALENDAR