BEGIN:VCALENDAR
VERSION:2.0
PRODID:-//Cronache di Birra - ECPv6.15.20//NONSGML v1.0//EN
CALSCALE:GREGORIAN
METHOD:PUBLISH
X-WR-CALNAME:Cronache di Birra
X-ORIGINAL-URL:https://cronachedibirra.it
X-WR-CALDESC:Eventi per Cronache di Birra
REFRESH-INTERVAL;VALUE=DURATION:PT1H
X-Robots-Tag:noindex
X-PUBLISHED-TTL:PT1H
BEGIN:VTIMEZONE
TZID:Europe/Rome
BEGIN:DAYLIGHT
TZOFFSETFROM:+0100
TZOFFSETTO:+0200
TZNAME:CEST
DTSTART:20150329T010000
END:DAYLIGHT
BEGIN:STANDARD
TZOFFSETFROM:+0200
TZOFFSETTO:+0100
TZNAME:CET
DTSTART:20151025T010000
END:STANDARD
BEGIN:DAYLIGHT
TZOFFSETFROM:+0100
TZOFFSETTO:+0200
TZNAME:CEST
DTSTART:20160327T010000
END:DAYLIGHT
BEGIN:STANDARD
TZOFFSETFROM:+0200
TZOFFSETTO:+0100
TZNAME:CET
DTSTART:20161030T010000
END:STANDARD
BEGIN:DAYLIGHT
TZOFFSETFROM:+0100
TZOFFSETTO:+0200
TZNAME:CEST
DTSTART:20170326T010000
END:DAYLIGHT
BEGIN:STANDARD
TZOFFSETFROM:+0200
TZOFFSETTO:+0100
TZNAME:CET
DTSTART:20171029T010000
END:STANDARD
END:VTIMEZONE
BEGIN:VEVENT
DTSTART;VALUE=DATE:20160408
DTEND;VALUE=DATE:20160426
DTSTAMP:20260422T124320
CREATED:20160203T095749Z
LAST-MODIFIED:20160325T120911Z
UID:14289-1460073600-1461628799@cronachedibirra.it
SUMMARY:Mastro Birraio Santa Lucia di Piave
DESCRIPTION:Torna anche quest’anno\, per la bellezza di tre fine settimana successivi\, l’appuntamento con Mastro Birraio a Santa Lucia di Piave (TV). Il festival comincerà venerdì 8 aprile per andare avanti fino a domenica 10\, poi riprenderà da venerdì 15 a domenica 17 aprile\, infine l’ultima finestra sarà da venerdì 22 a lunedì 25 aprile. Il primo weekend sarà dedicato ai birrifici italiani\, il secondo a quelli del triveneto\, il terzo avrà invece un carattere internazionale. La formula sarà sempre la stessa dei precedenti anni\, quindi spazio a eccellenze gastronomiche locali\, mostre a tema\, operatori del settore\, collezionismo\, laboratori di degustazione\, seminari e conferenze\, musica dal vivo. Per tutti i dettagli\, che sono tantissimi\, vi rimando al sito della manifestazione.
URL:https://cronachedibirra.it/evento/mastro-birraio-santa-lucia-di-piave-2/
LOCATION:Luogo Senza Nome\, Santa Lucia di Piave\, TV\, Italia
CATEGORIES:Manifestazioni
ATTACH;FMTTYPE=image/jpeg:https://cdn1.cronachedibirra.it/wp-content/uploads/20200131171423/fiera-birra-santa-lucia.jpg
END:VEVENT
BEGIN:VEVENT
DTSTART;VALUE=DATE:20160415
DTEND;VALUE=DATE:20160418
DTSTAMP:20260422T124320
CREATED:20160331T103111Z
LAST-MODIFIED:20160331T103111Z
UID:14647-1460678400-1460937599@cronachedibirra.it
SUMMARY:FrankenBierFest 2016
DESCRIPTION:Dopo il grande successo dell’edizione di debutto\, anche quest’anno torna a Roma l’appuntamento con il FrankenBierFest\, il festival completamente dedicato alle tradizionali birre della Franconia (Baviera del nord). Da venerdì 15 a domenica 17 aprile la Limonaia di Villa Torlonia ospiterà un’eccezionale selezione di piccoli produttori locali a cura del Ma che siete venuti a fa’\, con la possibilità di assaggiare autentiche Keller\, Landbier\, Rauch\, Zwickel e altri stili della cultura tedesca\, il tutto spillato a caduta direttamente dalle botti. Il programma prevede una mostra fotografica e un angolo food con piatti ispirati alla cucina della Franconia. Per tutti i dettagli vi rimando al sito del FrankenFestBier\, dove trovate anche la lista di tutte le birre presenti.
URL:https://cronachedibirra.it/evento/frankenbierfest-2016/
LOCATION:Limonaia di Villa Torlonia
CATEGORIES:Manifestazioni
ATTACH;FMTTYPE=image/jpeg:https://cdn1.cronachedibirra.it/wp-content/uploads/20200131171421/franken-1.jpg
END:VEVENT
BEGIN:VEVENT
DTSTART;VALUE=DATE:20160415
DTEND;VALUE=DATE:20160418
DTSTAMP:20260422T124320
CREATED:20160331T104438Z
LAST-MODIFIED:20160331T104438Z
UID:14649-1460678400-1460937599@cronachedibirra.it
SUMMARY:Birre dal Basso 2016
DESCRIPTION:Anche quest’anno l’Acrobax di Roma ospiterà la manifestazione Birre dal Basso\, giunta alla sua seconda edizione. Da venerdì 15 a domenica 17 aprile negli spazi del centro sociale andranno in scena 17 birrifici con i loro prodotti: Agrilab\, B94\, Birrifirma\, Birrozzificio\, Birstrò\, Br’hant\, La Comune\, La Dama\, Fermenti Sociali\, Gedeone\, Birrificio Taranto\, Malatesta\, Math\, Okorei\, Schiumarell\, Vale la Pena\, Birrificio del Vesuvio. Il programma prevede musica dal vivo e dj set\, spettacoli d’intrattenimento\, seminari\, cotta pubblica\, degustazioni gratuite. Per ulteriori informazioni potete consultare il sito di Birre dal Basso.
URL:https://cronachedibirra.it/evento/birre-dal-basso-2016/
LOCATION:Acrobax\, Via della Vasca Navale\, 6\, Roma\, RM\, 00146\, Italy
CATEGORIES:Manifestazioni
ATTACH;FMTTYPE=image/jpeg:https://cdn1.cronachedibirra.it/wp-content/uploads/20200131171420/birre-dal-basso.jpg
END:VEVENT
BEGIN:VEVENT
DTSTART;VALUE=DATE:20160415
DTEND;VALUE=DATE:20160418
DTSTAMP:20260422T124320
CREATED:20160331T111320Z
LAST-MODIFIED:20160331T111320Z
UID:14653-1460678400-1460937599@cronachedibirra.it
SUMMARY:Beer Quake 2016
DESCRIPTION:Giunge alla sua quarta edizione la manifestazione “solidale” Beer Quake\, quest’anno in programma nella sala polivalente di Castelnuovo Rangone (MO) da venerdì 15 a domenica 17 aprile. Le 20 spine disponibili ospiteranno una sessantina di produzioni da Italia e resto del mondo\, selezionate dalle associazioni organizzatrici: Grande Schiuma\, Birra Divin Piacere\, Circolo del Luppolo e Carboneria Reggiana. Il programma prevede musica dal vivo\, spirit’s corner con prodotti italiani\, angolo gastronomico. Dettaglio da non sottovalutare: l’intero ricavato del festival sarà devoluto in beneficienza all’Associazione Volhand. Per tutti i dettagli potete collegarvi al sito di Beer Quake.
URL:https://cronachedibirra.it/evento/beer-quake-2016/
LOCATION:Sala Polivalente
CATEGORIES:Manifestazioni
ATTACH;FMTTYPE=image/png:https://cdn1.cronachedibirra.it/wp-content/uploads/20200131171420/beer-quake.png
END:VEVENT
BEGIN:VEVENT
DTSTART;VALUE=DATE:20160415
DTEND;VALUE=DATE:20160418
DTSTAMP:20260422T124320
CREATED:20160408T093516Z
LAST-MODIFIED:20160408T093516Z
UID:14700-1460678400-1460937599@cronachedibirra.it
SUMMARY:World Beer Torino
DESCRIPTION:Dopo il debutto milanese di inizio aprile\, il festival World Beer si sposta a Torino\, dove andrà in scena da venerdì 15 a domenica 17 aprile. La formula sarà la stessa\, con una postazione centrale dedicata alle birre internazionali e circondata da 14 stand di produttori italiani\, tra i quali Birrificio Castagnero\, Birrificio Alba\, Birra Gaia\, Collesi\, Brasseria Alpina\, Birra Laval\, Zahre beer\, Birrificio Konrad\, Birrificio Abbà\, Birrificio Valsusa\, Aleghe\, La Granda\, Flea. Ad accompagnare la birra ci saranno 25 cucine da strada. Dettagli sulla pagina Facebook dell’evento.
URL:https://cronachedibirra.it/evento/world-beer-torino/
LOCATION:Spazio MRF\, Corso Settembrini 178\, Torino\, TO\, Italia
CATEGORIES:Manifestazioni
END:VEVENT
BEGIN:VEVENT
DTSTART;VALUE=DATE:20160415
DTEND;VALUE=DATE:20160418
DTSTAMP:20260422T124320
CREATED:20160415T103425Z
LAST-MODIFIED:20160415T103425Z
UID:14750-1460678400-1460937599@cronachedibirra.it
SUMMARY:BeeRiver
DESCRIPTION:Si chiama BeeRiver la nuova manifestazione di Pisa che comincerà oggi alla Stazione Leopolda per proseguire fino a domenica 17 aprile. Molto interessante la lista dei birrifici presenti: Etnia\, Birrificio del Doge\, J63\, La Gilda dei Nani Birrai\, PBC\, Badalà\, Birra del Borgo\, Bibibir e Birrificio Sorrento. Il programma prevede 3 laboratori di degustazione\, la presentazione del libro I Racconti della Birra\, spazio bambini\, spettacoli\, musica dal vivo\, dj set e altro ancora. Ampia la scelta gastronomica grazie alla partecipazione di diversi espositori. Per ulteriori informazioni potete consultare il sito web di BeeRiver.
URL:https://cronachedibirra.it/evento/beeriver/
LOCATION:Stazione Lepolda\, Piazza Guerrazzi\, Pisa\, PI\, Italia
CATEGORIES:Manifestazioni
ATTACH;FMTTYPE=image/jpeg:https://cdn1.cronachedibirra.it/wp-content/uploads/20200131171343/beeriver.jpg
END:VEVENT
BEGIN:VEVENT
DTSTART;VALUE=DATE:20160416
DTEND;VALUE=DATE:20160418
DTSTAMP:20260422T124320
CREATED:20160408T094131Z
LAST-MODIFIED:20160408T094131Z
UID:14702-1460764800-1460937599@cronachedibirra.it
SUMMARY:Grazzano Visconti Beer Festival 2016
DESCRIPTION:Si terrà sabato 16 e domenica 17 aprile la seconda edizione del Grazzano Visconti Beer Festival\, in provincia di Piacenza. I birrifici presenti saranno Buttiga\, Padus\, Birra Nobili\, Legnone\, Castagnero\, Birra 1801\, Ex Fabrica\, Jeb\, Gaia\, Aurora\, Hibu\, Matildica\, Millevertus\, Campi Flegrei\, Birrificio Legnano e Orso Verde. Il programma prevede angolo gastronomico con cucina tipica locale\, mercatino dei sapori\, laboratori di degustazione\, musica e spettacoli. Per i dettagli vi rimando al sito di Beerinba.
URL:https://cronachedibirra.it/evento/grazzano-visconti-beer-festival-2016/
LOCATION:Luogo Senza Nome\, Grazzano Visconti\, PC\, Italia
CATEGORIES:Manifestazioni
ATTACH;FMTTYPE=image/jpeg:https://cdn1.cronachedibirra.it/wp-content/uploads/20200131171359/grazzano.jpg
END:VEVENT
END:VCALENDAR