BEGIN:VCALENDAR
VERSION:2.0
PRODID:-//Cronache di Birra - ECPv6.15.20//NONSGML v1.0//EN
CALSCALE:GREGORIAN
METHOD:PUBLISH
X-WR-CALNAME:Cronache di Birra
X-ORIGINAL-URL:https://cronachedibirra.it
X-WR-CALDESC:Eventi per Cronache di Birra
REFRESH-INTERVAL;VALUE=DURATION:PT1H
X-Robots-Tag:noindex
X-PUBLISHED-TTL:PT1H
BEGIN:VTIMEZONE
TZID:Europe/Rome
BEGIN:DAYLIGHT
TZOFFSETFROM:+0100
TZOFFSETTO:+0200
TZNAME:CEST
DTSTART:20140330T010000
END:DAYLIGHT
BEGIN:STANDARD
TZOFFSETFROM:+0200
TZOFFSETTO:+0100
TZNAME:CET
DTSTART:20141026T010000
END:STANDARD
BEGIN:DAYLIGHT
TZOFFSETFROM:+0100
TZOFFSETTO:+0200
TZNAME:CEST
DTSTART:20150329T010000
END:DAYLIGHT
BEGIN:STANDARD
TZOFFSETFROM:+0200
TZOFFSETTO:+0100
TZNAME:CET
DTSTART:20151025T010000
END:STANDARD
BEGIN:DAYLIGHT
TZOFFSETFROM:+0100
TZOFFSETTO:+0200
TZNAME:CEST
DTSTART:20160327T010000
END:DAYLIGHT
BEGIN:STANDARD
TZOFFSETFROM:+0200
TZOFFSETTO:+0100
TZNAME:CET
DTSTART:20161030T010000
END:STANDARD
END:VTIMEZONE
BEGIN:VEVENT
DTSTART;VALUE=DATE:20151210
DTEND;VALUE=DATE:20151221
DTSTAMP:20260422T012634
CREATED:20151211T111109Z
LAST-MODIFIED:20151211T111109Z
UID:14035-1449705600-1450655999@cronachedibirra.it
SUMMARY:Elav Yule Fest 2015
DESCRIPTION:Per due week end consecutivi – si comincia oggi\, venerdì 11 dicembre – a Comun Nuovo (BG) tornerà l’Elav Yule Fest\, il festival natalizio del birrificio Elav. Come tutti gli eventi organizzati dal produttore lombardo\, anche questo sarà “importante”: spazio coperto riscaldato con 600 posti a sedere\, una marea di musica dal vivo\, menu appositamente studiati accanto a street food\, pizza e dolci\, asta cinematografica e writing session. Chiaramente le birre protagoniste saranno quelle della casa\, ma quest’anno sarà presente anche un birrificio ospite proveniente dall’Austria: Bierol\, presentato dagli special guest della birreria Tribaun di Innsbruck. E ancora birra brulè\, panettoni alla birra e altre sorprese. Dettagli sul sito di Elav.
URL:https://cronachedibirra.it/evento/elav-yule-fest-2015/
LOCATION:Birrificio Elav
CATEGORIES:Manifestazioni
ATTACH;FMTTYPE=image/jpeg:https://cdn1.cronachedibirra.it/wp-content/uploads/20200131172253/elav-yule-1.jpg
END:VEVENT
BEGIN:VEVENT
DTSTART;VALUE=DATE:20151218
DTEND;VALUE=DATE:20151221
DTSTAMP:20260422T012634
CREATED:20151211T110131Z
LAST-MODIFIED:20151211T110131Z
UID:14033-1450396800-1450655999@cronachedibirra.it
SUMMARY:Birre sotto l'albero 2015
DESCRIPTION:Lo stavamo aspettando da un anno intero\, ma finalmente il consueto appuntamento con Birre sotto l’albero è all’orizzonte: da venerdì 18 a domenica 20 dicembre tornerà l’evento natalizio di Roma che ogni dicembre trasforma il triangolo Ma che siete – Bir&fud – Open Baladin nell’ombelico del mondo birrario. Purtroppo come sempre gli aggiornamenti arriveranno all’ultimo momento\, ma nel frattempo sappiate che la formula sarà pressoché identica alle scorse edizioni: una selezione sconfinata di birre natalizie (e non solo) con una presenza massiccia di birrai\, publican e appassionati da tutta Italia. Confermatissimi i laboratori guidati da Kuaska (che presenterà anche il suo libro)\, così come la suddivisione tra Bir&fud (birre italiane)\, Ma che siete (birre straniere) e Open (selezione mista). Mai come questa volta vi consiglio di tenere d’occhio gli aggiornamenti sulla pagina Facebook dell’evento.
URL:https://cronachedibirra.it/evento/birre-sotto-lalbero-2015/
LOCATION:Roma e dintorni
CATEGORIES:Manifestazioni
ATTACH;FMTTYPE=image/jpeg:https://cdn1.cronachedibirra.it/wp-content/uploads/20200131172254/birre-sotto-albero-1.jpg
END:VEVENT
END:VCALENDAR