BEGIN:VCALENDAR
VERSION:2.0
PRODID:-//Cronache di Birra - ECPv6.15.20//NONSGML v1.0//EN
CALSCALE:GREGORIAN
METHOD:PUBLISH
X-ORIGINAL-URL:https://cronachedibirra.it
X-WR-CALDESC:Eventi per Cronache di Birra
REFRESH-INTERVAL;VALUE=DURATION:PT1H
X-Robots-Tag:noindex
X-PUBLISHED-TTL:PT1H
BEGIN:VTIMEZONE
TZID:Europe/Rome
BEGIN:DAYLIGHT
TZOFFSETFROM:+0100
TZOFFSETTO:+0200
TZNAME:CEST
DTSTART:20140330T010000
END:DAYLIGHT
BEGIN:STANDARD
TZOFFSETFROM:+0200
TZOFFSETTO:+0100
TZNAME:CET
DTSTART:20141026T010000
END:STANDARD
BEGIN:DAYLIGHT
TZOFFSETFROM:+0100
TZOFFSETTO:+0200
TZNAME:CEST
DTSTART:20150329T010000
END:DAYLIGHT
BEGIN:STANDARD
TZOFFSETFROM:+0200
TZOFFSETTO:+0100
TZNAME:CET
DTSTART:20151025T010000
END:STANDARD
BEGIN:DAYLIGHT
TZOFFSETFROM:+0100
TZOFFSETTO:+0200
TZNAME:CEST
DTSTART:20160327T010000
END:DAYLIGHT
BEGIN:STANDARD
TZOFFSETFROM:+0200
TZOFFSETTO:+0100
TZNAME:CET
DTSTART:20161030T010000
END:STANDARD
END:VTIMEZONE
BEGIN:VEVENT
DTSTART;VALUE=DATE:20151204
DTEND;VALUE=DATE:20151207
DTSTAMP:20260422T000536
CREATED:20151204T111156Z
LAST-MODIFIED:20151204T111156Z
UID:14005-1449187200-1449446399@cronachedibirra.it
SUMMARY:Christmas Beer Festival 2015
DESCRIPTION:Anche quest’anno torna a Imbersago\, in provincia di Lecco\, la manifestazione Christmas Beer Festival\, che comincerà oggi per poi continuare fino a domenica 6 dicembre. Sarà una tre giorni dedicata alle birre di Natale: ce ne saranno una cinquantina sia alla spina che in bottiglia\, provenienti in primis dai produttori nazionali ma non solo. Il programma prevede servizio cucina\, menu a tema\, pranzo con abbinamenti cibo-birra. Ulteriori dettagli sul sito del Christmas Beer Festival.
URL:https://cronachedibirra.it/evento/christmas-beer-festival-2015/
LOCATION:Area Polifunzionale\, Imbersago\, LC\, Italia
CATEGORIES:Manifestazioni
ATTACH;FMTTYPE=image/jpeg:https://cdn1.cronachedibirra.it/wp-content/uploads/20200131172258/christmas-beer-festival1.jpg
END:VEVENT
BEGIN:VEVENT
DTSTART;VALUE=DATE:20151205
DTEND;VALUE=DATE:20151208
DTSTAMP:20260422T000536
CREATED:20151127T104145Z
LAST-MODIFIED:20151127T104157Z
UID:13944-1449273600-1449532799@cronachedibirra.it
SUMMARY:Beer Streat
DESCRIPTION:Si chiama Beer Streat il festival che andrà in scena a Salerno all’interno del Parco dell’Irno da sabato 5 a lunedì 7 dicembre. La formula è quella che vede protagonisti diversi pub campani (e non solo) partecipare con le loro selezioni di birre artigianali. I locali aderenti saranno: BAI\, Bir&fud\, Birre e Baguettes\, Birrotheca\, Cucchiarè\, Demetra Pub\, Draft\, La Quinta Pinta e Malto Reale. Il programma prevede musica dal vivo e un angolo gastronomico con eccellenze locali. Parte del ricavato sarà devoluto all’associazione Abbraccio Onlus. Ulteriori informazioni su Facebook.
URL:https://cronachedibirra.it/evento/beer-streat/
LOCATION:Parco dell’Irno
CATEGORIES:Manifestazioni
ATTACH;FMTTYPE=image/jpeg:https://cdn1.cronachedibirra.it/wp-content/uploads/20200131172411/LOGO-BEER-STREAT.jpg
END:VEVENT
BEGIN:VEVENT
DTSTART;VALUE=DATE:20151205
DTEND;VALUE=DATE:20151214
DTSTAMP:20260422T000536
CREATED:20151204T113440Z
LAST-MODIFIED:20151204T113440Z
UID:14011-1449273600-1450051199@cronachedibirra.it
SUMMARY:L'Artigiano in Fiera 2015
DESCRIPTION:  \n \nPrenderà il via domani a Milano\, e proseguirà fino a domenica 13 dicembre\, l’edizione 2015 de L’Artigiano in Fiera\, la grande kermesse dedicata al mondo dell’artigianato. E in un contesto del genere non potevano mancare i nostri microbirrifici\, che saranno presenti in numero notevole. Ecco quelli presenti: Antoniano\, I Due Mastri\, Iris\, Montelupo\, Birradamare\, Hibu\, Pavese\, Iriense\, Opera\, Epica\, 50&50\, Flea\, Fortebraccio\, Beerbante\, Costa Est\, Deb’s\, Big Hop\, Birrificio Aosta\, Beer on the Road\, Railroad\, Birra Libera\, Birrificio di Legnano\, Oltrepò\, Dom Byron\, Dottor Barbanera\, Gaia\, Officina della Birra\, Abbà\, Vallecellio\, Kamun\, Jeb\, Diciottozerouno\, La Buttiga\, Belgrano\, Legnone\, Sensolibero\, Bad Attitude\, Lord Chambray\, Croce di Malto\, Hordeum\, Spluga. Non mancheranno alcune società di distribuzione. Per tutti i dettagli vi consiglio di consultare il sito de L’Artigiano in Fiera.
URL:https://cronachedibirra.it/evento/artigiano-in-fiera-2015/
LOCATION:Fiera Milano Rho\, Rho\, Milano\, MI\, Italia
CATEGORIES:Manifestazioni
ATTACH;FMTTYPE=image/jpeg:https://cdn1.cronachedibirra.it/wp-content/uploads/20200131172255/artigiano-in-fiera.jpg
END:VEVENT
END:VCALENDAR