BEGIN:VCALENDAR
VERSION:2.0
PRODID:-//Cronache di Birra - ECPv6.15.20//NONSGML v1.0//EN
CALSCALE:GREGORIAN
METHOD:PUBLISH
X-ORIGINAL-URL:https://cronachedibirra.it
X-WR-CALDESC:Eventi per Cronache di Birra
REFRESH-INTERVAL;VALUE=DURATION:PT1H
X-Robots-Tag:noindex
X-PUBLISHED-TTL:PT1H
BEGIN:VTIMEZONE
TZID:Europe/Rome
BEGIN:DAYLIGHT
TZOFFSETFROM:+0100
TZOFFSETTO:+0200
TZNAME:CEST
DTSTART:20140330T010000
END:DAYLIGHT
BEGIN:STANDARD
TZOFFSETFROM:+0200
TZOFFSETTO:+0100
TZNAME:CET
DTSTART:20141026T010000
END:STANDARD
BEGIN:DAYLIGHT
TZOFFSETFROM:+0100
TZOFFSETTO:+0200
TZNAME:CEST
DTSTART:20150329T010000
END:DAYLIGHT
BEGIN:STANDARD
TZOFFSETFROM:+0200
TZOFFSETTO:+0100
TZNAME:CET
DTSTART:20151025T010000
END:STANDARD
BEGIN:DAYLIGHT
TZOFFSETFROM:+0100
TZOFFSETTO:+0200
TZNAME:CEST
DTSTART:20160327T010000
END:DAYLIGHT
BEGIN:STANDARD
TZOFFSETFROM:+0200
TZOFFSETTO:+0100
TZNAME:CET
DTSTART:20161030T010000
END:STANDARD
BEGIN:DAYLIGHT
TZOFFSETFROM:+0100
TZOFFSETTO:+0200
TZNAME:CEST
DTSTART:20170326T010000
END:DAYLIGHT
BEGIN:STANDARD
TZOFFSETFROM:+0200
TZOFFSETTO:+0100
TZNAME:CET
DTSTART:20171029T010000
END:STANDARD
BEGIN:DAYLIGHT
TZOFFSETFROM:+0100
TZOFFSETTO:+0200
TZNAME:CEST
DTSTART:20180325T010000
END:DAYLIGHT
BEGIN:STANDARD
TZOFFSETFROM:+0200
TZOFFSETTO:+0100
TZNAME:CET
DTSTART:20181028T010000
END:STANDARD
BEGIN:DAYLIGHT
TZOFFSETFROM:+0100
TZOFFSETTO:+0200
TZNAME:CEST
DTSTART:20190331T010000
END:DAYLIGHT
BEGIN:STANDARD
TZOFFSETFROM:+0200
TZOFFSETTO:+0100
TZNAME:CET
DTSTART:20191027T010000
END:STANDARD
BEGIN:DAYLIGHT
TZOFFSETFROM:+0100
TZOFFSETTO:+0200
TZNAME:CEST
DTSTART:20200329T010000
END:DAYLIGHT
BEGIN:STANDARD
TZOFFSETFROM:+0200
TZOFFSETTO:+0100
TZNAME:CET
DTSTART:20201025T010000
END:STANDARD
BEGIN:DAYLIGHT
TZOFFSETFROM:+0100
TZOFFSETTO:+0200
TZNAME:CEST
DTSTART:20210328T010000
END:DAYLIGHT
BEGIN:STANDARD
TZOFFSETFROM:+0200
TZOFFSETTO:+0100
TZNAME:CET
DTSTART:20211031T010000
END:STANDARD
BEGIN:DAYLIGHT
TZOFFSETFROM:+0100
TZOFFSETTO:+0200
TZNAME:CEST
DTSTART:20220327T010000
END:DAYLIGHT
BEGIN:STANDARD
TZOFFSETFROM:+0200
TZOFFSETTO:+0100
TZNAME:CET
DTSTART:20221030T010000
END:STANDARD
BEGIN:DAYLIGHT
TZOFFSETFROM:+0100
TZOFFSETTO:+0200
TZNAME:CEST
DTSTART:20230326T010000
END:DAYLIGHT
BEGIN:STANDARD
TZOFFSETFROM:+0200
TZOFFSETTO:+0100
TZNAME:CET
DTSTART:20231029T010000
END:STANDARD
BEGIN:DAYLIGHT
TZOFFSETFROM:+0100
TZOFFSETTO:+0200
TZNAME:CEST
DTSTART:20240331T010000
END:DAYLIGHT
BEGIN:STANDARD
TZOFFSETFROM:+0200
TZOFFSETTO:+0100
TZNAME:CET
DTSTART:20241027T010000
END:STANDARD
BEGIN:DAYLIGHT
TZOFFSETFROM:+0100
TZOFFSETTO:+0200
TZNAME:CEST
DTSTART:20250330T010000
END:DAYLIGHT
BEGIN:STANDARD
TZOFFSETFROM:+0200
TZOFFSETTO:+0100
TZNAME:CET
DTSTART:20251026T010000
END:STANDARD
BEGIN:DAYLIGHT
TZOFFSETFROM:+0100
TZOFFSETTO:+0200
TZNAME:CEST
DTSTART:20260329T010000
END:DAYLIGHT
BEGIN:STANDARD
TZOFFSETFROM:+0200
TZOFFSETTO:+0100
TZNAME:CET
DTSTART:20261025T010000
END:STANDARD
BEGIN:DAYLIGHT
TZOFFSETFROM:+0100
TZOFFSETTO:+0200
TZNAME:CEST
DTSTART:20270328T010000
END:DAYLIGHT
BEGIN:STANDARD
TZOFFSETFROM:+0200
TZOFFSETTO:+0100
TZNAME:CET
DTSTART:20271031T010000
END:STANDARD
END:VTIMEZONE
BEGIN:VEVENT
DTSTART;TZID=Europe/Rome:20260422T000536
DTEND;TZID=Europe/Rome:20260422T000536
DTSTAMP:20260422T000536
CREATED:20150724T095153Z
LAST-MODIFIED:20151009T094535Z
UID:13135-1776816336-1776816336@cronachedibirra.it
SUMMARY:Fiera Birra Artigianale Ferrara
DESCRIPTION:Si terrà da venerdì 23 a domenica 25 ottobre la Fiera della Birra Artigianale di Ferrara\, ospitata nei padiglioni di Ferrara Fiere. i birrifici partecipanti saranno La Buttiga\, Jeb\, Terre d’Acquaviva\, Birra 100Venti\, Estense\, Birra Maraffa\, Malastrana\, Abbà\, Deb’s\, Brasseria Alpina\, Bad Attitude\, Baladin\, La Moncerà\, Birra dell’Eremo\, BSA\, Opperbacco\, Birradamare e Birrificio di Cagliari. Secondo un format ormai ampiamente collaudato\, ci sarà un’ampia selezione gastronomica con carne alla brace\, piadine\, hamburger\, specialità locali\, pizza cotta a legno e altro ancora. Da segnalare le lezioni di avvicinamento alla degustazione di UBT. Per ulteriori dettagli potete consultare il sito dell’evento.
URL:https://cronachedibirra.it/evento/fiera-birra-artigianale-ferrara/
LOCATION:BZ
CATEGORIES:Manifestazioni
ATTACH;FMTTYPE=image/jpeg:https://cdn1.cronachedibirra.it/wp-content/uploads/20200131173350/fiera-ferrara.jpg
END:VEVENT
BEGIN:VEVENT
DTSTART;VALUE=DATE:20151023
DTEND;VALUE=DATE:20151026
DTSTAMP:20260422T000536
CREATED:20151009T110315Z
LAST-MODIFIED:20151009T110315Z
UID:13583-1445558400-1445817599@cronachedibirra.it
SUMMARY:Genova Beer Festival
DESCRIPTION:Si terrà da venerdì 23 a domenica 25 ottobre la prima edizione dello Genova Beer Festival\, che andrà in scena a Villa Bombrini\, ovviamente a Genova. I birrifici partecipanti saranno 14: Lambrate\, Birra del Borgo\, Birrificio del Forte\, Birrificio Italiano\, Brùton\, Canediguerra\, Civale\, Croce di Malto\, Busalla\, Gambolò\, Kamun\, Maltus Faber\, Nadir e Troll. Saranno presenti quattro postazioni gastronomiche con street food\, mentre i laboratori si avvarranno della presenza di Kuaska. E poi ancora kindergarten e un vasto programma di conferenze (alcune molto originali e interessanti). Per ulteriori dettagli su questa promettente manifestazione vi rimando al sito del Genova Beer Festival.
URL:https://cronachedibirra.it/evento/genova-beer-festival/
LOCATION:Villa Bombrini\, Via Muratori 5\, Genova\, GE\, Italia
CATEGORIES:Manifestazioni
ATTACH;FMTTYPE=image/jpeg:https://cdn1.cronachedibirra.it/wp-content/uploads/20200131173342/genova-beer-festival.jpg
END:VEVENT
BEGIN:VEVENT
DTSTART;VALUE=DATE:20151023
DTEND;VALUE=DATE:20151102
DTSTAMP:20260422T000536
CREATED:20150731T091118Z
LAST-MODIFIED:20151016T094358Z
UID:13195-1445558400-1446422399@cronachedibirra.it
SUMMARY:Fiera Birra Artigianale Pordenone
DESCRIPTION:I funzionali spazi della Fiera di Pordenone ospiteranno\, per due fine settimana successivi\, la tappa pordenonese della Fiera della Birra Artigianale. Il “primo tempo” andrà in scena da venerdì 23 a domenica 25 ottobre\, con la presenza dei seguenti birrifici: Jeb\, Zhare Beer\, San Giorgio\, Malastrana\, L’Inconsueto\, Villa Chazil\, Sognando Birra\, Padus\, Birrone\, Valscura\, Birrificio del Ducato\, Chimay\, Mr. Sez\, Bad Attitude\, Theresianer\, San Biagio\, Benaco 70\, Opperbacco e San Gabriel\, oltre a una selezione di birre americane. La seconda fase della manifestazione si terrà invece da venerdì 30 ottobre a domenica 1 novembre e vedrà la partecipazione dei birrifici Barcellona Beer Company\, Birradamare\, Les 3 Forquets\, Brasseria Alpina\, La Buttiga\, Birrificio della Granda\, Bradipongo\, Quero\, Birra del Borgo\, Baladin\, Birrificio Estense\, Caulier\, Birrificio Farnese\, La Superba\, Terre d’Acquaviva\, Birra 100Venti\, Croce di Malto\, Brau Kunst\, Bibibir\, Kundmuller. \nPer il resto la formula resterà invariata\, con ampia offerta gastronomica (prodotti regionali)\, laboratori di degustazione\, spazio per collezionisti\, musica dal vivo\, spettacoli d’intrattenimento e altro ancora. Tutti i dettagli sul sito del festival.
URL:https://cronachedibirra.it/evento/fiera-birra-artigianale-pordenone/
LOCATION:Pordenone Fiere\, Pordenone\, PN\, Italia
CATEGORIES:Manifestazioni
ATTACH;FMTTYPE=image/jpeg:https://cdn1.cronachedibirra.it/wp-content/uploads/20200131173235/fiera-pordenone.jpg
END:VEVENT
END:VCALENDAR