BEGIN:VCALENDAR
VERSION:2.0
PRODID:-//Cronache di Birra - ECPv6.15.20//NONSGML v1.0//EN
CALSCALE:GREGORIAN
METHOD:PUBLISH
X-WR-CALNAME:Cronache di Birra
X-ORIGINAL-URL:https://cronachedibirra.it
X-WR-CALDESC:Eventi per Cronache di Birra
REFRESH-INTERVAL;VALUE=DURATION:PT1H
X-Robots-Tag:noindex
X-PUBLISHED-TTL:PT1H
BEGIN:VTIMEZONE
TZID:Europe/Rome
BEGIN:DAYLIGHT
TZOFFSETFROM:+0100
TZOFFSETTO:+0200
TZNAME:CEST
DTSTART:20140330T010000
END:DAYLIGHT
BEGIN:STANDARD
TZOFFSETFROM:+0200
TZOFFSETTO:+0100
TZNAME:CET
DTSTART:20141026T010000
END:STANDARD
BEGIN:DAYLIGHT
TZOFFSETFROM:+0100
TZOFFSETTO:+0200
TZNAME:CEST
DTSTART:20150329T010000
END:DAYLIGHT
BEGIN:STANDARD
TZOFFSETFROM:+0200
TZOFFSETTO:+0100
TZNAME:CET
DTSTART:20151025T010000
END:STANDARD
BEGIN:DAYLIGHT
TZOFFSETFROM:+0100
TZOFFSETTO:+0200
TZNAME:CEST
DTSTART:20160327T010000
END:DAYLIGHT
BEGIN:STANDARD
TZOFFSETFROM:+0200
TZOFFSETTO:+0100
TZNAME:CET
DTSTART:20161030T010000
END:STANDARD
END:VTIMEZONE
BEGIN:VEVENT
DTSTART;VALUE=DATE:20151015
DTEND;VALUE=DATE:20151019
DTSTAMP:20260422T002210
CREATED:20151009T105542Z
LAST-MODIFIED:20151009T105542Z
UID:13580-1444867200-1445212799@cronachedibirra.it
SUMMARY:Birra in BO
DESCRIPTION:Dopo il debutto dello scorso marzo 2014\, da giovedì 15 a domenica 18 ottobre tornerà Birra in BO\, in scena nell’area museale di Ca’ la Ghironda di Zola Pedrosa (BO). La formula di questa edizione si sviluppa intorno alla selezione birraria di 12 locali bolognesi e di un distributore: Cafè de la Paix\, Celtic Druid\, Brewdog Bologna\, Pub Number Ten\, Mutenye Pub\, Baladin Bologna\, Il Punto\, Astral Beers\, La Vecchia Scuola\, Birra Cerqua\, Harvest Pub e Ranzani 13 e Birra di Classe. Il programma prevede stand di street food\, spettacoli\, dj set\, performance artistiche. Ulteriori informazioni sul sito di Birra in BO.
URL:https://cronachedibirra.it/evento/birra-in-bo-2/
LOCATION:Area Museale di Ca’ la Ghironda\, Ponte Ronca\, Zola Pedrosa\, BO\, Italia
CATEGORIES:Manifestazioni
ATTACH;FMTTYPE=image/jpeg:https://cdn1.cronachedibirra.it/wp-content/uploads/20200131173344/birrainbo1.jpg
END:VEVENT
END:VCALENDAR