BEGIN:VCALENDAR
VERSION:2.0
PRODID:-//Cronache di Birra - ECPv6.15.20//NONSGML v1.0//EN
CALSCALE:GREGORIAN
METHOD:PUBLISH
X-ORIGINAL-URL:https://cronachedibirra.it
X-WR-CALDESC:Eventi per Cronache di Birra
REFRESH-INTERVAL;VALUE=DURATION:PT1H
X-Robots-Tag:noindex
X-PUBLISHED-TTL:PT1H
BEGIN:VTIMEZONE
TZID:Europe/Rome
BEGIN:DAYLIGHT
TZOFFSETFROM:+0100
TZOFFSETTO:+0200
TZNAME:CEST
DTSTART:20140330T010000
END:DAYLIGHT
BEGIN:STANDARD
TZOFFSETFROM:+0200
TZOFFSETTO:+0100
TZNAME:CET
DTSTART:20141026T010000
END:STANDARD
BEGIN:DAYLIGHT
TZOFFSETFROM:+0100
TZOFFSETTO:+0200
TZNAME:CEST
DTSTART:20150329T010000
END:DAYLIGHT
BEGIN:STANDARD
TZOFFSETFROM:+0200
TZOFFSETTO:+0100
TZNAME:CET
DTSTART:20151025T010000
END:STANDARD
BEGIN:DAYLIGHT
TZOFFSETFROM:+0100
TZOFFSETTO:+0200
TZNAME:CEST
DTSTART:20160327T010000
END:DAYLIGHT
BEGIN:STANDARD
TZOFFSETFROM:+0200
TZOFFSETTO:+0100
TZNAME:CET
DTSTART:20161030T010000
END:STANDARD
END:VTIMEZONE
BEGIN:VEVENT
DTSTART;VALUE=DATE:20150921
DTEND;VALUE=DATE:20150928
DTSTAMP:20260421T122236
CREATED:20150910T102014Z
LAST-MODIFIED:20150910T102014Z
UID:13407-1442793600-1443398399@cronachedibirra.it
SUMMARY:Milano Beer Week 2015
DESCRIPTION:Dopo il debutto dello scorso anno\, da lunedì 21 a domenica 27 settembre torna la Milano Beer Week\, che per una settimana proporrà in diversi luoghi di Milano una serie di iniziative a tema. I locali coinvolti saranno 30\, chiaramente sparsi per tutta la città\, mentre gli eventi spazieranno da visite guidate a degustazioni\, da cene con abbinamenti a cotte dimostrative. Per il programma degli eventi (in costante aggiornamento) e tutte le altre informazioni naturalmente vi rimando al sito web della manifestazione.
URL:https://cronachedibirra.it/evento/milano-beer-week-2015/
LOCATION:Luogo Senza Nome\, Milano\, MI\, Italia
CATEGORIES:Manifestazioni
ATTACH;FMTTYPE=image/jpeg:https://cdn1.cronachedibirra.it/wp-content/uploads/20200131173537/milano-beer-week.jpg
END:VEVENT
BEGIN:VEVENT
DTSTART;VALUE=DATE:20150924
DTEND;VALUE=DATE:20151005
DTSTAMP:20260421T122236
CREATED:20150925T100847Z
LAST-MODIFIED:20150925T103319Z
UID:13486-1443052800-1444003199@cronachedibirra.it
SUMMARY:Oktoberfest de Noantri
DESCRIPTION:Sei birrifici romani\, musica dal vivo e un menù a metà tra la tradizione bavarese e quella romana. Sono gli ingredienti principali dell’Oktoberfest de Noartri organizzato da Stazione Birra di Roma per due week end successivi\, dal 24 al 27 settembre e dall’1 al 4 ottobre. I birrifici partecipanti saranno Turbacci\, Castelli Romani\, Gladiatore\, Birradamare\, Vale la Pena e\, naturalmente\, Stazione Birra. Per i dettagli visitate il sito di Stazione Birra.
URL:https://cronachedibirra.it/evento/oktoberfest-de-noantri/
LOCATION:Stazione Birra\, Via Placanica\, 171\, Roma\, RM\, Italia
CATEGORIES:Manifestazioni
ATTACH;FMTTYPE=image/png:https://cdn1.cronachedibirra.it/wp-content/uploads/20200131173444/oktoberfest-noantri.png
END:VEVENT
BEGIN:VEVENT
DTSTART;VALUE=DATE:20150925
DTEND;VALUE=DATE:20150928
DTSTAMP:20260421T122236
CREATED:20150904T113223Z
LAST-MODIFIED:20150918T095508Z
UID:13375-1443139200-1443398399@cronachedibirra.it
SUMMARY:ChiAmaLe Birre 2015
DESCRIPTION:Giunge alla quarta edizione la manifestazione ChiAmaLe Birre\, che si terrà ancora a Veleggio sul Mincio\, in provincia di Verona\, da venerdì 25 a domenica 27 settembre. Dodici i birrifici italiani presenti\, tutti di ottimo livello: Birrone\, Croce di Malto\, MC-77\, Elvo\, Mastino\, Amiata\, Birra Perugia\, Foglie d’Erba\, Retorto\, Dada\, PBC e Manerba. Ricchissima l’offerta gastronomica\, con primi\, hamburger\, carne\, pesce\, formaggi\, dolci e molto altro. Il programma prevede musica dal vivo\, area bimbi\, laboratori di degustazione e un angolo biblioteca per unire il piacere della birra a quello della lettura. Ulteriori informazioni sono disponibili sul sito del festival.
URL:https://cronachedibirra.it/evento/chiaamale-birre-2015/
LOCATION:Mercato Ortofrutticolo
CATEGORIES:Manifestazioni
ATTACH;FMTTYPE=image/jpeg:https://cdn1.cronachedibirra.it/wp-content/uploads/20200131173510/chiamale-birre.jpg
END:VEVENT
END:VCALENDAR