BEGIN:VCALENDAR
VERSION:2.0
PRODID:-//Cronache di Birra - ECPv6.15.20//NONSGML v1.0//EN
CALSCALE:GREGORIAN
METHOD:PUBLISH
X-WR-CALNAME:Cronache di Birra
X-ORIGINAL-URL:https://cronachedibirra.it
X-WR-CALDESC:Eventi per Cronache di Birra
REFRESH-INTERVAL;VALUE=DURATION:PT1H
X-Robots-Tag:noindex
X-PUBLISHED-TTL:PT1H
BEGIN:VTIMEZONE
TZID:Europe/Rome
BEGIN:DAYLIGHT
TZOFFSETFROM:+0100
TZOFFSETTO:+0200
TZNAME:CEST
DTSTART:20140330T010000
END:DAYLIGHT
BEGIN:STANDARD
TZOFFSETFROM:+0200
TZOFFSETTO:+0100
TZNAME:CET
DTSTART:20141026T010000
END:STANDARD
BEGIN:DAYLIGHT
TZOFFSETFROM:+0100
TZOFFSETTO:+0200
TZNAME:CEST
DTSTART:20150329T010000
END:DAYLIGHT
BEGIN:STANDARD
TZOFFSETFROM:+0200
TZOFFSETTO:+0100
TZNAME:CET
DTSTART:20151025T010000
END:STANDARD
BEGIN:DAYLIGHT
TZOFFSETFROM:+0100
TZOFFSETTO:+0200
TZNAME:CEST
DTSTART:20160327T010000
END:DAYLIGHT
BEGIN:STANDARD
TZOFFSETFROM:+0200
TZOFFSETTO:+0100
TZNAME:CET
DTSTART:20161030T010000
END:STANDARD
END:VTIMEZONE
BEGIN:VEVENT
DTSTART;VALUE=DATE:20150917
DTEND;VALUE=DATE:20150921
DTSTAMP:20260421T212822
CREATED:20150904T102505Z
LAST-MODIFIED:20150904T102505Z
UID:13369-1442448000-1442793599@cronachedibirra.it
SUMMARY:Elav Indie Festival 2015
DESCRIPTION:Giunge alla sua quarta edizione l’Elav Indie Festival\, l’evento annuale di Elav. Considerarla semplicemente la festa di compleanno del birrificio è riduttivo\, poiché come sempre sarà un vero e proprio festival con tanta musica (indipendente) dal vivo e una miriade di contenuti diversi. Da giovedì 17 a domenica 20 settembre troverete presso la nuova sede dello Spazio Fase ex Cartiera Pigna di Alzano Lombardo (BG) musica\, cinema\, fumetti\, editoria\, artigianato\, street food\, dj set e molto altro ancora. Ovviamente non mancherà la birra artigianale\, grazie alle produzioni della casa e a quelle di alcuni birrifici ospiti. Tutti i dettagli sul sito di Elav.
URL:https://cronachedibirra.it/evento/elav-indie-festival-2015/
LOCATION:Spazio Fase – Ex Cartiera Pigna\, Via Pesenti 1\, Alzano Lombardo\, BG\, Italia
CATEGORIES:Manifestazioni
ATTACH;FMTTYPE=image/jpeg:https://cdn1.cronachedibirra.it/wp-content/uploads/20200131173548/elav-indie-festival.jpg
END:VEVENT
BEGIN:VEVENT
DTSTART;VALUE=DATE:20150917
DTEND;VALUE=DATE:20150921
DTSTAMP:20260421T212822
CREATED:20150910T095713Z
LAST-MODIFIED:20150910T095713Z
UID:13401-1442448000-1442793599@cronachedibirra.it
SUMMARY:L'altro Oktoberfest della Valle dell'Aniene
DESCRIPTION:Come sarebbe l’Oktoberfest di Monaco se al posto delle “6 sorelle” si potessero bere birre artigianali tedesche? La risposta prova a darla L’altro Oktoberfest della Valle dell’Aniene\, festival a tema che nella sua quarta edizione si terrà a Tivoli Terme (RM) da giovedì 17 a domenica 20 settembre. Organizzato dal Golden Pot\, proporrà quasi 30 birre alla spina a rotazione e cucina tipica bavarese. Il programma prevede un workshop condotto da Manuele Colonna\, musica dal vivo\, giochi e intrattenimento. Ulteriori informazioni sul sito del Golden Pot.
URL:https://cronachedibirra.it/evento/laltro-oktoberfest-della-valle-dellaniene/
LOCATION:Il Casale\, Via Del Barco snc\, Tivoli Terme\, RM\, Italia
CATEGORIES:Manifestazioni
ATTACH;FMTTYPE=image/jpeg:https://cdn1.cronachedibirra.it/wp-content/uploads/20200131173542/altro-oktoberfest.jpg
END:VEVENT
BEGIN:VEVENT
DTSTART;VALUE=DATE:20150917
DTEND;VALUE=DATE:20150921
DTSTAMP:20260421T212822
CREATED:20150918T100306Z
LAST-MODIFIED:20150918T100306Z
UID:13446-1442448000-1442793599@cronachedibirra.it
SUMMARY:Ferentino Beer Fest 2015
DESCRIPTION:Dopo l’ottimo riscontro della prima edizione anche quest’anno torna l’appuntamento con il Ferentino Beer Fest\, ovviamente a Ferentino (FR). Cominciata ieri\, la manifestazione andrà avanti fino a domenica 20 settembre e proporrà tante birre artigianali italiane\, accompagnate da street food e musica dal vivo. Il programma prevede anche una cotta pubblica (domenica)\, laboratori sull’abbinamento birra – cibo\, torneo di beer pong e dj set. Tutti i dettagli sulla pagina Facebook della Locanda del Birraio.
URL:https://cronachedibirra.it/evento/ferentino-beer-fest-2015/
LOCATION:Luogo Senza Nome\, Ferentino\, FR\, Italia
CATEGORIES:Manifestazioni
ATTACH;FMTTYPE=image/png:https://cdn1.cronachedibirra.it/wp-content/uploads/20200131173506/ferentino-beer-fest.png
END:VEVENT
END:VCALENDAR