BEGIN:VCALENDAR
VERSION:2.0
PRODID:-//Cronache di Birra - ECPv6.15.20//NONSGML v1.0//EN
CALSCALE:GREGORIAN
METHOD:PUBLISH
X-ORIGINAL-URL:https://cronachedibirra.it
X-WR-CALDESC:Eventi per Cronache di Birra
REFRESH-INTERVAL;VALUE=DURATION:PT1H
X-Robots-Tag:noindex
X-PUBLISHED-TTL:PT1H
BEGIN:VTIMEZONE
TZID:Europe/Rome
BEGIN:DAYLIGHT
TZOFFSETFROM:+0100
TZOFFSETTO:+0200
TZNAME:CEST
DTSTART:20250330T010000
END:DAYLIGHT
BEGIN:STANDARD
TZOFFSETFROM:+0200
TZOFFSETTO:+0100
TZNAME:CET
DTSTART:20251026T010000
END:STANDARD
BEGIN:DAYLIGHT
TZOFFSETFROM:+0100
TZOFFSETTO:+0200
TZNAME:CEST
DTSTART:20260329T010000
END:DAYLIGHT
BEGIN:STANDARD
TZOFFSETFROM:+0200
TZOFFSETTO:+0100
TZNAME:CET
DTSTART:20261025T010000
END:STANDARD
BEGIN:DAYLIGHT
TZOFFSETFROM:+0100
TZOFFSETTO:+0200
TZNAME:CEST
DTSTART:20270328T010000
END:DAYLIGHT
BEGIN:STANDARD
TZOFFSETFROM:+0200
TZOFFSETTO:+0100
TZNAME:CET
DTSTART:20271031T010000
END:STANDARD
END:VTIMEZONE
BEGIN:VEVENT
DTSTART;TZID=Europe/Rome:20260421T121844
DTEND;TZID=Europe/Rome:20260421T121844
DTSTAMP:20260421T121844
CREATED:20150716T102627Z
LAST-MODIFIED:20150716T103106Z
UID:13099-1776773924-1776773924@cronachedibirra.it
SUMMARY:Porck'n'Beer 2015
DESCRIPTION:E sono cinque edizioni anche per il Porck’n’Beer\, il festival estivo del birrificio Montegioco. In programma da giovedì 23 a domenica 26 luglio\, il Porck’n’Beer si terrà sempre presso Montegioco (AL). Oltre alle tantissime birre della casa\, troverete un angolo Franconia a cura del Macche\, laboratori di degustazione condotti da Kuaska e Andrea Camaschella\, cucina rurale\, musica dal vivo e tanto altro ancora. Per gli aggiornamenti tenete d’occhio la pagina Facebook dell’evento.
URL:https://cronachedibirra.it/evento/porcknbeer-2015/
LOCATION:BZ
CATEGORIES:Manifestazioni
END:VEVENT
BEGIN:VEVENT
DTSTART;TZID=Europe/Rome:20260421T121844
DTEND;TZID=Europe/Rome:20260421T121844
DTSTAMP:20260421T121844
CREATED:20150724T100817Z
LAST-MODIFIED:20150724T100817Z
UID:13140-1776773924-1776773924@cronachedibirra.it
SUMMARY:Birra d'Ecc Cuneo
DESCRIPTION:È cominciata ieri e si protrarrà fino a domenica 26 luglio la tappa cuneese di Birra d’Ecc. Presso la Piazza della Costituzione di Cuneo troverete i seguenti birrifici: Alba\, Biondini\, BSA\, Brasseria Alpina\, Kauss\, Lis Doc\, Birrificio Agrifarnese\, Tarditi. Come sempre il programma prevede musica dal vivo\, street food\, contest artistici\, eventi d’intrattenimento\, dj set e laboratori di degustazione. Per ulteriori informazioni potete consultare il sito di Birra d’Ecc.
URL:https://cronachedibirra.it/evento/birra-decc-cuneo/
LOCATION:BZ
CATEGORIES:Manifestazioni
END:VEVENT
END:VCALENDAR