BEGIN:VCALENDAR
VERSION:2.0
PRODID:-//Cronache di Birra - ECPv6.15.20//NONSGML v1.0//EN
CALSCALE:GREGORIAN
METHOD:PUBLISH
X-WR-CALNAME:Cronache di Birra
X-ORIGINAL-URL:https://cronachedibirra.it
X-WR-CALDESC:Eventi per Cronache di Birra
REFRESH-INTERVAL;VALUE=DURATION:PT1H
X-Robots-Tag:noindex
X-PUBLISHED-TTL:PT1H
BEGIN:VTIMEZONE
TZID:Europe/Rome
BEGIN:DAYLIGHT
TZOFFSETFROM:+0100
TZOFFSETTO:+0200
TZNAME:CEST
DTSTART:20160327T010000
END:DAYLIGHT
BEGIN:STANDARD
TZOFFSETFROM:+0200
TZOFFSETTO:+0100
TZNAME:CET
DTSTART:20161030T010000
END:STANDARD
BEGIN:DAYLIGHT
TZOFFSETFROM:+0100
TZOFFSETTO:+0200
TZNAME:CEST
DTSTART:20170326T010000
END:DAYLIGHT
BEGIN:STANDARD
TZOFFSETFROM:+0200
TZOFFSETTO:+0100
TZNAME:CET
DTSTART:20171029T010000
END:STANDARD
BEGIN:DAYLIGHT
TZOFFSETFROM:+0100
TZOFFSETTO:+0200
TZNAME:CEST
DTSTART:20180325T010000
END:DAYLIGHT
BEGIN:STANDARD
TZOFFSETFROM:+0200
TZOFFSETTO:+0100
TZNAME:CET
DTSTART:20181028T010000
END:STANDARD
END:VTIMEZONE
BEGIN:VEVENT
DTSTART;VALUE=DATE:20170601
DTEND;VALUE=DATE:20170605
DTSTAMP:20260421T200054
CREATED:20170519T114731Z
LAST-MODIFIED:20170519T114731Z
UID:17573-1496275200-1496620799@cronachedibirra.it
SUMMARY:Beerghem 2017
DESCRIPTION:La provincia di Bergamo è una terra molto ricca dal punto di vista birrario ed è a essa che è dedicato l’ormai tradizionale Beerghem\, festival che quest’anno si terrà da giovedì 1 a domenica 4 giugno come sempre a San Pellegrino Terme. I birrifici presenti saranno  Via Priula\, Elav\, Lemine\, Otus\, Kaos\, Valcavallina\, Birrificio del Lago\, Birrificio della Ghironda\, Endorama\, Monangi e Adda. Tante le iniziative previste nel programma: musica dal vivo\, dj set\, mercato alimentare\, didattica\, dibattiti e incontri. La cucina sarà gestita dallo chef Pier Milesi che studierà un menu speciale per l’occasione. Ulteriori dettagli sono disponibili sul sito del birrificio Via Priula.
URL:https://cronachedibirra.it/evento/beerghem-2017/
LOCATION:San Pellegrino Terme\, San Pellegrino Terme\, BG\, Italia
CATEGORIES:Manifestazioni
ATTACH;FMTTYPE=image/jpeg:https://cdn1.cronachedibirra.it/wp-content/uploads/20200131181201/BeerGhem_1-2-3-4_Giugno_Promo_1_web.jpg
END:VEVENT
BEGIN:VEVENT
DTSTART;VALUE=DATE:20170601
DTEND;VALUE=DATE:20170605
DTSTAMP:20260421T200054
CREATED:20170519T120342Z
LAST-MODIFIED:20170519T120342Z
UID:17581-1496275200-1496620799@cronachedibirra.it
SUMMARY:Birrammano 2017
DESCRIPTION:Si terrà anche quest’anno a Loreo\, in provincia di Rovigo\, il festival Birramano\, in programma da giovedì 1 a domenica 4 giugno. I birrifici presenti saranno nove: B2o\, Birrificio del Lago\, Capovolto\, Forgotten\, Il Conte Gelo\, Maglio\, Monterosso\, Praforte e Sognandobirra. Il programma prevede musica dal vivo\, dj set\, moto raduno\, concorso di homebrewing\, concorso popolare\, giochi e laboratori. Per i dettagli potete dare un’occhiata alla pagina Facebook dell’evento.
URL:https://cronachedibirra.it/evento/birrammano-2017/
LOCATION:Riviera Marconi\, Loreo\, RO\, Italia
CATEGORIES:Manifestazioni
ATTACH;FMTTYPE=image/jpeg:https://cdn1.cronachedibirra.it/wp-content/uploads/20200131181149/birramano-scaled.jpg
END:VEVENT
BEGIN:VEVENT
DTSTART;VALUE=DATE:20170601
DTEND;VALUE=DATE:20170605
DTSTAMP:20260421T200054
CREATED:20170526T122441Z
LAST-MODIFIED:20170526T122441Z
UID:17641-1496275200-1496620799@cronachedibirra.it
SUMMARY:Beernocchi Beer Festival 2017
DESCRIPTION:Torna anche quest’anno a Roma l’appuntamento con il Beernocchi Beer Festival\, l’evento birrario del quartiere Casal Bernocchi che andrà in scena da giovedì 1 a domenica 4 giugno. Come sempre sarà un festival polivalente\, con tanti contenuti innaffiati da birre italiane e straniere disponibili a rotazione nelle 20 spine totali. Il programma è davvero denso di appuntamenti\, quindi vi consiglio di dare un’occhiata alla pagina Facebook della manifestazione\, comunque considerate che ci sarà una valanga di musica dal vivo\, contest fotografico\, tornei sportivi\, street food\, mercato di artigianato\, iniziative culturali e di intrattenimento e altro ancora.
URL:https://cronachedibirra.it/evento/beernocchi-beer-festival-2017/
LOCATION:Centro Polivalente Casal Bernocchi\, Via Scartazzini 19\, Roma\, RM\, Italia
CATEGORIES:Manifestazioni
ATTACH;FMTTYPE=image/jpeg:https://cdn1.cronachedibirra.it/wp-content/uploads/20200131181125/beernocchi-1.jpg
END:VEVENT
BEGIN:VEVENT
DTSTART;VALUE=DATE:20170602
DTEND;VALUE=DATE:20170605
DTSTAMP:20260421T200054
CREATED:20170602T162240Z
LAST-MODIFIED:20170602T162240Z
UID:17717-1496361600-1496620799@cronachedibirra.it
SUMMARY:Arrogant Sour Festival
DESCRIPTION:Torna più acido e arrogante che mai l’Arrogant Sour Festival\, l’evento completamente dedicato alle birre “sour”. Teatro della manifestazione saranno ancora i Chiostri della Ghiara di Reggio Emilia\, dove da venerdì 2 a domenica 4 giugno troverete una marea di birre acide (70 spine raccolte in un unico bancone di 40 metri) da birrifici italiani e stranieri. Oltre a un’enormità di chicche sour\, il programma prevede tantissimi laboratori di approfondimento\, un seminario tematico per homebrewer\, musica dal vivo e altro ancora. Se siete amanti di queste specialità\, è ovvio che è un appuntamento da non mancare. Dettagli sul sito del festival.
URL:https://cronachedibirra.it/evento/arrogant-sour-festival-2/
LOCATION:Chiostri della Ghiara
CATEGORIES:Manifestazioni
ATTACH;FMTTYPE=image/jpeg:https://cdn1.cronachedibirra.it/wp-content/uploads/20200131181045/arrogant.jpg
END:VEVENT
BEGIN:VEVENT
DTSTART;VALUE=DATE:20170603
DTEND;VALUE=DATE:20170605
DTSTAMP:20260421T200054
CREATED:20170526T120826Z
LAST-MODIFIED:20170526T120826Z
UID:17633-1496448000-1496620799@cronachedibirra.it
SUMMARY:Festa delle birre artigianali... di Classe
DESCRIPTION:Si terrà nelle giornate di sabato 3 e domenica 4 giugno l’evento Festa delle birre artigianali… di Classe. Il nome gioca con il comune di Classe (RA) che ospiterà la manifestazione. Saranno presenti 6 birrifici artigianali locali: Bifor\, Malti e Bassi\, Birra Bizantina\, Consolare 72\, Birra Riminese e Birra Nostrale. Il programma prevede street food e cucina romagnola\, musica live e dj set\, area giochi per bambini e proiezione della finale di Champions. Per i dettagli vi rimando alla pagina Facebook del festival.
URL:https://cronachedibirra.it/evento/festa-delle-birre-artigianali-di-classe/
LOCATION:Campo Sportivo USD Classe\, via Classense 120\, Classe\, RA\, 48124\, Italia
CATEGORIES:Manifestazioni
ATTACH;FMTTYPE=image/jpeg:https://cdn1.cronachedibirra.it/wp-content/uploads/20200131181125/festa-classe.jpg
END:VEVENT
BEGIN:VEVENT
DTSTART;VALUE=DATE:20170609
DTEND;VALUE=DATE:20170612
DTSTAMP:20260421T200054
CREATED:20170511T132619Z
LAST-MODIFIED:20170526T124658Z
UID:17526-1496966400-1497225599@cronachedibirra.it
SUMMARY:Fermentazioni 2017
DESCRIPTION:Grandissime novità per la quinta edizione di Fermentazioni\, il grande festival di Roma dedicato alla birra artigianale italiana. Prima novità\, il periodo: quest’anno la manifestazione si terrà a ridosso dell’estate e più esattamente da venerdì 9 a domenica 11 giugno. Seconda novità\, la location: per la prima volta l’evento sarà ospitato dagli splendidi spazi del Guido Reni District\, polo tematico facilmente raggiungibile con mezzi privati o trasporto pubblico. Terza novità\, le modalità d’ingresso: l’acquisto del biglietto (stesso prezzo dello scorso anno) permetterà di entrare gratuitamente fino alle 18\,00 nei giorni successivi. Per il resto sarà confermatissima la formula di sempre\, con tanta birra artigianale ma anche contenuti a 360° per offrire un appuntamento piacevole per tutti. \nSaranno anche quest’anno 30 i microbirrifici provenienti da tutta Italia: BiRen (Emilia-Romagna)\, Birra dell’Eremo (Umbria)\, Birra Perugia (Umbria)\, Birradamare (Lazio)\, Birranova (Puglia)\, Birrificio del Doge (Veneto)\, Birrificio del Ducato (Emilia-Romagna)\, Birrificio di Cagliari (Sardegna)\, Birrificio Italiano (Lombardia)\, Birrificio Pontino (Lazio)\, BirrOne (Veneto)\, Brewfist (Lombardia)\, Brùton (Toscana)\, Canediguerra (Piemonte)\, Croce di Malto (Piemonte)\, Eastside (Lazio)\, Etnia (Lombardia)\, Foglie d’Erba (Friuli-Venezia Giulia)\, Hammer (Lombardia)\, L’Olmaia (Toscana)\, La Casa di Cura (Abruzzo)\, La Fucina (Molise)\, Lambrate (Lombardia)\, Manerba (Lombardia)\, MC-77 (Marche)\, Opperbacco (Abruzzo)\, P3 Brewing (Sardegna)\, Ritual Lab (Lazio)\, Birrificio Sorrento (Campania)\, Vetra (Lombardia). \nCome sempre grande attenzione è riposta nel programma di seminari e workshop sul tema birra Confermati i due laboratori più strutturati nel “prime time” di sabato e domenica\, condotti da Roberto Muzi (docente per i Master of Food di Slow Food) e incentrati sull’evoluzione dello stile (American) IPA e sulle birre realizzate con cereali alternativi. Ci sarà poi un seminario di Unionbirrai sulle novità della sua recente rivoluzione e sugli interventi previsti per contrastare l’invasione dell’industria\, l’ormai tradizionale laboratorio sulle nuove birre italiane presenti a Fermentazioni e il mini corso di avvicinamento alla degustazione a cura dell’Unione Degustatori Birra. Infine Nicola Grande di Birra Etnia salirà in cattedra per spiegare il progetto gluten free del birrificio lombardo e le novità in materia di birre senza glutine. \nCome accennato però Fermentazioni non sarà solo birra. Sarà anche grande cibo\, con food truck e street food esclusivo come Trapizzino; sarà intrattenimento con la musica di Radio Rock e le iniziative dei partner della manifestazione; sarà attento ai più piccoli\, con tanti laboratori gratuiti per bambini; sarà\, infine\, un luogo di creatività\, con il mercato vintage e artigianale. Per aggiornamenti e approfondimenti potete consultare il sito web del festival.
URL:https://cronachedibirra.it/evento/fermentazioni-2017/
LOCATION:Guido Reni District\, Via Guido Reni 7\, Roma\, 00197\, Italia
CATEGORIES:Manifestazioni
ATTACH;FMTTYPE=image/jpeg:https://cdn1.cronachedibirra.it/wp-content/uploads/20200131181306/fermentazioni-2017.jpg
END:VEVENT
BEGIN:VEVENT
DTSTART;VALUE=DATE:20170609
DTEND;VALUE=DATE:20170612
DTSTAMP:20260421T200054
CREATED:20170526T115710Z
LAST-MODIFIED:20170526T120846Z
UID:17626-1496966400-1497225599@cronachedibirra.it
SUMMARY:Fermento Marchigiano
DESCRIPTION:Si chiama Fermento Marchigiano il festival che si terrà nel centro storico di Monteprandone\, comune in provincia di Ascoli Piceno\, da venerdì 9 a domenica 11 giugno. I birrifici presenti saranno Donkeybeer\, Bibibir\, Birrificio 1965\, Laurus\, Opperbacco\, La Casa di Cura\, Millecento\, La Castellana\, Jester\, Birrificio del Rio\, Carnival\, 20.13. Il programma prevede un’ampia offerta gastronomica di qualità\, musica dal vivo e tante altre iniziative. Per ulteriori informazioni potete consultare la pagina Facebook della manifestazione.
URL:https://cronachedibirra.it/evento/fermento-marchigiano/
LOCATION:Centro storico di Monteprandone\, Monteprandone\, AP\, Italia
CATEGORIES:Manifestazioni
ATTACH;FMTTYPE=image/jpeg:https://cdn1.cronachedibirra.it/wp-content/uploads/20200131181125/fermento-marchigiano.jpg
END:VEVENT
BEGIN:VEVENT
DTSTART;VALUE=DATE:20170609
DTEND;VALUE=DATE:20170612
DTSTAMP:20260421T200054
CREATED:20170526T123117Z
LAST-MODIFIED:20170526T123117Z
UID:17645-1496966400-1497225599@cronachedibirra.it
SUMMARY:Malt in Fossa 2017
DESCRIPTION:Quinta edizione per l’ormai collaudatissimo Malt in Fossa\, manifestazione che si terrà venerdì 9 e sabato 10 giugno in Piazza Garibaldi a Sogliano sul Rubicone (FC). I birrifici presenti saranno quasi tutti di zona: Bellazzi\, Vecchia Orsa\, Birrificio dei Castelli\, Birrificio Non Retorico\, Birrificio Abusivo\, Bifor\, Birra Nostrale\, Monkey e Mazapégul. Ci sarà un angolo dedicato alle produzioni acide a cura de Il Punto di Bologna\, mentre il programma proporrà anche musica dal vivo\, dj set\, ampia scelta gastronomica e altro ancora. Trovate ulteriori informazioni nella pagina Facebook di Malt in Fossa.
URL:https://cronachedibirra.it/evento/malt-in-fossa-2017/
LOCATION:Piazza Garibaldi\, Piazza Garibaldi\, Sogliano al Rubicone\, FC\, Italia
CATEGORIES:Manifestazioni
ATTACH;FMTTYPE=image/jpeg:https://cdn1.cronachedibirra.it/wp-content/uploads/20200131181124/malt-in-fossa-1.jpg
END:VEVENT
BEGIN:VEVENT
DTSTART;VALUE=DATE:20170609
DTEND;VALUE=DATE:20170612
DTSTAMP:20260421T200054
CREATED:20170601T114732Z
LAST-MODIFIED:20170601T114732Z
UID:17684-1496966400-1497225599@cronachedibirra.it
SUMMARY:Un Mare di Birra... sull'Isola del Giglio
DESCRIPTION:Andrà in scena da venerdì 9 a domenica 11 giugno la versione “isolana” di Un Mare di Birra\, che sarà ospitata dal suggestivo Giglio Castello sull’Isola del Giglio (GR). Sarà presente una selezione di birre italiane provenienti da soli birrifici italiani: Hammer\, Lambrate\, Extraomnes\, Birrificio Rurale\, Eastside\, Loverbeer\, Ritual Lab\, Lariano\, Birrificio Italiano\, Brewfist\, Cr/ak\, Birra Amiata\, Brùton\, Piccolo Birrificio Clandestino\, Birrificio degli Archi\, Math e Birra Isola del Giglio. Il programma prevede laboratori di degustazione\, specialità culinarie dell’isola e convenzioni con gli operatori locali. Ulteriori informazioni sul sito di Un Mare di Birra.
URL:https://cronachedibirra.it/evento/un-mare-di-birra-sullisola-del-giglio/
LOCATION:Giglio Castello\, Isola del Giglio\, GR\, Italia
CATEGORIES:Manifestazioni
ATTACH;FMTTYPE=image/jpeg:https://cdn1.cronachedibirra.it/wp-content/uploads/20200131181101/mare-birra-giglio.jpg
END:VEVENT
BEGIN:VEVENT
DTSTART;VALUE=DATE:20170609
DTEND;VALUE=DATE:20170612
DTSTAMP:20260421T200054
CREATED:20170601T120017Z
LAST-MODIFIED:20170601T120017Z
UID:17688-1496966400-1497225599@cronachedibirra.it
SUMMARY:Beer Park Festival 2017
DESCRIPTION:Torna a Roma l’appuntamento con il Beer Park Festival\, che si terrà quest’anno da venerdì 9 a domenica 11 giugno nel nuovo spazio del Parco Ponte Nomentano\, adiacente a Piazza Sempione. I birrifici presenti saranno Agrilab\, B94\, Babylon\, Bibibir\, BSA\, Ebers\, ECB\, Hilltop\, Dupont\, Jungle Juice\, La Fucina. Lucky Brews\, MC-77\, PBC\, Railroad\, Rebel’s\, Twigg\, Dougall’s e Borderline. Il programma prevede diversi punti di street food\, una selezione di sidri e un pre-opening party in programma giovedì 8 presso il Twenty. Per ulteriori informazioni potete consultare il sito della manifestazione.
URL:https://cronachedibirra.it/evento/beer-park-festival-2017/
LOCATION:Parco Ponte Nomentano\, Via Nomentana\, Roma\, RM\, Italia
CATEGORIES:Manifestazioni
ATTACH;FMTTYPE=image/jpeg:https://cdn1.cronachedibirra.it/wp-content/uploads/20200131181100/cropped-beerparkfestival2017sitointernet1.jpg
END:VEVENT
BEGIN:VEVENT
DTSTART;VALUE=DATE:20170609
DTEND;VALUE=DATE:20170612
DTSTAMP:20260421T200054
CREATED:20170601T121024Z
LAST-MODIFIED:20170601T121024Z
UID:17692-1496966400-1497225599@cronachedibirra.it
SUMMARY:Attenti al Luppolo 2017
DESCRIPTION:Dopo il debutto dello scorso anno torna l’appuntamento con Attenti al Luppolo\, manifestazione che si terrà da venerdì 9 a domenica 11 giugno presso il Mercato Agricolo Coperto di Valmadrera (LC). I birrifici partecipanti saranno tutti locali: Dulac\, Orma Bianca\, Herba Monstrum\, Lariano\, Draco’s Cave\, Legnone\, Tre Pupazzi e Trubes. Il programma prevede musica dal vivo\, truck food\, degustazioni guidate\, concorso popolare\, animazione e parcheggio gratuito. Aggiornamenti e ulteriori informazioni sono disponibili sulla pagina Facebook dell’evento.
URL:https://cronachedibirra.it/evento/attenti-al-luppolo-2017/
LOCATION:Mercato Agricolo Coperto\, Valmadrera\, LC\, Italia
CATEGORIES:Manifestazioni
ATTACH;FMTTYPE=image/jpeg:https://cdn1.cronachedibirra.it/wp-content/uploads/20200131181100/attenti-luppolo.jpg
END:VEVENT
BEGIN:VEVENT
DTSTART;VALUE=DATE:20170609
DTEND;VALUE=DATE:20170612
DTSTAMP:20260421T200054
CREATED:20170601T125830Z
LAST-MODIFIED:20170601T125830Z
UID:17707-1496966400-1497225599@cronachedibirra.it
SUMMARY:Artebirra Pasturana 2017
DESCRIPTION:Giunge addirittura alla sua quindicesima edizione uno degli appuntamenti storici per la birra artigianale italiana. Stiamo chiaramente parlando di Artebirra Pasturana\, che si terrà da venerdì 9 a domenica 11 giugno presso il Campo Sportivo di Pasturana (AL). I birrifici presenti saranno Beba\, Maltus Faber\, Birra Pasturana\, Rolio\, Lambrate\, Montegioco\, Extraomnes\, Lord Chambray\, Baladin e Birrificio Italiano. Il programma come sempre prevede concorso popolare\, musica dal vivo\, laboratori condotti da Kuaska\, ampia offerta gastronomica locale. Tutti i dettagli sono consultabili sul sito di Artebirra.
URL:https://cronachedibirra.it/evento/artebirra-pasturana-2017/
LOCATION:Campo Sportivo di Pasturana\, Pasturana\, AL\, Italia
CATEGORIES:Manifestazioni
END:VEVENT
BEGIN:VEVENT
DTSTART;VALUE=DATE:20170615
DTEND;VALUE=DATE:20170619
DTSTAMP:20260421T200054
CREATED:20170608T121254Z
LAST-MODIFIED:20170608T121254Z
UID:17746-1497484800-1497830399@cronachedibirra.it
SUMMARY:Birroforum 2017
DESCRIPTION:È in programma da giovedì 15 a domenica 18 giugno l’edizione 2017 di Birroforum\, che si terrà presso Lungotevere Maresciallo Diaz a Roma. L’impostazione è quella ormai consolidata e incentrata su birrifici italiani e street food. Parteciperanno Birra 100Venti\, Stimalti\, Birradamare\, Oxiana\, Insieme Birra\, Losa\, Casa Veccia\, Turbacci\, I Beer\, PicoBrew\, Troll\, Nadir\, Babylon\, Alta Quota\, Il Mastio\, Itineris\, Eastside\, Irias e Birra Ravello. La parte gastronomica sarà dedicata in particolare al fritto italiano\, mentre non mancheranno laboratori\, musica\, giochi\, degustazioni e molto altro. Maggiori informazioni sono disponibili sul sito della manifestazione.
URL:https://cronachedibirra.it/evento/birroforum-2017/
LOCATION:Lungotevere Maresciallo Diaz\, Lungotevere Maresciallo Diaz\, Roma\, RM\, Italia
CATEGORIES:Manifestazioni
ATTACH;FMTTYPE=image/jpeg:https://cdn1.cronachedibirra.it/wp-content/uploads/20200131181035/birroforum-2.jpg
END:VEVENT
BEGIN:VEVENT
DTSTART;VALUE=DATE:20170616
DTEND;VALUE=DATE:20170618
DTSTAMP:20260421T200054
CREATED:20170616T122853Z
LAST-MODIFIED:20170616T122853Z
UID:17810-1497571200-1497743999@cronachedibirra.it
SUMMARY:Mastro Tirano 2017
DESCRIPTION:Terza edizione per il festival Mastro Tirano\, che andrà in scena oggi e domani sabato 17 giugno in piazza Unità d’Italia a Tirano (SO). Saranno presenti i birrifici valtellinesi Legnone\, Revertis\, Pintalpina e altri espositori con birre di Lambrate\, Baladin ed Ex Fabrica. Il programma prevede street food\, degustazioni\, concorso di homebrewing e tanta musica dal vivo. Se volete saperne di più\, il mio consiglio è di dare un’occhiata alla pagina Facebook della manifestazione.
URL:https://cronachedibirra.it/evento/mastro-tirano-2017/
LOCATION:Piazza Unità d’Italia – Tirano\, Piazza Unità d'Italia\, Tirano\, SO\, Italia
CATEGORIES:Manifestazioni
ATTACH;FMTTYPE=image/jpeg:https://cdn1.cronachedibirra.it/wp-content/uploads/20200131181018/mastro-tirano-1.jpg
END:VEVENT
BEGIN:VEVENT
DTSTART;VALUE=DATE:20170616
DTEND;VALUE=DATE:20170619
DTSTAMP:20260421T200054
CREATED:20170511T132327Z
LAST-MODIFIED:20170511T132327Z
UID:17523-1497571200-1497830399@cronachedibirra.it
SUMMARY:MicroBo Beer Festival 2017
DESCRIPTION:Dettagli a breve.
URL:https://cronachedibirra.it/evento/microbo-beer-festival-2017/
LOCATION:Parco della Resistenza\, Via Fratelli Canova 56\, San Lazzaro di Savena\, BO\, 40068\, Italia
CATEGORIES:Manifestazioni
ATTACH;FMTTYPE=image/png:https://cdn1.cronachedibirra.it/wp-content/uploads/20200131181216/microbo.png
END:VEVENT
BEGIN:VEVENT
DTSTART;VALUE=DATE:20170616
DTEND;VALUE=DATE:20170619
DTSTAMP:20260421T200054
CREATED:20170601T122114Z
LAST-MODIFIED:20170601T122114Z
UID:17696-1497571200-1497830399@cronachedibirra.it
SUMMARY:MicroBo Beer Festival 2017
DESCRIPTION:Torna anche quest’anno l’attesissimo appuntamento con il MicroBo Beer Festival\, che si terrà da venerdì 16 a domenica 18 giugno sempre presso il Parco della Resistenza di San Lazzaro di Savena\, a due passi da Bologna. I birrifici presenti saranno Argo\, Bellazzi\, Birranova\, Birrificio di Cagliari\, Canediguerra\, Croce di Malto\, Birrificio del Forte\, Lambrate e Vecchia Orsa\, più un sour corner a cura del The Dome. Confermato il ricchissimo programma con tanta musica dal vivo\, ampia proposta gastronomica\, laboratori di degustazione\, gare sportive\, assaggi con tutor e altro ancora. Per saperne di più potete dare un’occhiata al sito del festival.
URL:https://cronachedibirra.it/evento/microbo-beer-festival-2017-2/
LOCATION:Parco della Resistenza\, Via Fratelli Canova 56\, San Lazzaro di Savena\, BO\, 40068\, Italia
CATEGORIES:Manifestazioni
ATTACH;FMTTYPE=image/jpeg:https://cdn1.cronachedibirra.it/wp-content/uploads/20200131181054/microbo-1.jpg
END:VEVENT
BEGIN:VEVENT
DTSTART;VALUE=DATE:20170616
DTEND;VALUE=DATE:20170619
DTSTAMP:20260421T200054
CREATED:20170608T121952Z
LAST-MODIFIED:20170608T121952Z
UID:17753-1497571200-1497830399@cronachedibirra.it
SUMMARY:Birre vive sotto la Torre 2017
DESCRIPTION:Giunge alla sua settima edizione Birre vive sotto la Torre\, festival organizzato da Beerinba che andrà in scena da venerdì 16 a domenica 18 giugno nella splendida cornice della Cavallerizza del Castello Sforzesco di Vigevano (PV). I birrifici presenti saranno Il Conte Gelo\, Miamal\, Stradaregina\, Rhodense\, Jeb\, Opperbacco\, Birra Ribelle\, I Campi Flegrei\, Birrificio della Granda\, Lisdoc\, Eretica\, Legnone\, War\, Ma’am e Maltus Faber. Il programma prevede un’ampia scelta di cibo da strada\, musica live\, spettacoli d’intrattenimento\, concorso birrario\, laboratori di degustazione e persino beer yoga. Per i dettagli potete consultare il sito di Beerinba.
URL:https://cronachedibirra.it/evento/birre-vive-sotto-la-torre-2017/
LOCATION:Castello Sforzesco
CATEGORIES:Manifestazioni
ATTACH;FMTTYPE=image/jpeg:https://cdn1.cronachedibirra.it/wp-content/uploads/20200131181035/birre-torre.jpg
END:VEVENT
BEGIN:VEVENT
DTSTART;VALUE=DATE:20170622
DTEND;VALUE=DATE:20170626
DTSTAMP:20260421T200055
CREATED:20170503T093335Z
LAST-MODIFIED:20170616T120112Z
UID:17437-1498089600-1498435199@cronachedibirra.it
SUMMARY:C'è Fermento 2017
DESCRIPTION:Saranno i cortili dell’ex Caserma Musso di Saluzzo (CN) a ospitare l’ottava edizione di C’è Fermento\, festival in programma da giovedì 22 a domenica 25 giugno. I birrifici presenti saranno 20\, tutti italiani: Birranova\, Crak\, Birrificio del Forte\, Maltus Faber\, Nadir\, Nicese\, Kamun\, Croce di Malto\, Canediguerra\, Beba\, Elvo\, Beertola\, Frè\, Trunasse\, Birrificio della Granda\, Antagonisti\, Baladin\, Kauss\, Troll e Sta Bräu. Ad accompagnare la birra 9 spazi food di qualità selezionati da Slow Food\, con hamburger\, carne alla brace\, pizza\, fritti\, street food e molto altro. Il programma prevede spettacoli d’intrattenimento\, musica dal vivo\, tavole rotonde con i birrifici\, seminari\, angolo bambini e l’assaggio della birra collettiva del festival\, battezzata Birra Bodoni. Se ne volete sapere di più vi rimando alla pagina Facebook dell’evento.
URL:https://cronachedibirra.it/evento/ce-fermento-2017/
LOCATION:Ex Caserma Musso\, Piazza Montebello 1\, Saluzzo\, CN\, Italia
CATEGORIES:Manifestazioni
ATTACH;FMTTYPE=image/png:https://cdn1.cronachedibirra.it/wp-content/uploads/20200131181230/ce-fermento-1.png
END:VEVENT
BEGIN:VEVENT
DTSTART;VALUE=DATE:20170623
DTEND;VALUE=DATE:20170626
DTSTAMP:20260421T200055
CREATED:20170324T105058Z
LAST-MODIFIED:20170608T114716Z
UID:17160-1498176000-1498435199@cronachedibirra.it
SUMMARY:Birra Expo 2017
DESCRIPTION:Sbarca al Parco Esposizioni di Novegro\, a Milano\, la manifestazione Birra Expo – Grande Fiera della Birra Artigianale\, che si terrà da venerdì 23 a domenica 25 giugno. I birrifici presenti saranno Baladin\, 100Venti\, Birraviva\, Mastino\, 50/50\, I 3 Bagai\, La Piazza\, Beer In\, Birrificio Italiano\, Birrificio Nicese\, Soralama\, Yblon\, BSA\, Ofelia\, Terre d’Acquaviva\, La Buttiga\, Croce di Malto\, L’Inconsueto. Formula confermatissima con tanti stand gastronomici di specialità regionali\, angolo di collezionismo\, concerti\, spettacoli d’intrattenimento\, laboratori di degustazione e altro ancora. Per tutti i dettagli potete consultare il sito web di Birra Expo.
URL:https://cronachedibirra.it/evento/birra-expo-2017/
LOCATION:Parco Esposizioni Novegro\, via Novegro\, Milano\, MI\, 20090\, Italia
CATEGORIES:Manifestazioni
ATTACH;FMTTYPE=image/jpeg:https://cdn1.cronachedibirra.it/wp-content/uploads/20200131181358/birra-expo-milano.jpg
END:VEVENT
BEGIN:VEVENT
DTSTART;VALUE=DATE:20170623
DTEND;VALUE=DATE:20170626
DTSTAMP:20260421T200055
CREATED:20170608T124610Z
LAST-MODIFIED:20170608T124610Z
UID:17756-1498176000-1498435199@cronachedibirra.it
SUMMARY:Isola Birra 2017
DESCRIPTION:Sarà la suggestiva cornice dell’Exma di Cagliari a ospitare la sesta edizione di Isola Birra\, in programma da venerdì 23 a domenica 25 giugno. I birrifici partecipanti saranno Brewfist\, Rebel’s\, Free Lions\, Toccalmatto\, Canediguerra\, Rurale\, Elav e The Wall\, oltre ai sardi Mezzavia e Gattarancio e al belga Rulles. Il programma prevede diverse postazioni food con prodotti artigianali d’eccellenza\, concorso di homebrewing a firma MoBI\, laboratori di approfondimento\, dj set\, musica dal vivo e altro ancora. Trovate ulteriori informazioni sul sito di Isola Birra.
URL:https://cronachedibirra.it/evento/isola-birra-2017/
LOCATION:Exma\, Via S. Lucifero\, 71\, Cagliari\, CA\, 09127\, Italia
CATEGORIES:Manifestazioni
ATTACH;FMTTYPE=image/jpeg:https://cdn1.cronachedibirra.it/wp-content/uploads/20200131181035/isola-birra-2.jpg
END:VEVENT
BEGIN:VEVENT
DTSTART;VALUE=DATE:20170623
DTEND;VALUE=DATE:20170626
DTSTAMP:20260421T200055
CREATED:20170616T115322Z
LAST-MODIFIED:20170616T115322Z
UID:17800-1498176000-1498435199@cronachedibirra.it
SUMMARY:Il Senso della Birra 2017
DESCRIPTION:Giunge alla sua nona edizione il festival denominato Il Senso della Birra\, che si terrà da venerdì 23 a domenica 25 giugno presso l’Ex Real Collegio di Lucca. I birrifici presenti saranno: PLB\, Birrificio del Forte\, La Steffetta\, Toptà\, Etnia\, Lz0\, Bruton\, Biren\, Birrificio Italiano\, Birrificio degli Archi\, Petrognola\, PBC\, Chianti Brew Fighters\, I Due Mastri\, Crack e Canediguerra\, oltre agli inglesi Orbit\, Anspach & Hobday e Meantime. Il programma prevede masterclass e degustazioni\, concorso di abbinamento con cibo e altro ancora. Per maggiori informazioni potete consultare il sito della manifestazione.
URL:https://cronachedibirra.it/evento/il-senso-della-birra-2017/
LOCATION:Ex Real Collegio\, Piazza del Collegio\, Lucca\, LU\, Italia
CATEGORIES:Manifestazioni
ATTACH;FMTTYPE=image/jpeg:https://cdn1.cronachedibirra.it/wp-content/uploads/20200131181020/senso-della-birra.jpg
END:VEVENT
BEGIN:VEVENT
DTSTART;VALUE=DATE:20170623
DTEND;VALUE=DATE:20170626
DTSTAMP:20260421T200055
CREATED:20170616T121306Z
LAST-MODIFIED:20170616T121306Z
UID:17806-1498176000-1498435199@cronachedibirra.it
SUMMARY:Urbeers Festival
DESCRIPTION:Si terrà da venerdì 23 a domenica 25 giugno nel centro storico di Urbisaglia (MC) la manifestazione Urbeers Festival\, che se non sbaglio è al suo debutto. Saranno presenti i birrifici Il Mastio\, Babylon e La Casa di Cura e le birre di Biren\, Birra Perugia\, Birrificio del Rio\, Foglie d’Erba\, MC77\, Croce di Malto\, PBC\, BSA\, Mukkeller\, Birrificio dei Castelli\, Godog\, Renton\, e Oltremondo. Il programma prevede ampia selezione di street food\, torneo di bastet 3 on 3\, musica dal vivo\, concorso canino\, contest per homebrewers e altro ancora. Dettagli su Facebook.
URL:https://cronachedibirra.it/evento/urbeers-festival/
LOCATION:Urbisaglia\, Urbisaglia\, MC\, Italia
CATEGORIES:Manifestazioni
ATTACH;FMTTYPE=image/jpeg:https://cdn1.cronachedibirra.it/wp-content/uploads/20200131181019/urbeers.jpg
END:VEVENT
BEGIN:VEVENT
DTSTART;VALUE=DATE:20170624
DTEND;VALUE=DATE:20170627
DTSTAMP:20260421T200055
CREATED:20170616T125354Z
LAST-MODIFIED:20170616T125354Z
UID:17814-1498262400-1498521599@cronachedibirra.it
SUMMARY:Villaggio della Birra Belgian Edition 2017
DESCRIPTION:Nella panoramiche sugli eventi tendiamo a rimanere all’interno dei confini italiani\, ma non possiamo non citare la seconda edizione “belga” del Villaggio della Birra\, che si terrà a Sint-Truiden\, nelle Fiandre\, sabato 24 e domenica 25 giugno. Saranno presenti birrifici sia belgi (divisi tra i due giorni)\, sia italiani. Nello specifico: Verzet\, Du Brabamt\, Den Hopperd\, Hofbrouwerijke\, 3 Fonteinen\, Achilles\, Hof Ten Dormaal\, Glazen Toren\, Amiata\, Canediguerra\, Extraomnes ed Etnia. Il programma prevede un angolo gastronomico con panini e carne toscana cotta alla brace\, beerhop corner\, prodotti tipici della Toscana\, musica dal vivo\, kindergarten e altro ancora. Per dettagli e aggiornamenti potete consultare l’evento su Facebook.
URL:https://cronachedibirra.it/evento/villaggio-della-birra-belgian-edition-2017/
LOCATION:Brouwerij Kerkom\, Naamsesteenweg 469\, Sint.-Truiden\, Belgio
CATEGORIES:Manifestazioni
ATTACH;FMTTYPE=image/jpeg:https://cdn1.cronachedibirra.it/wp-content/uploads/20200131181018/Villaggio_Belgian_Edition.jpg
END:VEVENT
END:VCALENDAR