BEGIN:VCALENDAR
VERSION:2.0
PRODID:-//Cronache di Birra - ECPv6.15.20//NONSGML v1.0//EN
CALSCALE:GREGORIAN
METHOD:PUBLISH
X-ORIGINAL-URL:https://cronachedibirra.it
X-WR-CALDESC:Eventi per Cronache di Birra
REFRESH-INTERVAL;VALUE=DURATION:PT1H
X-Robots-Tag:noindex
X-PUBLISHED-TTL:PT1H
BEGIN:VTIMEZONE
TZID:Europe/Rome
BEGIN:DAYLIGHT
TZOFFSETFROM:+0100
TZOFFSETTO:+0200
TZNAME:CEST
DTSTART:20160327T010000
END:DAYLIGHT
BEGIN:STANDARD
TZOFFSETFROM:+0200
TZOFFSETTO:+0100
TZNAME:CET
DTSTART:20161030T010000
END:STANDARD
BEGIN:DAYLIGHT
TZOFFSETFROM:+0100
TZOFFSETTO:+0200
TZNAME:CEST
DTSTART:20170326T010000
END:DAYLIGHT
BEGIN:STANDARD
TZOFFSETFROM:+0200
TZOFFSETTO:+0100
TZNAME:CET
DTSTART:20171029T010000
END:STANDARD
BEGIN:DAYLIGHT
TZOFFSETFROM:+0100
TZOFFSETTO:+0200
TZNAME:CEST
DTSTART:20180325T010000
END:DAYLIGHT
BEGIN:STANDARD
TZOFFSETFROM:+0200
TZOFFSETTO:+0100
TZNAME:CET
DTSTART:20181028T010000
END:STANDARD
END:VTIMEZONE
BEGIN:VEVENT
DTSTART;VALUE=DATE:20170324
DTEND;VALUE=DATE:20170410
DTSTAMP:20260422T000047
CREATED:20170214T101840Z
LAST-MODIFIED:20170317T144235Z
UID:16875-1490313600-1491782399@cronachedibirra.it
SUMMARY:Mastro Birraio Santa Lucia di Piave 2017
DESCRIPTION:Giunge alla sua sesta edizione la manifestazione Mastro Birraio a Santa Lucia di Piave (PV)\, che andrà in scena per tre weekend consecutivi da venerdì 24 marzo a domenica 9 aprile. Il primo fine settimana (24 – 26 marzo) sarà dedicato ai birrifici italiani\, con la presenza di: L’Inconsueto\, Diciottozerouno\, Birradamare\, Trami\, Bibibir\, Brasseria Alpina\, Jeb\, Terre d’Acquaviva\, Dr. Barbanera\, Birrificio Italiano\, Calibro 22\, Chianti Brew Fighters\, Legnone\, Baladin\, Ostuni\, San Biagio\, IBeer\, Brasseria della Fonte\, Orso Verde e Gilda dei Nani Birrai. Il secondo week end (31 marzo – 2 aprile) sarà incentrato sui birrifici del triveneto\, con Villa Chazil\, Salgaro\, Mr. Sez\, Sognandobirra\, Baracca\, Trevigiano\, Bradipongo\, Naon\, Forgotten\, LZO\, Estense\, Quero\, Zhare\, Acelum\, Plotegher\, La Ru\, Couture\, Rattabrew\, San Gabriel\, Sant Jago. Infine nell’ultimo weekend (7-9 aprile) saranno protagonisti diversi birrifici europei\, presenti in proprio o rappresentati dai rispettivi distributori. \nCome sempre il programma prevede un’ampia selezione gastronomica di qualità\, conferenze\, incontri di degustazione\, cotta pubblica\, visite ai birrifici delle vicinanze\, mostre e tanta musica dal vivo. Per i dettagli potete consultare il sito della manifestazione.
URL:https://cronachedibirra.it/evento/mastro-birraio-santa-lucia-di-piave-2017/
LOCATION:Santa Lucia di Piave\, Santa Lucia di Piave\, TV\, Italia
CATEGORIES:Manifestazioni
ATTACH;FMTTYPE=image/jpeg:https://cdn1.cronachedibirra.it/wp-content/uploads/20200131181402/fiera-santa-lucia.jpg
END:VEVENT
BEGIN:VEVENT
DTSTART;VALUE=DATE:20170407
DTEND;VALUE=DATE:20170410
DTSTAMP:20260422T000047
CREATED:20170324T125137Z
LAST-MODIFIED:20170324T125137Z
UID:17166-1491523200-1491782399@cronachedibirra.it
SUMMARY:FrankenFestBier 2017
DESCRIPTION:Nato nel 2015\, il Franken Fest doveva essere un evento estemporaneo\, una follia destinata a non ripetersi negli anni a venire. Invece il successo di un festival dedicato esclusivamente alle birre della Franconia ha superato anche le più rosee aspettative e adesso eccoci qui\, a parlare della sua terza edizione che si terrà da venerdì 7 a domenica 9 aprile\, come sempre nella splendida cornice della Limonaia di Villa Torlonia\, a Roma. Protagoniste saranno ovviamente Keller\, Zwickel\, Landbier\, Rauchbier e altre tipologie tipiche della regione più settentrionale della Baviera\, spillate direttamente dalle tipice botticelle di legno. Saranno presenti i birrai\, oltre ad autorità locali ed esperti del settore. Non mancherà una mostra fotografica a tema\, mentre la parte gastronomica sarà immancabilmente ispirata alla cucina della Franconia. Per la lista dei birrifici partecipanti seguite la pagina Facebook del Franken Fest. Naturalmente ci vediamo lì.
URL:https://cronachedibirra.it/evento/frankenfestbier-2017/
LOCATION:Limonaia di Villa Torlonia
CATEGORIES:Manifestazioni
ATTACH;FMTTYPE=image/jpeg:https://cdn1.cronachedibirra.it/wp-content/uploads/20200131181352/franken-fest.jpg
END:VEVENT
BEGIN:VEVENT
DTSTART;VALUE=DATE:20170407
DTEND;VALUE=DATE:20170410
DTSTAMP:20260422T000047
CREATED:20170324T130442Z
LAST-MODIFIED:20170324T130442Z
UID:17169-1491523200-1491782399@cronachedibirra.it
SUMMARY:Italia Beer Festival 2017
DESCRIPTION:La tredicesima edizione dell’Italia Beer Festival entrerà nella storia per la sua genesi tribolata: programmata a Milano per fine marzo\, è stata spostata all’ultimo momento a causa dello sciopero del trasporto pubblico locale e soprattutto della visita del Papa. Comunque una delle più longevi manifestazioni d’Italia andrà regolarmente in scena con date diverse da quelle annunciate inizialmente: si terrà da venerdì 7 a domenica 9 aprile\, sempre presso gli East End Studios. I birrifici presenti saranno: BQ\, War\, Picobrew\, Sensolibero\, Railroad\, Extraomnes\, Settimocielo\, Beer In\, Kamun\, Croce di Malto\, L’Inconsueto\, La Buttiga\, Retorto\, Legnone\, Jeb\, Otus\, Valcavallina\, Pavese\, Toccalmatto\, Amiata\, Il Mastio\, Birra Epica\, Ortyx e The Brave. Come sempre la formula del festival proporrà un’ampia selezione di street food\, un concorso per la migliore birra della rassegna\, laboratori di degustazione. La parte musicale sarà realizzata in collaborazione con Hypelife e consisterà in un vero e proprio festival con rap e hip pop. Dettagli sulla pagina Facebook dell’IBF.
URL:https://cronachedibirra.it/evento/italia-beer-festival-2017/
LOCATION:East End Studios
CATEGORIES:Manifestazioni
ATTACH;FMTTYPE=image/jpeg:https://cdn1.cronachedibirra.it/wp-content/uploads/20200131181347/IBF_2017_HEADER_NEW_DAYS.jpg
END:VEVENT
BEGIN:VEVENT
DTSTART;VALUE=DATE:20170408
DTEND;VALUE=DATE:20170410
DTSTAMP:20260422T000047
CREATED:20170324T131432Z
LAST-MODIFIED:20170324T131432Z
UID:17172-1491609600-1491782399@cronachedibirra.it
SUMMARY:Ducato 10
DESCRIPTION:Ducato 10 non è il nome di un nuovo furgone della Fiat\, ma quello della festa di compleanno organizzata dal Birrificio del Ducato per i suoi 10 anni di vita. Le celebrazioni si terranno sabato 8 e domenica 9 aprile e prenderanno la forma di un vero e proprio festival birrario\, che andrà in scena negli spazi del WoPa di Parma. Saranno disponibili circa 70 birre artigianali\, tra cui non solo quelle della casa (una ventina)\, ma anche quelle di birrifici amici provenienti da tutto il mondo: Bakunin (Russia)\, Brew By Numbers (UK)\, Beavertown (UK)\, Brekeriet (Svezia)\, De Molen (Olanda)\, Freigeist (Germania)\, Lindheim (Norvegia)\, Lervig (Norvegia)\, Mahrs (Germania)\, Wild Beer (UK)\, Oud Beersel (Belgio)\, Oxbow (USA)\, Pohjala (Estonia)\, Thiriez (Francia)\, Trou du Diable (Canada). Prestigioso anche l’elenco degli espositori gastronomici\, che offriranno un’ampia scelta di street food: Trapizzino\, Sbanco\, Epiro e l’Hamburgeria di Eataly. Informazioni dettagliate sono disponibili su Facebook.
URL:https://cronachedibirra.it/evento/ducato-10/
LOCATION:WoPa\, Via Palermo\, 6\, Parma\, PR\, 43122\, Italia
CATEGORIES:Manifestazioni
ATTACH;FMTTYPE=image/jpeg:https://cdn1.cronachedibirra.it/wp-content/uploads/20200131181346/ducato-10.jpg
END:VEVENT
BEGIN:VEVENT
DTSTART;VALUE=DATE:20170421
DTEND;VALUE=DATE:20170424
DTSTAMP:20260422T000047
CREATED:20170407T121026Z
LAST-MODIFIED:20170407T125518Z
UID:17271-1492732800-1492991999@cronachedibirra.it
SUMMARY:Giro del mondo in 40 spine 2017
DESCRIPTION:Torna da venerdì 21 a domenica 23 aprile l’iniziativa denominata Giro del mondo in 40 spine e organizzato dallo Xander Brewpub di Brescia. Le quaranta spine del nome ospiteranno per 3 giorni 90 tipologie a rotazione da birrifici di tutto il mondo\, come Hammer\, Birra dell’Eremo\, Tiny Rebel\, Stone\, Glazen Toren\, Vicaris\, Cerna Hora\, Vento Forte\, Rogue\, Krug\, Boon. Inoltre per la prima volta in Italia saranno presenti le produzioni del birrificio polacco Widawa. Non mancherà un laboratorio Ca’ del Brado vs Vini macerati (sabato) e diversi stand gastronomici. Ulteriori informazioni sono disponibili sulla pagina Facebook dell’evento.
URL:https://cronachedibirra.it/evento/giro-del-mondo-in-40-spine-2/
LOCATION:Xander Brewpub
CATEGORIES:Manifestazioni
ATTACH;FMTTYPE=image/jpeg:https://cdn1.cronachedibirra.it/wp-content/uploads/20200131181316/giro-mondo-40-spine-1.jpg
END:VEVENT
BEGIN:VEVENT
DTSTART;VALUE=DATE:20170422
DTEND;VALUE=DATE:20170426
DTSTAMP:20260422T000047
CREATED:20170407T120321Z
LAST-MODIFIED:20170407T120321Z
UID:17267-1492819200-1493164799@cronachedibirra.it
SUMMARY:Bosa Beer Fest 2017
DESCRIPTION:Terza edizione per il Bosa Beer Fest\, il più grande festival sardo dedicato alla birra artigianale. Quest’anno si terrà da sabato 22 a martedì 25 aprile\, ovviamente nel comune di Bosa (OR) e vedrà la partecipazione di birrifici della Sardegna\, ma anche provenienti dal resto d’Italia e dal Regno Unito. Saranno presenti Horo\, 4 Mori\, Birrificio di Cagliari\, BBBirra\, Mezzavia\, Birrificio Anglona\, Nora\, Lara\, BAM\, Brumare\, Seddaiu\, Trulla\, Rubiu\, A Mine of Beer\, Marduk\, Zemyna\, Le Springo\, Mediterraneo\, Rejal\, Sea Malt\, Acelum\, Borgo Antico\, Birrificio Italiano\, Amiata\, Opperbacco\, Meantime. Il programma prevede convegni\, ospiti internazionali\, cene con abbinamenti\, musica dal vivo\, dj set\, area bimbi e bus navetta. Ulteriori informazioni sul sito del Bosa Beer Fest.
URL:https://cronachedibirra.it/evento/bosa-beer-fest-2017/
LOCATION:Bosa\, Bosa\, OR\, Italia
CATEGORIES:Manifestazioni
ATTACH;FMTTYPE=image/jpeg:https://cdn1.cronachedibirra.it/wp-content/uploads/20200131181317/bosa-beer-fest.jpg
END:VEVENT
BEGIN:VEVENT
DTSTART;VALUE=DATE:20170423
DTEND;VALUE=DATE:20170424
DTSTAMP:20260422T000047
CREATED:20170414T115003Z
LAST-MODIFIED:20170414T115003Z
UID:17313-1492905600-1492991999@cronachedibirra.it
SUMMARY:Un mare di birra sul prato 2017
DESCRIPTION:Giunge alla sua settima edizione Un mare di birra sul prato\, l’evento “bucolico” di Publigiovane Eventi che si terrà domenica 23 aprile presso l’agriturismo Casale 4.5 di Roma. Come sempre protagonisti saranno alcuni locali della Capitale (e dei dintorni)\, presenti con le loro selezioni di birra: ci saranno Brasserie 4:20\, Birrifugio Ostia e Birrifugio Trastevere\, Brewdog Roma\, The Golden Pot\, King Arthur\, Kombeer\, Luppolo 12\, Luppolo Station\, Mad for Beer\, Mastro Titta\, Il Serpente e Tree Folk’s. Il programma prevede un’ampia scelta di street food\, musica dal vivo\, giochi per bambini e intrattenimento. Trovate ulteriori informazioni sul sito ufficiale dell’evento.
URL:https://cronachedibirra.it/evento/un-mare-di-birra-sul-prato-2017/
LOCATION:Agriturismo 4.5
CATEGORIES:Manifestazioni
ATTACH;FMTTYPE=image/jpeg:https://cdn1.cronachedibirra.it/wp-content/uploads/20200131181306/mare-birra-prato-1.jpg
END:VEVENT
BEGIN:VEVENT
DTSTART;VALUE=DATE:20170423
DTEND;VALUE=DATE:20170426
DTSTAMP:20260422T000047
CREATED:20170407T115210Z
LAST-MODIFIED:20170407T115210Z
UID:17264-1492905600-1493164799@cronachedibirra.it
SUMMARY:Acido Acida 2017
DESCRIPTION:Giunge alla sua quarta edizione il festival Acido Acida\, organizzato da Il Molo di Ferrara e che andrà in scena da domenica 23 a martedì 25 aprile presso il Chiostro di San Paolo. Come il nome suggerisce è un evento dedicato alle birre acide\, in particolare quelle britanniche. Le 32 vie di somministrazione ospiteranno produzioni di Red Willow\, Tempest\, Vibrant Forest\, The White Hag\, Irish Brewing\, Wild Beer\, Brew By Numbers\, Siren\, Kernel\, Fourpure\, Left Handed Giant\, Beavertown\, Tiny Rebel\, Burning Sky\, Celt Experience e Redchurch\, oltre a quelle degli italiani “ospiti” Bionoc e Antica Contea. Saranno presenti tanti birrai\, una selezione brassicola “resto del mondo”\, una zona food. Dettagli su Facebook.
URL:https://cronachedibirra.it/evento/acido-acida-2017/
LOCATION:Chiostro di San Paolo
CATEGORIES:Manifestazioni
ATTACH;FMTTYPE=image/jpeg:https://cdn1.cronachedibirra.it/wp-content/uploads/20200131181323/14355705_299581040412332_428987893148489427_n.jpg
END:VEVENT
BEGIN:VEVENT
DTSTART;VALUE=DATE:20170428
DTEND;VALUE=DATE:20170429
DTSTAMP:20260422T000047
CREATED:20170224T180958Z
LAST-MODIFIED:20170414T114215Z
UID:16947-1493337600-1493423999@cronachedibirra.it
SUMMARY:Fiera Birra Artigianale Forlì
DESCRIPTION:Quarta edizione anche per la Fiera Birra Artigianale di Forlì\,  che è in programma a fine mese da venerdì 28 a domenica 30 aprile. I birrifici presenti saranno Beertinoro\, Epica\, I Beer\, 61 Cento\, Espiga\, Buttiga\, L’Inconsueto\, Birrificio del Gomito\, Abbà\, Bifor\, Birra Maraffa\, Brasseria Alpina\, Mazapegul\, Terre d’Acquaviva\, 100Venti\, Jeb. Il programma prevede tanti espositori gastronomici\, musica dal vivo\, intrattenimento\, laboratori di degustazione\, seminari e mini corso di homebrewing. Per i dettagli potete consultare il sito web della manifestazione.
URL:https://cronachedibirra.it/evento/fiera-birra-artigianale-forli/
LOCATION:Fiera di Forlì\, Via Punta di Ferro\, 2\, Forlì\, FC\, Italia
CATEGORIES:Manifestazioni
ATTACH;FMTTYPE=image/jpeg:https://cdn1.cronachedibirra.it/wp-content/uploads/20200131181511/fiera-forl%C3%AC.jpg
END:VEVENT
BEGIN:VEVENT
DTSTART;VALUE=DATE:20170428
DTEND;VALUE=DATE:20170501
DTSTAMP:20260422T000047
CREATED:20170407T122756Z
LAST-MODIFIED:20170407T122756Z
UID:17278-1493337600-1493596799@cronachedibirra.it
SUMMARY:Campi di Birra
DESCRIPTION:Un evento totalmente dedicato alle Italian Grape Ale? È Campi di Birra\, in programma nella quattrocentesca Villa Montalvo di Campi Bisenzio (FI) nelle giornate di sabato 29 e domenica 30 aprile. I birrifici presenti saranno tutti italiani: Amiata\, Barley\, Birranova\, Brùton\, Ca’ del Brado\, Canediguerra\, Elba\, Birra dell’Eremo\, Birrificio Italiano\, L’Olmaia\, Montegioco\, Sagrin\, Birrificio Sorrento e Toccalmatto. Il programma prevede laboratori di degustazione\, musica dal vivo\, stand gastronomici\, animazione per bambini. Da segnalare inoltre il pre festival di venerdì 28\, con La notte dei pub. Ulteriori informazioni sul sito di Campi di Birra.
URL:https://cronachedibirra.it/evento/campi-di-birra/
LOCATION:Villa Montalvo\, Via di Limite\, Campi Bisenzio\, FI\, 50013 \, Italia
CATEGORIES:Manifestazioni
ATTACH;FMTTYPE=image/jpeg:https://cdn1.cronachedibirra.it/wp-content/uploads/20200131181310/campi-birra.jpg
END:VEVENT
BEGIN:VEVENT
DTSTART;VALUE=DATE:20170429
DTEND;VALUE=DATE:20170502
DTSTAMP:20260422T000047
CREATED:20170414T115503Z
LAST-MODIFIED:20170426T094515Z
UID:17317-1493424000-1493683199@cronachedibirra.it
SUMMARY:Mortara sotto la schiuma 2017
DESCRIPTION:Dopo il debutto dello scorso anno\, torna l’appuntamento con Mortara sotto la schiuma\, manifestazione in programma da sabato 29 aprile a lunedì 1 maggio nel comune di Mortara (PV). I numeri recitano 10 birrifici\, 6 food truck e 3 serate di musica live. I produttori presenti saranno Orso Verde\, Legnano\, Legnone\, Barbanera\, Diciottozerouno\, Jev\, Opperbacco\, Campi Flegrei\, Castagnero e Birrificio della Granda. Il programma prevede la già citata musica dal vivo\, oltre a convegni\, laboratori di degustazione e angolo cocktail. Per saperne di più vi rimando alla pagina Facebook dell’evento.
URL:https://cronachedibirra.it/evento/mortara-sotto-la-schiuma-2017/
LOCATION:Piazza Vittorio Emanuele II – Mortara\, Piazza Vittorio Emanuele II\, Mortara\, PV\, Italia
CATEGORIES:Manifestazioni
ATTACH;FMTTYPE=image/jpeg:https://cdn1.cronachedibirra.it/wp-content/uploads/20200131181305/mortara-2.jpg
END:VEVENT
BEGIN:VEVENT
DTSTART;VALUE=DATE:20170429
DTEND;VALUE=DATE:20170502
DTSTAMP:20260422T000047
CREATED:20170414T120502Z
LAST-MODIFIED:20170414T120502Z
UID:17321-1493424000-1493683199@cronachedibirra.it
SUMMARY:BeeRoma 2017
DESCRIPTION:Sarà all’insegna delle novità l’edizione 2017 di BeeRoma\, evento che si terrà a Roma\, presso I Meloncini\, da sabato 29 aprile a lunedì 1 maggio. Anche in questo caso protagonisti saranno alcuni pub dell’Urbe e dintorni: Bquadro\, Draft\, Du’ Pinte\, Freakout\, Hopificio\, Lannister\, Pirati Pub\, Porco Rosso\, Sam Beer Shop\, Il Serpente\, Twenty. Il programma prevede un angolo sidri\, musica elettronica e dj set\, gastronomia ricercata e altro ancora. Per aggiornamenti e altre informazioni potete consultare il sito web di BeeRoma.
URL:https://cronachedibirra.it/evento/beeroma-2017/
LOCATION:I Meloncini\, Via Tor di Quinto 55\, Roma\, RM\, Italia
CATEGORIES:Manifestazioni
ATTACH;FMTTYPE=image/jpeg:https://cdn1.cronachedibirra.it/wp-content/uploads/20200131181305/beeroma-1.jpg
END:VEVENT
END:VCALENDAR