BEGIN:VCALENDAR
VERSION:2.0
PRODID:-//Cronache di Birra - ECPv6.15.20//NONSGML v1.0//EN
CALSCALE:GREGORIAN
METHOD:PUBLISH
X-ORIGINAL-URL:https://cronachedibirra.it
X-WR-CALDESC:Eventi per Cronache di Birra
REFRESH-INTERVAL;VALUE=DURATION:PT1H
X-Robots-Tag:noindex
X-PUBLISHED-TTL:PT1H
BEGIN:VTIMEZONE
TZID:Europe/Rome
BEGIN:DAYLIGHT
TZOFFSETFROM:+0100
TZOFFSETTO:+0200
TZNAME:CEST
DTSTART:20160327T010000
END:DAYLIGHT
BEGIN:STANDARD
TZOFFSETFROM:+0200
TZOFFSETTO:+0100
TZNAME:CET
DTSTART:20161030T010000
END:STANDARD
BEGIN:DAYLIGHT
TZOFFSETFROM:+0100
TZOFFSETTO:+0200
TZNAME:CEST
DTSTART:20170326T010000
END:DAYLIGHT
BEGIN:STANDARD
TZOFFSETFROM:+0200
TZOFFSETTO:+0100
TZNAME:CET
DTSTART:20171029T010000
END:STANDARD
BEGIN:DAYLIGHT
TZOFFSETFROM:+0100
TZOFFSETTO:+0200
TZNAME:CEST
DTSTART:20180325T010000
END:DAYLIGHT
BEGIN:STANDARD
TZOFFSETFROM:+0200
TZOFFSETTO:+0100
TZNAME:CET
DTSTART:20181028T010000
END:STANDARD
END:VTIMEZONE
BEGIN:VEVENT
DTSTART;VALUE=DATE:20170306
DTEND;VALUE=DATE:20170313
DTSTAMP:20260422T000104
CREATED:20170222T142703Z
LAST-MODIFIED:20170225T130943Z
UID:16910-1488758400-1489363199@cronachedibirra.it
SUMMARY:Settimana della Birra Artigianale 2017
DESCRIPTION:Sette giorni di festa\, settima edizione. Da lunedì 6 a domenica 12 marzo torna in tutta Italia l’appuntamento con la Settimana della Birra Artigianale\, la più grande celebrazione nazionale della nostra amata bevanda. Protagonisti ancora una volta saranno le centinaia di pub\, birrifici\, beershop\, ristoranti e associazioni che\, aderendo gratuitamente alla manifestazione\, animeranno i sette giorni con eventi e promozioni a tema: degustazioni\, presentazioni di nuove birre\, visite agli impianti produttivi\, cotte pubbliche\, seminari\, sconti e molto altro ancora. \nA dieci giorni dall’inizio dell’edizione 2017\, il “contatore” di aderenti e promozioni ha già raggiunto numeri ragguardevoli: al momento sono presenti 577 soggetti partecipanti\, per un totale di 201 eventi e 161 promozioni sparsi da Nord a Sud dello Stivale. Lo scopo è come sempre la valorizzazione culturale della birra\, grazie a una serie infinita di occasioni per avvicinarsi alle produzioni dei microbirrifici (italiani e stranieri) e per approfondire le proprie conoscenze in materia. Come sempre per un programma completo\, aggiornato in tempo reale\, potete seguire il sito ufficiale della Settimana della Birra Artigianale\, dove è inoltre possibile “costruire” la propria personale agenda di appuntamenti. Uno di quelli da tenere in grande considerazione è sicuramente il confermatissimo party di pre-inaugurazione al Luppolo Station di Roma\, quel Ballo delle Debuttanti che lo scorso anno riscosse un incredibile successo: per i dettagli vi rimando all’evento nello specifico. \nDiverse le novità di quest’anno. In primis il coinvolgimento di alcuni locali spagnoli\, che diffonderanno il verbo della birra artigianale italiana in diverse città iberiche\, come Barcellona\, Madrid\, Siviglia e Valencia: un bel modo di far conoscere le produzioni dei nostri birrifici all’estero. Il merito è da ascrivere al supporto ricevuto da Alessandro Ceccano di 32 Great Power\, che è riuscito a inserire in programma realtà di primaria importanza per la scena locale: Biercab\, Brewdog Barcellona\, Ale&Hop\, Chinaski Lavapies\, Irreale\, Labirratorium\, The Market Craft Beer\, Maquila Bar\, Gades Beer\, La Madriguera\, Garage Beer Co. e La Linterna Ciega. In quest’ultimo andrà in scena anche una versione spagnola del Ballo delle Debuttanti\, con 4 birre inedite da altrettanti birrifici italiani: Pontino\, Hilltop\, Rebel’s e Ritual Lab . Altra novità è rappresentata dalla partecipazione di diversi chef di rilievo\, che metteranno il proprio talento a disposizione della birra\, con cene di degustazione\, corsi ad hoc e altri appuntamenti assolutamente da non perdere. \nInsomma\, anche quest’anno per 7 giorni consecutivi saremo invasi da una marea di iniziative dedicate alla birra artigianale\, per un immaginario brindisi collettivo lungo un’intera settimana. Per entrare nell’atmosfera della manifestazione\, ormai imminente\, vi lascio con il video teaser aggiornato. Ah\, e non dimenticate che tutti gli aggiornamenti sono presenti sui canali Facebook\, Twitter e Instagram della Settimana della Birra Artigianale. Cheers!
URL:https://cronachedibirra.it/evento/settimana-della-birra-artigianale-2017/
LOCATION:Italia\, Italia
CATEGORIES:Manifestazioni
ATTACH;FMTTYPE=image/jpeg:https://cdn1.cronachedibirra.it/wp-content/uploads/20200131181555/Immagine-Cronache.jpg
END:VEVENT
BEGIN:VEVENT
DTSTART;VALUE=DATE:20170317
DTEND;VALUE=DATE:20170320
DTSTAMP:20260422T000104
CREATED:20170317T134455Z
LAST-MODIFIED:20170317T134455Z
UID:17111-1489708800-1489967999@cronachedibirra.it
SUMMARY:Brixia Beer Festival 2017
DESCRIPTION:Si chiama Brixia Beer Festival il nuovo evento dedicato alle birre artigianali che comincerà oggi per proseguire fino a domenica 19 marzo a Villa Mazzucchelli a Mazzano (BS). I birrifici presenti saranno Legnone\, Balanders’\, Porta Bruciata\, Due Tocchi\, Curtense\, Valtellinese\, Herba Monstrum\, No Tomorrow\, Montenetto\, Eastside e Lambrate (rappresentati da Frimid Ale)\, L’Inconsueto\, Revertis e Trubes Beer. Il programma prevede area bimbi\, tanti eventi collaterali\, cibo di strada\, musica dal vivo e altro ancora. Maggiori dettagli sono disponibili sulla pagina Facebook dell’evento.
URL:https://cronachedibirra.it/evento/brixia-beer-festival-2017/
LOCATION:Villa Mazzucchelli\, Via G.Mazzucchelli\, 2\, Ciliverghe di Mazzano\, BS\, Italia
CATEGORIES:Manifestazioni
ATTACH;FMTTYPE=image/jpeg:https://cdn1.cronachedibirra.it/wp-content/uploads/20200131181403/16807023_759624930858959_5620769144468707142_n.jpg
END:VEVENT
BEGIN:VEVENT
DTSTART;VALUE=DATE:20170324
DTEND;VALUE=DATE:20170410
DTSTAMP:20260422T000104
CREATED:20170214T101840Z
LAST-MODIFIED:20170317T144235Z
UID:16875-1490313600-1491782399@cronachedibirra.it
SUMMARY:Mastro Birraio Santa Lucia di Piave 2017
DESCRIPTION:Giunge alla sua sesta edizione la manifestazione Mastro Birraio a Santa Lucia di Piave (PV)\, che andrà in scena per tre weekend consecutivi da venerdì 24 marzo a domenica 9 aprile. Il primo fine settimana (24 – 26 marzo) sarà dedicato ai birrifici italiani\, con la presenza di: L’Inconsueto\, Diciottozerouno\, Birradamare\, Trami\, Bibibir\, Brasseria Alpina\, Jeb\, Terre d’Acquaviva\, Dr. Barbanera\, Birrificio Italiano\, Calibro 22\, Chianti Brew Fighters\, Legnone\, Baladin\, Ostuni\, San Biagio\, IBeer\, Brasseria della Fonte\, Orso Verde e Gilda dei Nani Birrai. Il secondo week end (31 marzo – 2 aprile) sarà incentrato sui birrifici del triveneto\, con Villa Chazil\, Salgaro\, Mr. Sez\, Sognandobirra\, Baracca\, Trevigiano\, Bradipongo\, Naon\, Forgotten\, LZO\, Estense\, Quero\, Zhare\, Acelum\, Plotegher\, La Ru\, Couture\, Rattabrew\, San Gabriel\, Sant Jago. Infine nell’ultimo weekend (7-9 aprile) saranno protagonisti diversi birrifici europei\, presenti in proprio o rappresentati dai rispettivi distributori. \nCome sempre il programma prevede un’ampia selezione gastronomica di qualità\, conferenze\, incontri di degustazione\, cotta pubblica\, visite ai birrifici delle vicinanze\, mostre e tanta musica dal vivo. Per i dettagli potete consultare il sito della manifestazione.
URL:https://cronachedibirra.it/evento/mastro-birraio-santa-lucia-di-piave-2017/
LOCATION:Santa Lucia di Piave\, Santa Lucia di Piave\, TV\, Italia
CATEGORIES:Manifestazioni
ATTACH;FMTTYPE=image/jpeg:https://cdn1.cronachedibirra.it/wp-content/uploads/20200131181402/fiera-santa-lucia.jpg
END:VEVENT
END:VCALENDAR