BEGIN:VCALENDAR
VERSION:2.0
PRODID:-//Cronache di Birra - ECPv6.15.20//NONSGML v1.0//EN
CALSCALE:GREGORIAN
METHOD:PUBLISH
X-WR-CALNAME:Cronache di Birra
X-ORIGINAL-URL:https://cronachedibirra.it
X-WR-CALDESC:Eventi per Cronache di Birra
REFRESH-INTERVAL;VALUE=DURATION:PT1H
X-Robots-Tag:noindex
X-PUBLISHED-TTL:PT1H
BEGIN:VTIMEZONE
TZID:Europe/Rome
BEGIN:DAYLIGHT
TZOFFSETFROM:+0100
TZOFFSETTO:+0200
TZNAME:CEST
DTSTART:20160327T010000
END:DAYLIGHT
BEGIN:STANDARD
TZOFFSETFROM:+0200
TZOFFSETTO:+0100
TZNAME:CET
DTSTART:20161030T010000
END:STANDARD
BEGIN:DAYLIGHT
TZOFFSETFROM:+0100
TZOFFSETTO:+0200
TZNAME:CEST
DTSTART:20170326T010000
END:DAYLIGHT
BEGIN:STANDARD
TZOFFSETFROM:+0200
TZOFFSETTO:+0100
TZNAME:CET
DTSTART:20171029T010000
END:STANDARD
BEGIN:DAYLIGHT
TZOFFSETFROM:+0100
TZOFFSETTO:+0200
TZNAME:CEST
DTSTART:20180325T010000
END:DAYLIGHT
BEGIN:STANDARD
TZOFFSETFROM:+0200
TZOFFSETTO:+0100
TZNAME:CET
DTSTART:20181028T010000
END:STANDARD
END:VTIMEZONE
BEGIN:VEVENT
DTSTART;VALUE=DATE:20170106
DTEND;VALUE=DATE:20170107
DTSTAMP:20260422T012217
CREATED:20161216T145037Z
LAST-MODIFIED:20161216T145037Z
UID:16600-1483660800-1483747199@cronachedibirra.it
SUMMARY:La Notte delle Botti 2017
DESCRIPTION:Giunge alla sua quarta edizione La Notte delle Botti\, l’evento dedicato alla birre affinate in legno che si terrà venerdì 6 gennaio ai Docks Dora di Torino\, presso il Tripel B. I birrifici partecipanti saranno otto: Black Barrels\, Stradaregina\, Argo\, Ducato\, Stavio\, Antica Contea\, Birra Galassia e Mastino\, oltre agli ospiti di Bionoc e Draco’s Cave. La conduzione dovrebbe essere affidata a Kuaska e ovviamente saranno presenti i birrai. Dettagli sulla pagina Facebook dell’evento.
URL:https://cronachedibirra.it/evento/la-notte-delle-botti-2017/
LOCATION:Tripel B\, Via Valprato 68\, Torino\, TO\, 10155\, Italia
CATEGORIES:Manifestazioni
ATTACH;FMTTYPE=image/jpeg:https://cdn1.cronachedibirra.it/wp-content/uploads/20200131181637/notte-botti.jpg
END:VEVENT
BEGIN:VEVENT
DTSTART;VALUE=DATE:20170120
DTEND;VALUE=DATE:20170123
DTSTAMP:20260422T012218
CREATED:20161216T114423Z
LAST-MODIFIED:20180112T130319Z
UID:16592-1484870400-1485129599@cronachedibirra.it
SUMMARY:Birraio dell'anno 2016
DESCRIPTION:Anche quest’anno la fase finale del concorso Birraio dell’anno avrà le fattezze di un festival\, che si terrà a Firenze\, al teatro Obihall\, da venerdì 20 a domenica 22 gennaio. Saranno presenti tutti i birrifici finalisti nella categoria principale e in quella degli emergenti: Birrificio Italiano\, Lambrate\, Toccalmatto\, Extraomnes\, Vento Forte\, Brewfist\, Canediguerra\, Carrobiolo\, Montegioco\, Rurale\, Lariano\, Loverbeer\, Birra Perugia\, Barley\, MC-77\, Opperbacco\, Mastino\, Croce di Malto\, Hammer\, Elvo\, Bibibir\, Hilltop\, Eastside\, Crak ed Ebers. Il programma prevede degustazioni guidate\, seminari\, ampia selezione di street food e ovviamente la cerimonia di premiazione di domenica\, condotta da Kuaska. Dettagli sul sito di Birraio dell’anno.
URL:https://cronachedibirra.it/evento/birraio-dellanno-2017/
LOCATION:Teatro Cartiere Carrara\, Lungarno Aldo Moro 3\, Firenze\, FI\, 50136
CATEGORIES:Manifestazioni
ATTACH;FMTTYPE=image/jpeg:https://cdn1.cronachedibirra.it/wp-content/uploads/20200131181642/birraio-dellanno.jpg
END:VEVENT
BEGIN:VEVENT
DTSTART;VALUE=DATE:20170127
DTEND;VALUE=DATE:20170130
DTSTAMP:20260422T012218
CREATED:20170120T122813Z
LAST-MODIFIED:20170120T122813Z
UID:16708-1485475200-1485734399@cronachedibirra.it
SUMMARY:Le Birre della Merla 2017
DESCRIPTION:Grande traguardo per Le Birre della Merla\, festival che festeggia il suo decimo anniversario con un’edizione che andrà in scena da venerdì 27 a domenica 29 gennaio\, come sempre presso l’agriturismo La Capanna di Montegioco (AL). Protagoniste saranno ovviamente le birre del Birrificio Montegioco\, ma anche quelle dei produttori ospiti: Bi-Du\, Orso Verde e Troll. Come sempre la cucina sarà aperta fino a tardi (menu “rurale”)\, mentre quest’anno ci sarà anche la presentazione del libro Romantico Alcolista\, con intervento di Kuaska. Lo stesso Kuaska presenzierà il mega pranzo della domenica. Non mancherà goliardia e la presenza di tanti appassionati che sfideranno i giorni più freddi dell’anno per scaldarsi con ottima birra. Dettagli su Facebook.
URL:https://cronachedibirra.it/evento/le-birre-della-merla-2017/
LOCATION:Agriturismo La Capanna
CATEGORIES:Manifestazioni
ATTACH;FMTTYPE=image/jpeg:https://cdn1.cronachedibirra.it/wp-content/uploads/20200131181606/birre-meral.jpg
END:VEVENT
BEGIN:VEVENT
DTSTART;VALUE=DATE:20170127
DTEND;VALUE=DATE:20170130
DTSTAMP:20260422T012218
CREATED:20170120T124301Z
LAST-MODIFIED:20170120T124339Z
UID:16711-1485475200-1485734399@cronachedibirra.it
SUMMARY:Camunia Beer Festival
DESCRIPTION:Si terrà nelle eleganti sale del Cinquecento di Villa Damioli a Pisogne (BS) la manifestazione Camunia Beer Festival\, in programma da venerdì 27 a domenica 29 gennaio. Per il momento i birrifici annunciati tra i partecipanti sono Due Tocchi\, Collesi\, Balanders\, Double Beer\, Birrificio Valtellinese e Porta Bruciata\, ma probabilmente se ne aggiungeranno altri. Il programma prevede ampia scelta di street food\, area bimbi e iniziative a tema. Per maggiori informazioni potete consultare la pagina Facebook dell’evento.
URL:https://cronachedibirra.it/evento/camunia-beer-festival/
LOCATION:Villa Damioli\, Pisogne\, BS\, Italia
CATEGORIES:Manifestazioni
ATTACH;FMTTYPE=image/jpeg:https://cdn1.cronachedibirra.it/wp-content/uploads/20200131181559/camunia.jpg
END:VEVENT
END:VCALENDAR