BEGIN:VCALENDAR
VERSION:2.0
PRODID:-//Cronache di Birra - ECPv6.15.20//NONSGML v1.0//EN
CALSCALE:GREGORIAN
METHOD:PUBLISH
X-ORIGINAL-URL:https://cronachedibirra.it
X-WR-CALDESC:Eventi per Cronache di Birra
REFRESH-INTERVAL;VALUE=DURATION:PT1H
X-Robots-Tag:noindex
X-PUBLISHED-TTL:PT1H
BEGIN:VTIMEZONE
TZID:Europe/Rome
BEGIN:DAYLIGHT
TZOFFSETFROM:+0100
TZOFFSETTO:+0200
TZNAME:CEST
DTSTART:20150329T010000
END:DAYLIGHT
BEGIN:STANDARD
TZOFFSETFROM:+0200
TZOFFSETTO:+0100
TZNAME:CET
DTSTART:20151025T010000
END:STANDARD
BEGIN:DAYLIGHT
TZOFFSETFROM:+0100
TZOFFSETTO:+0200
TZNAME:CEST
DTSTART:20160327T010000
END:DAYLIGHT
BEGIN:STANDARD
TZOFFSETFROM:+0200
TZOFFSETTO:+0100
TZNAME:CET
DTSTART:20161030T010000
END:STANDARD
BEGIN:DAYLIGHT
TZOFFSETFROM:+0100
TZOFFSETTO:+0200
TZNAME:CEST
DTSTART:20170326T010000
END:DAYLIGHT
BEGIN:STANDARD
TZOFFSETFROM:+0200
TZOFFSETTO:+0100
TZNAME:CET
DTSTART:20171029T010000
END:STANDARD
END:VTIMEZONE
BEGIN:VEVENT
DTSTART;VALUE=DATE:20161028
DTEND;VALUE=DATE:20161102
DTSTAMP:20260422T053700
CREATED:20161028T122723Z
LAST-MODIFIED:20161028T122723Z
UID:16302-1477612800-1478044799@cronachedibirra.it
SUMMARY:Fieramente Birra
DESCRIPTION:Comincia oggi e proseguirà fino a martedì 1 novembre la manifestazione Fieramente Birra\, ospitata dalla Fiera Campionaria di Bergamo. I birrifici presenti saranno: Tenute Collesi\, Monangi\, Terre d’Acquaviva\, Curtense\, I 3 Bagai\, Double Bear\, Brew Farmer\, Via Priula\, Valcavallina\, Porta Bruciata\, Lemine\, Elav\, e Adda. Il programma prevede quattro degustazioni guidate\, un concorso interno\, area ristoro con prodotti tipici e altro ancora. Dettagli sono disponibili su Facebook.
URL:https://cronachedibirra.it/evento/fieramente-birra/
LOCATION:Fiera Campionaria di Bergamo\, Via Lunga\, Bergamo\, BG\, 24125\, Italia
CATEGORIES:Manifestazioni
ATTACH;FMTTYPE=image/jpeg:https://cdn1.cronachedibirra.it/wp-content/uploads/20200131181832/fiermanete-birra.jpg
END:VEVENT
BEGIN:VEVENT
DTSTART;VALUE=DATE:20161028
DTEND;VALUE=DATE:20161107
DTSTAMP:20260422T053700
CREATED:20161014T122113Z
LAST-MODIFIED:20161014T122113Z
UID:16175-1477612800-1478476799@cronachedibirra.it
SUMMARY:Fiera della Birra Artigianale di Pordenone 2016
DESCRIPTION:Seconda edizione anche per la Fiera della Birra Artigianale di Pordenone\, che si terrà per due fine settimana consecutivi (dal 28 al 30 ottobre e ancora dal 4 al 6 novembre) presso la zona fieristica di Pordenone. I birrifici partecipanti saranno in tutto 40\, suddivisi in 20 per ogni weekend: durante il primo troverete Opperbacco\, Benaco 70\, La Buttiga\, Sognadobirra\, Lupulus\, L’Inconsueto\, Brasseria Alpina\, Weiherer\, Mr. Sez\, Birrificio di Cagliari\, Salgaro\, Diciottozerouno\, Birradamare\, Croce di Malto\, Kitzmann\, Lariano\, Zhare\, Baladin\, 3 Fonteinen\, Malastrana; nel secondo Bibibir\, Jeb\, Caulier\, Di Naon\, Barbanera\, Triporteur\, Rattabrew\, Cannabeer\, Calibro 22\, De Ranke\, Sant Jago\, Campi Flegrei\, Baracca\, Legnone\, Chianti Brew Fighters\, Birrificio della Granda\, Brasseria della Fonte\, ForgottenBeer\, Birrificio Italiano. \nIl programma prevede una vastissima scelta gastronomica con specialità regionali\, incontri per homebrewer\, conferenze\, musica dal vivo\, spettacoli d’intrattenimento\, presentazioni editoriali e altro ancora. Maggiori informazioni sono disponibili sul sito della manifestazione.
URL:https://cronachedibirra.it/evento/fiera-della-birra-artigianale-di-pordenone-2016/
LOCATION:Pordenone Fiere\, Pordenone\, PN\, Italia
CATEGORIES:Manifestazioni
ATTACH;FMTTYPE=image/jpeg:https://cdn1.cronachedibirra.it/wp-content/uploads/20200131181857/pordenone.jpg
END:VEVENT
BEGIN:VEVENT
DTSTART;VALUE=DATE:20161104
DTEND;VALUE=DATE:20161107
DTSTAMP:20260422T053700
CREATED:20161021T123033Z
LAST-MODIFIED:20161021T123033Z
UID:16265-1478217600-1478476799@cronachedibirra.it
SUMMARY:Fiera della Birra Artigianale Ravenna
DESCRIPTION:La manifestazione itinerante Fiera della Birra Artigianale approda a Ravenna\, dove andrà in scena da venerdì 4 a domenica 6 novembre. I birrifici presenti saranno Baladin\, Mazapegul\, Italian Craft Brewey\, Terre d’Acquaviva\, Buttiga\, 100Venti\, Brasseria Alpina\, Malastrana\, L’Inconsueto\, Abbà\, Jeb\, Bifor\, I Beer\, Birra Bizantina e 2 Drink. Il programma prevede ampia area gastronomica con tante specialità regionali\, corso di homebrewing a cura di MoBI e Unper100\, corsi di degustazione\, intrattenimento\, navetta gratuita. Ulteriori informazioni sono consultabili sul sito del festival.
URL:https://cronachedibirra.it/evento/fiera-della-birra-artigianale-ravenna/
LOCATION:Pala de Andrè\, Viale Europa\, 1\, Ravenna\, RA\, 48122\, Italia
CATEGORIES:Manifestazioni
ATTACH;FMTTYPE=image/jpeg:https://cdn1.cronachedibirra.it/wp-content/uploads/20200131181835/fiera-ravenna-2016.jpg
END:VEVENT
BEGIN:VEVENT
DTSTART;VALUE=DATE:20161111
DTEND;VALUE=DATE:20161114
DTSTAMP:20260422T053700
CREATED:20161111T131557Z
LAST-MODIFIED:20161111T131557Z
UID:16370-1478822400-1479081599@cronachedibirra.it
SUMMARY:IBF Pub Edition 2016
DESCRIPTION:Torna negli East End Studios di Milano\, per la terza volta consecutiva\, l’appuntamento con l’Italia Beer Festival Pub Edition\, versione speciale della storica manifestazione itinerante. Da oggi venerdì 11 fino a domenica 13 novembre protagonisti saranno 18 pub da tutta Italia con le loro selezioni di birre artigianali. Ecco i partecipanti: Birratrovo\, BQ De Nott\, Highlander\, Il Porco\, La Locanda del Monaco Felice\, Mosaik\, Ottavonano\, TNT\, Ein mass\, Il Punto\, Galway irish pub\, La Birroteca di Greve\, Jumbo Beer House\, Moskito\, The Dome\, Teatro delle Birre\, Ranzani 13 e Jhon Barleycorn. Il programma prevede laboratori gratuiti di degustazione\, seminari condotti da chef\, street food per tutti i gusti e anche piatti gourmand\, oltre all’immancabile musica dal vivo. Ulteriori informazioni sono disponibili sul sito dell’Italia Beer Festival.
URL:https://cronachedibirra.it/evento/ibf-pub-edition-2016/
LOCATION:East End Studios
CATEGORIES:Manifestazioni
ATTACH;FMTTYPE=image/jpeg:https://cdn1.cronachedibirra.it/wp-content/uploads/20200131181817/italia-beer-festival.jpg
END:VEVENT
BEGIN:VEVENT
DTSTART;VALUE=DATE:20161125
DTEND;VALUE=DATE:20161128
DTSTAMP:20260422T053700
CREATED:20161111T134156Z
LAST-MODIFIED:20161111T144610Z
UID:16373-1480032000-1480291199@cronachedibirra.it
SUMMARY:BeerCatania 2016
DESCRIPTION:Si terrà nell’ex Mercato ortofrutticolo di Catania la seconda edizione autunnale di BeerCatania\, in programma da venerdì 25 a domenica 27 novembre. I birrifici\, provenienti da tutta Italia (ma con una maggioranza di quelli locali)\, saranno 15: Epica\, Alveria\, A Magara\, 24 Baroni\, Eternal City\, Blag Brewing\, Ortyx\, Compagnia del Fermento\, Irias\, Kimiya\, Baladin\, La Fucina\, J4 Beer\, Ducato e Young’s. Il programma prevede un’ampia scelta gastronomica grazie a diversi espositori a tema\, concerti\, conferenze\, workshop e altro ancora. Per ulteriori informazioni vi rimando al curatissimo sito di BeerCatania.
URL:https://cronachedibirra.it/evento/beercatania-2016/
LOCATION:Ex Mercato Ortofrutticolo\, Via Forcile\, Catania\, CT\, 95121\, Italia
CATEGORIES:Manifestazioni
ATTACH;FMTTYPE=image/jpeg:https://cdn1.cronachedibirra.it/wp-content/uploads/20200131181807/beercatania-2-scaled.jpg
END:VEVENT
BEGIN:VEVENT
DTSTART;VALUE=DATE:20161125
DTEND;VALUE=DATE:20161128
DTSTAMP:20260422T053700
CREATED:20161111T140645Z
LAST-MODIFIED:20161111T140645Z
UID:16376-1480032000-1480291199@cronachedibirra.it
SUMMARY:Le Bire de Nadal 2016
DESCRIPTION:Giunge alla sua ottava edizione uno degli eventi italiani più longevi dedicati alle Kerstbier\, le classiche produzioni realizzate per le festività. Parliamo de Le Bire de Nadal organizzato dal The Dome di Nembro (BG)\, che quest’anno si terrà da venerdì 25 a domenica 27 novembre proponendo non solo birre natalizie\, ma anche vintage\, inedite\, edizioni limitate e creazioni particolari\, per un totale di 36 spine (nonché bottiglie) provenienti dai migliori birrifici italiani e stranieri. Il programma prevede cucina sempre aperta con hamburger e carne alla brace\, momenti d’intrattenimento\, l’ultima tappa del concorso hb di MoBI e altro ancora. Per i dettagli vi rimando a Facebook.
URL:https://cronachedibirra.it/evento/le-bire-de-nadal-2016/
LOCATION:The Dome
CATEGORIES:Manifestazioni
ATTACH;FMTTYPE=image/jpeg:https://cdn1.cronachedibirra.it/wp-content/uploads/20200131181759/bire-de-nadal.jpg
END:VEVENT
END:VCALENDAR