BEGIN:VCALENDAR
VERSION:2.0
PRODID:-//Cronache di Birra - ECPv6.15.20//NONSGML v1.0//EN
CALSCALE:GREGORIAN
METHOD:PUBLISH
X-WR-CALNAME:Cronache di Birra
X-ORIGINAL-URL:https://cronachedibirra.it
X-WR-CALDESC:Eventi per Cronache di Birra
REFRESH-INTERVAL;VALUE=DURATION:PT1H
X-Robots-Tag:noindex
X-PUBLISHED-TTL:PT1H
BEGIN:VTIMEZONE
TZID:Europe/Rome
BEGIN:DAYLIGHT
TZOFFSETFROM:+0100
TZOFFSETTO:+0200
TZNAME:CEST
DTSTART:20150329T010000
END:DAYLIGHT
BEGIN:STANDARD
TZOFFSETFROM:+0200
TZOFFSETTO:+0100
TZNAME:CET
DTSTART:20151025T010000
END:STANDARD
BEGIN:DAYLIGHT
TZOFFSETFROM:+0100
TZOFFSETTO:+0200
TZNAME:CEST
DTSTART:20160327T010000
END:DAYLIGHT
BEGIN:STANDARD
TZOFFSETFROM:+0200
TZOFFSETTO:+0100
TZNAME:CET
DTSTART:20161030T010000
END:STANDARD
BEGIN:DAYLIGHT
TZOFFSETFROM:+0100
TZOFFSETTO:+0200
TZNAME:CEST
DTSTART:20170326T010000
END:DAYLIGHT
BEGIN:STANDARD
TZOFFSETFROM:+0200
TZOFFSETTO:+0100
TZNAME:CET
DTSTART:20171029T010000
END:STANDARD
END:VTIMEZONE
BEGIN:VEVENT
DTSTART;VALUE=DATE:20160930
DTEND;VALUE=DATE:20161003
DTSTAMP:20260422T081651
CREATED:20160930T121045Z
LAST-MODIFIED:20160930T121057Z
UID:16030-1475193600-1475452799@cronachedibirra.it
SUMMARY:Beer Marsala
DESCRIPTION:Negli ultimi tempi i festival siciliani dedicati alla birra artigianale si sono moltiplicati e un esempio è questo Beer Marsala\, che comincerà oggi per poi proseguire fino a domenica 2 ottobre. Nel signorile Palazzo Grignani di Marsala (TP) sfileranno 9 birrifici locali: Kottabos\, Fratelli Birrafondai\, Bruno Ribadi\, Principe di Guarrato\, Birrarpa\, Ingargiola\, Befolk\, Simurg e Kimiya. Il programma prevede ampia scelta gastronomica\, da proposte gourmet fino allo street food\, musica dal vivo\, spettacoli e live art. Tutti i dettagli sul sito di Beer Marsala.
URL:https://cronachedibirra.it/evento/beer-marsala/
LOCATION:Palazzo Grignani\, Piazza del Carmine\, Marsala\, TP\, Italia
CATEGORIES:Manifestazioni
ATTACH;FMTTYPE=image/jpeg:https://cdn1.cronachedibirra.it/wp-content/uploads/20200131182001/beer-marsala-scaled.jpg
END:VEVENT
BEGIN:VEVENT
DTSTART;VALUE=DATE:20161001
DTEND;VALUE=DATE:20161002
DTSTAMP:20260422T081651
CREATED:20160930T121800Z
LAST-MODIFIED:20160930T121800Z
UID:16037-1475280000-1475366399@cronachedibirra.it
SUMMARY:Molise in Fermento 2016
DESCRIPTION:È fissata per sabato 1 ottobre l’edizione 2016 di Molise in Fermento\, quando a Cantalupo nel Sannio (IS) andranno in scena i birrifici della giovane scena locale: Cantaloop\, La Fucina\, Birrificio del Volturno\, Kashmir\, Hop Up!\, Birra Fardone e Le birre del Mistero. Ci sarà un’offerta gastronomica di livello e tanta musica dal vivo. Un’ottima occasione per scoprire un movimento brassicolo che fine a qualche anno fa praticamente non esisteva. Dettagli su Facebook.
URL:https://cronachedibirra.it/evento/molise-in-fermento-2016/
LOCATION:Piazza Alfonso Perrella\, Cantalupo nel Sannio\, IS\, Italia
CATEGORIES:Manifestazioni
ATTACH;FMTTYPE=image/jpeg:https://cdn1.cronachedibirra.it/wp-content/uploads/20200131181958/molise-fermento-1.jpg
END:VEVENT
BEGIN:VEVENT
DTSTART;VALUE=DATE:20161007
DTEND;VALUE=DATE:20161009
DTSTAMP:20260422T081651
CREATED:20161007T122130Z
LAST-MODIFIED:20161007T122130Z
UID:16115-1475798400-1475971199@cronachedibirra.it
SUMMARY:Spelt 2016
DESCRIPTION:Comincia oggi a Spoltore (PE) e proseguirà fino a sabato 8 ottobre la terza edizione di Spelt – Festival della Birra Artigianale. I birrifici partecipanti sono tutti abruzzesi: Almond 22\, Desmond\, Leardi\, Opperbacco\, Maiella\, Anbra e Golden Rose. Ampia la parte gastronomica con produttori locali di Coldiretti\, Terranostra e Campagna Amica\, mentre non mancheranno concerti di musica dal vivo\, show cooking\, iniziative di beneficenza\, moto raduno e altro ancora. Dettagli sul sito di Spelt.
URL:https://cronachedibirra.it/evento/spelt-2016/
LOCATION:Spoltore\, PE\, Italia
CATEGORIES:Manifestazioni
ATTACH;FMTTYPE=image/jpeg:https://cdn1.cronachedibirra.it/wp-content/uploads/20200131181922/spelt-1.jpg
END:VEVENT
BEGIN:VEVENT
DTSTART;VALUE=DATE:20161007
DTEND;VALUE=DATE:20161010
DTSTAMP:20260422T081651
CREATED:20160930T115944Z
LAST-MODIFIED:20160930T121106Z
UID:16027-1475798400-1476057599@cronachedibirra.it
SUMMARY:Eurhop Beer Festival 2016
DESCRIPTION:Puntuale come ogni anno torna l’attesissimo appuntamento con Eurhop\, che come di consueto si terrà presso il Salone delle Fontane di Roma (zona Eur) da venerdì 7 a domenica 9 ottobre. Sconfinata come sempre la lista dei birrifici presenti\, sia italiani che stranieri: Alebrowar (POL)\, Ducato\, Magic Rock (ENG)\, Amiata\, Eastside\, Mastino\, Antica Contea\, Edge Brewing (SPA)\, Maui Brewing (USA)\, Artezan (POL)\, Elvo\, MC-77\, Bagby Beer (USA)\, Birra dell’Eremo\, Baladin\, Etnia\, Montegioco\, Birrificio di Cagliari\, Extraomnes\, Moor (ENG)\, Birrificio Italiano\, Fjäderholmarnas (SVE)\, Närke (SVE)\, Brasserie de La Senne (BEL)\, Foglie d’Erba\, No Tomorrow\, Brewfist\, Freigeist (GER)\, Oxbow (USA)\, Brewski (SVE)\, Fyne Ales (SCO)\, Birra Perugia\, Bruton\, Gänstaller (GER)\, Pracownia Piwa (POL)\, Canediguerra\, Hammer\, Raven (CZE)\, Cantillon (BEL)\, Hilltop\, Rebel’s\, Carrobiolo\, Kingpin (POL)\, Ritual Lab\, Cloudwater (ENG)\, Kompaan (NED)\, Rurale\, Cr/Ak\, Jopen (NED)\, Stone Brewing (USA/GER)\, Croce di Malto\, Kees (NED)\, Stradaregina\, Cromarty (SCO)\, Lambrate\, Toccalmatto\, Crow Brewery (SRB)\, Lariano\, Vento Forte\, Birrificio del Doge\, Lenny’s Artisanal Ales (GER)\, Warpigs (DAN)\, Dry&Bitter (DAN)\, Lervig (NOR)\, Loverbeer. Inoltre ci sarà una selezione a cura del Moeder Lambic (BEL) e di Artbeerfest (POR). \nPer il resto la formula è la stessa confermatissima da quattro anni: degustazioni live condotte da Kuaska\, due aree food con panini e street food\, presentazione della birra di Unionbirrai per il terremoto del Centro Italia (con ricavato dedicato)\, concorso europeo di homebrewing a cura di MoBI\, pre festival il giovedì al Ma che siete. Ulteriori dettagli sono disponibili sul sito di Eurhop\, inutile dire che ci vedremo lì.
URL:https://cronachedibirra.it/evento/eurhop-beer-festival-2016/
LOCATION:BZ
CATEGORIES:Manifestazioni
ATTACH;FMTTYPE=image/jpeg:https://cdn1.cronachedibirra.it/wp-content/uploads/20200131182008/eurhop-1.jpg
END:VEVENT
BEGIN:VEVENT
DTSTART;VALUE=DATE:20161007
DTEND;VALUE=DATE:20161010
DTSTAMP:20260422T081651
CREATED:20161007T124700Z
LAST-MODIFIED:20161007T124700Z
UID:16126-1475798400-1476057599@cronachedibirra.it
SUMMARY:Madre Birra 2016
DESCRIPTION:Sesta edizione per il festival Madre Birra\, che per la prima volta si terrà nel comune di Collebeato (BS). La manifestazione inizia oggi e proseguirà fino a domenica 9 ottobre con le birre dei seguenti produttori\, locali e distributori: Taverna di Paola\, Velvet Pine\, Dada\, Porta Bruciata\, Beer Belly\, Brew Farmer\, Curtense\, Birralab\, Locanda del Monaco Felice\, Oedipus\, Try Beer Room\, Il Banco delle Birre\, Endorama\, Oersoep\, Brewfist\, Almond 22\, Argo\, Valcavallina. Tutta la parte gastronomica verterà su un’ampia scelta di american bbq a cura di Bbq4All. Dettagli sul sito di Madre Birra.
URL:https://cronachedibirra.it/evento/madre-birra-2016/
LOCATION:Collebeato\, BS\, Italia
CATEGORIES:Manifestazioni
ATTACH;FMTTYPE=image/jpeg:https://cdn1.cronachedibirra.it/wp-content/uploads/20200131181919/madre-birra-1.jpg
END:VEVENT
BEGIN:VEVENT
DTSTART;VALUE=DATE:20161008
DTEND;VALUE=DATE:20161010
DTSTAMP:20260422T081651
CREATED:20161007T120353Z
LAST-MODIFIED:20161007T120843Z
UID:16104-1475884800-1476057599@cronachedibirra.it
SUMMARY:Expo Una Birra per Tutti 2016
DESCRIPTION:Giunge alla sua settima edizione il festival Expo Una Birra per Tutti\, in programma presso il bocciodromo di Villorba (TV) domani sabato 8 e domenica 9 ottobre. I birrifici presenti saranno: Piccolo Birrificio Clandestino\, MC-77\, Habemus\, Almond 22\, Grana 40\, Birrificio Castelli Romani\, Mesh\, Birrificio dell’Aspide\, Black Barrel. Da ricordare un aspetto importante: l’intero ricavato della manifestazione sarà devoluto a supporto di diversi progetti di solidarietà. Il programma prevede poi concorso di homebrewing\, laboratori di degustazione\, abbinamenti\, iniziative d’intrattenimento\, corso di birrificazione casalinga. Altre informazioni sono disponibili sul sito della Brasseria Veneta.
URL:https://cronachedibirra.it/evento/expo-una-birra-per-tutti-2016/
LOCATION:Bocciodromo Villorba\, Via Nobel 3\, Villorba\, TV\, Italia
CATEGORIES:Manifestazioni
ATTACH;FMTTYPE=image/jpeg:https://cdn1.cronachedibirra.it/wp-content/uploads/20200131181927/expo-birra-tutti-scaled.jpg
END:VEVENT
BEGIN:VEVENT
DTSTART;VALUE=DATE:20161013
DTEND;VALUE=DATE:20161017
DTSTAMP:20260422T081651
CREATED:20161014T120605Z
LAST-MODIFIED:20161014T120605Z
UID:16172-1476316800-1476662399@cronachedibirra.it
SUMMARY:Birrart 2016
DESCRIPTION:È iniziata ieri e proseguirà fino a domenica 16 ottobre l’ottava edizione di Birrart (versione Classic)\, uno dei festival birrari più longevi d’Italia. In programma all’Oltrexpò di Casteggio (PV)\, vedrà la partecipazione dei seguenti birrifici: Beautiful Rebels\, Beer fo all\, Muttnik\, Diciottozerouno\, Picobrew\, Croce di Malto\, Kamun\, Brasseria Alpina\, Abbà\, Hibu\, Sognando Birra\, Doppio Malto\, Baladin\, L’Inconsueto\, oltre a Il Beer Shop e Beer & Bier. Molto ampia la rappresentanza di aziende alimentari\, mentre il programma prevede musica dal vivo\, degustazioni gratuite\, concorso di homebrewing\, concorso popolare. Per i dettagli vi rimando al sito di Birrart.
URL:https://cronachedibirra.it/evento/birrart-2016/
LOCATION:Oltrexpo
CATEGORIES:Manifestazioni
ATTACH;FMTTYPE=image/jpeg:https://cdn1.cronachedibirra.it/wp-content/uploads/20200131181859/birrart-2.jpg
END:VEVENT
BEGIN:VEVENT
DTSTART;VALUE=DATE:20161014
DTEND;VALUE=DATE:20161017
DTSTAMP:20260422T081651
CREATED:20161007T121113Z
LAST-MODIFIED:20161007T161850Z
UID:16109-1476403200-1476662399@cronachedibirra.it
SUMMARY:Nonsolobirra Festival 2016
DESCRIPTION:Si terrà a metà mese\, e più precisamente da venerdì 14 a domenica 16 ottobre\, la sesta edizione di Nonsolobirra\, organizzato dall’omonimo portale birrario. Il comune di Marano Vicentino (VI) ospiterà i seguenti birrifici italiani: Birrone\, Fratelli Trami\, Benaco 70\, Jeb\, Birra Ofelia\, Foglie d’Erba\, Birra Perugia\, Mastino ed Estense\, più il distributore Diexe in rappresentanza di Montegioco\, Zahre\, Fiemme\, Torrechiara e Black Barrel. Il programma prevede laboratori di degustazione con abbinamenti gastronomici\, pranzo a tema\, musica dal vivo e ampia zona food. Per ulteriori informazioni vi rimando al portale Nonsolobirra.
URL:https://cronachedibirra.it/evento/nonsolobirra-festival-2016/
LOCATION:Marano Vicentino\, VI\, Italia
CATEGORIES:Manifestazioni
ATTACH;FMTTYPE=image/jpeg:https://cdn1.cronachedibirra.it/wp-content/uploads/20200131181923/nonsolobirra-2.jpg
END:VEVENT
BEGIN:VEVENT
DTSTART;VALUE=DATE:20161014
DTEND;VALUE=DATE:20161017
DTSTAMP:20260422T081651
CREATED:20161007T123659Z
LAST-MODIFIED:20161007T123659Z
UID:16121-1476403200-1476662399@cronachedibirra.it
SUMMARY:Beeriver 2016
DESCRIPTION:Dopo il debutto dello scorso anno\, torna anche quest’anno a Pisa l’appuntamento con Beeriver\, in programma da venerdì 14 a domenica 16 ottobre. La Stazione Leopolda ospiterà 10 birrifici italiani: Serrapetrona\, Birrificio dei Castelli\, Opperbacco\, Decimoprimo\, Brùton\, Birrificio del Forte\, Orzo Bruno\, Gilda dei Nani Birrai\, Petrognola e Opificio Birrario. Il programma prevede zona food truck e ristoranti agricoli\, musica live\, esibizioni artistiche\, area giochi per bambini\, degustazioni guidate e molto altro. Ulteriori informazioni sono disponibili sul sito di Beeriver.
URL:https://cronachedibirra.it/evento/beeriver-2016/
LOCATION:Stazione Leopolda Pisa\, Piazza Guerrazzi\, Pisa\, PI\, Italia
CATEGORIES:Manifestazioni
ATTACH;FMTTYPE=image/jpeg:https://cdn1.cronachedibirra.it/wp-content/uploads/20200131181919/beeriver-1.jpg
END:VEVENT
BEGIN:VEVENT
DTSTART;VALUE=DATE:20161015
DTEND;VALUE=DATE:20161018
DTSTAMP:20260422T081651
CREATED:20161007T131143Z
LAST-MODIFIED:20161007T131143Z
UID:16131-1476489600-1476748799@cronachedibirra.it
SUMMARY:Taorimina Gourmet
DESCRIPTION:Sarà l’Hotel Villa Diodoro di Taormina (ME) l’evento Taormina Gourmet\, in programma da sabato 15 a lunedì 17 ottobre. È un’iniziativa dedicata a cantine e birrifici artigianali\, con degustazione\, laboratori di approfondimento\, presentazioni\, cooking show. Guide della parte birraria dell’evento saranno Kuaska e Schigi. Dettagli sul sito della manifestazione.
URL:https://cronachedibirra.it/evento/taorimina-gourmet/
LOCATION:Hotel Villa Diodoro\, Taormina\, ME\, Italia
CATEGORIES:Manifestazioni
ATTACH;FMTTYPE=image/jpeg:https://cdn1.cronachedibirra.it/wp-content/uploads/20200131181915/taormina-gourmet.jpg
END:VEVENT
BEGIN:VEVENT
DTSTART;VALUE=DATE:20161021
DTEND;VALUE=DATE:20161024
DTSTAMP:20260422T081651
CREATED:20161014T115149Z
LAST-MODIFIED:20161014T115150Z
UID:16169-1477008000-1477267199@cronachedibirra.it
SUMMARY:Genova Beer Festival 2016
DESCRIPTION:Dopo il grande successo della prima edizione\, torna anche quest’anno l’appuntamento con il Genova Beer Festival\, che si terrà da venerdì 21 a domenica 23 ottobre nella confermata sede di Villa Bombrini\, ovviamente a Genova. I birrifici presenti saranno 15\, con cinque novità rispetto al 2015: Brewfist\, Hammer\, Birrificio Lariano\, Birrificio Rurale\, Scarampola\, Fabbrica della Birra Busalla\, Canediguerra\, Birrificio Civale\, Croce di Malto\, Birrificio del Forte\, Kamun\, Nadir\, Lambrate e Maltus Faber. Ad accompagnare le birre ci saranno 8 cucine di strada con specialità per tutti i gusti. Il programma prevede degustazioni guidate\, conferenze\, meeting per homebrewer\, kindergarten\, convenzione taxi e altro ancora. Ulteriori informazioni sono disponibili sul sito dell’evento.
URL:https://cronachedibirra.it/evento/genova-beer-festival-2016/
LOCATION:Villa Bombrini\, Via Muratori 5\, Genova\, GE\, Italia
CATEGORIES:Manifestazioni
ATTACH;FMTTYPE=image/jpeg:https://cdn1.cronachedibirra.it/wp-content/uploads/20200131181905/gbf.jpg
END:VEVENT
BEGIN:VEVENT
DTSTART;VALUE=DATE:20161021
DTEND;VALUE=DATE:20161024
DTSTAMP:20260422T081651
CREATED:20161021T115937Z
LAST-MODIFIED:20161021T115937Z
UID:16254-1477008000-1477267199@cronachedibirra.it
SUMMARY:Ottobirrata Romana da Eataly Roma
DESCRIPTION:Comincia oggi alle 18 e proseguirà fino a domenica 23 ottobre l’evento Ottobirrata Romana organizzata da Eataly Roma. Saranno rappresentati i seguenti birrifici italiani e stranieri Maltovivo\, Turbacci\, Oxiana\, Losa\, Itineris\, Aurelio\, Alta Quota\, ECB\, Valelapena\, Cantaloop\, Ebers\, Diecinove\, Radiorock birra\, Birra del Borgo\, Birrificio Eataly\, The Celt Experience\, Harbour\, Burning Sky\, Anarchy Brew Co\, Orchard Pig\, Brewdog\, Mikkeller\, Moor\, Stone\, To Ol. L’area food proporrà diverse specialità tra supplì\, panini\, cartocci\, fritti e dolci\, mentre l’intrattenimento sarà garantito da musica dal vivo e altre iniziative. Il programma prevede anche corsi di degustazione e laboratori per bambini. Dettagli sul sito di Eataly.
URL:https://cronachedibirra.it/evento/ottobirrata-romana-da-eataly-roma/
LOCATION:Eataly Roma
CATEGORIES:Manifestazioni
ATTACH;FMTTYPE=image/jpeg:https://cdn1.cronachedibirra.it/wp-content/uploads/20200131181843/ottobirrata.jpg
END:VEVENT
BEGIN:VEVENT
DTSTART;VALUE=DATE:20161021
DTEND;VALUE=DATE:20161024
DTSTAMP:20260422T081651
CREATED:20161021T121044Z
LAST-MODIFIED:20161021T121044Z
UID:16257-1477008000-1477267199@cronachedibirra.it
SUMMARY:Oktober Doge Fest 2016
DESCRIPTION:I tanti eventi italiani che si ispirano l’Oktoberfest tedesco di solito sono specchietti per le allodole\, ma per fortuna ce ne sono alcuni degni di nota. Tra questi non si può non segnalare l’Oktober Doge Fest\, in programma da oggi fino a domenica 23 ottobre\, organizzato da uno dei migliori birrifici nazionali per quanto riguarda le basse fermentazioni: il Birrificio del Doge. Presso il relativo locale\, la Lanterna del Doge di Sant’Alberto (TV)\, andrà in scena una tre giorni con menù tipico bavarese e tutte birre in stile tedesco rigorosamente in botte: Marzen\, Vienna\, Dunkel\, Weizen e Rauch Me Baby. Non mancherà la musica dal vivo. Dettagli su Facebook.
URL:https://cronachedibirra.it/evento/oktober-doge-fest-2016/
LOCATION:Lanterna del Doge\, Via Tiveron 28\, Sant'Alberto\, TV\, 31059\, Italia
CATEGORIES:Manifestazioni
ATTACH;FMTTYPE=image/jpeg:https://cdn1.cronachedibirra.it/wp-content/uploads/20200131181836/oktober-doge.jpg
END:VEVENT
BEGIN:VEVENT
DTSTART;VALUE=DATE:20161022
DTEND;VALUE=DATE:20161023
DTSTAMP:20260422T081651
CREATED:20161021T122420Z
LAST-MODIFIED:20161021T122420Z
UID:16261-1477094400-1477180799@cronachedibirra.it
SUMMARY:Inaugurazione Birra Bellazzi
DESCRIPTION:Le storie delle beer firm possono dividersi in due tipologie\, con pochissime eccezioni: quelle che nascono per rimanere tali e quelle che sin da subito coltivano l’idea di diventare “grandi”\, cioè trasformarsi in birrificio vero e proprio. Tra quest’ultime rientra Birra Bellazzi\, che proprio domani sabato 22 ottobre festeggerà il recente cambio di status con un festa che si terrà presso il polo produttivo di San Lazzaro di Savenna (BO). Il programma prevede tanta musica dal vivo\, street food a cura di Ranzani 13\, visite all’impianto di produzione\, torneo semi serio di calcio balilla. Protagoniste\, ovviamente\, le birre della casa. Maggiori informazioni sono disponibili su Facebook.
URL:https://cronachedibirra.it/evento/inaugurazione-birra-bellazzi/
LOCATION:Birra Bellazzi\, Via Fondè 21\, San Lazzaro di Savenna\, BO\, 40068\, Italia
CATEGORIES:Manifestazioni
ATTACH;FMTTYPE=image/jpeg:https://cdn1.cronachedibirra.it/wp-content/uploads/20200131181835/bellazzi-inaugurazione.jpg
END:VEVENT
BEGIN:VEVENT
DTSTART;VALUE=DATE:20161028
DTEND;VALUE=DATE:20161031
DTSTAMP:20260422T081651
CREATED:20161028T121545Z
LAST-MODIFIED:20161028T121611Z
UID:16297-1477612800-1477871999@cronachedibirra.it
SUMMARY:Festival delle birrette
DESCRIPTION:Si chiama Festival delle birrette la tre giorni in programma da oggi fino a domenica 30 ottobre a Mare culturale urbano\, a Milano. L’elenco dei birrifici consta di soli 5 produttori\, ma tutti di primissimo piano: Ducato\, Birrificio Italiano\, Rurale\, Canediguerra ed Etnia. Il programma prevede tanta musica dal vivo\, degustazioni guidate\, pranzo domenicale a tema\, intrattenimento e altro ancora. L’evento si ripeterà a inizio dicembre. Dettagli sul sito di Mare culturale urbano.
URL:https://cronachedibirra.it/evento/festival-delle-birrette/
LOCATION:Mare culturale urbano\, Via G. Gabetti 15\, Milano\, MI\, Italia
CATEGORIES:Manifestazioni
ATTACH;FMTTYPE=image/jpeg:https://cdn1.cronachedibirra.it/wp-content/uploads/20200131181832/festival-delle-birrette-NOTTE_mare-culturale-urbano_ph-Luca-Chiaudano-2.jpg
END:VEVENT
BEGIN:VEVENT
DTSTART;VALUE=DATE:20161028
DTEND;VALUE=DATE:20161031
DTSTAMP:20260422T081652
CREATED:20161028T123634Z
LAST-MODIFIED:20161028T123634Z
UID:16306-1477612800-1477871999@cronachedibirra.it
SUMMARY:Utuberfest 2016
DESCRIPTION:È iniziata ieri e si protrarrà fino a domenica 30 ottobre l’edizione 2016 dell’Utuberfest\, che come di consueto si terrà presso Eataly Lingotto a Torino. In occasione dei 20 anni di birra artigianale italiana si ritroveranno i birrifici Baladin\, Birrificio Italiano\, Brew Up\, Birra del Borgo\, Troll e Gilac\, le birre dei quali saranno abbinate alle proposte degli chef di Eataly grazie a un menu vario e di primissima qualità. Il programma prevede anche tanta musica dal vivo. Per ulteriori informazioni vi rimando al sito di Eataly.
URL:https://cronachedibirra.it/evento/utuberfest-2016/
LOCATION:Eataly Torino
CATEGORIES:Manifestazioni
ATTACH;FMTTYPE=image/jpeg:https://cdn1.cronachedibirra.it/wp-content/uploads/20200131181832/utuberfest-1.jpg
END:VEVENT
BEGIN:VEVENT
DTSTART;VALUE=DATE:20161028
DTEND;VALUE=DATE:20161102
DTSTAMP:20260422T081652
CREATED:20161028T122723Z
LAST-MODIFIED:20161028T122723Z
UID:16302-1477612800-1478044799@cronachedibirra.it
SUMMARY:Fieramente Birra
DESCRIPTION:Comincia oggi e proseguirà fino a martedì 1 novembre la manifestazione Fieramente Birra\, ospitata dalla Fiera Campionaria di Bergamo. I birrifici presenti saranno: Tenute Collesi\, Monangi\, Terre d’Acquaviva\, Curtense\, I 3 Bagai\, Double Bear\, Brew Farmer\, Via Priula\, Valcavallina\, Porta Bruciata\, Lemine\, Elav\, e Adda. Il programma prevede quattro degustazioni guidate\, un concorso interno\, area ristoro con prodotti tipici e altro ancora. Dettagli sono disponibili su Facebook.
URL:https://cronachedibirra.it/evento/fieramente-birra/
LOCATION:Fiera Campionaria di Bergamo\, Via Lunga\, Bergamo\, BG\, 24125\, Italia
CATEGORIES:Manifestazioni
ATTACH;FMTTYPE=image/jpeg:https://cdn1.cronachedibirra.it/wp-content/uploads/20200131181832/fiermanete-birra.jpg
END:VEVENT
BEGIN:VEVENT
DTSTART;VALUE=DATE:20161028
DTEND;VALUE=DATE:20161107
DTSTAMP:20260422T081652
CREATED:20161014T122113Z
LAST-MODIFIED:20161014T122113Z
UID:16175-1477612800-1478476799@cronachedibirra.it
SUMMARY:Fiera della Birra Artigianale di Pordenone 2016
DESCRIPTION:Seconda edizione anche per la Fiera della Birra Artigianale di Pordenone\, che si terrà per due fine settimana consecutivi (dal 28 al 30 ottobre e ancora dal 4 al 6 novembre) presso la zona fieristica di Pordenone. I birrifici partecipanti saranno in tutto 40\, suddivisi in 20 per ogni weekend: durante il primo troverete Opperbacco\, Benaco 70\, La Buttiga\, Sognadobirra\, Lupulus\, L’Inconsueto\, Brasseria Alpina\, Weiherer\, Mr. Sez\, Birrificio di Cagliari\, Salgaro\, Diciottozerouno\, Birradamare\, Croce di Malto\, Kitzmann\, Lariano\, Zhare\, Baladin\, 3 Fonteinen\, Malastrana; nel secondo Bibibir\, Jeb\, Caulier\, Di Naon\, Barbanera\, Triporteur\, Rattabrew\, Cannabeer\, Calibro 22\, De Ranke\, Sant Jago\, Campi Flegrei\, Baracca\, Legnone\, Chianti Brew Fighters\, Birrificio della Granda\, Brasseria della Fonte\, ForgottenBeer\, Birrificio Italiano. \nIl programma prevede una vastissima scelta gastronomica con specialità regionali\, incontri per homebrewer\, conferenze\, musica dal vivo\, spettacoli d’intrattenimento\, presentazioni editoriali e altro ancora. Maggiori informazioni sono disponibili sul sito della manifestazione.
URL:https://cronachedibirra.it/evento/fiera-della-birra-artigianale-di-pordenone-2016/
LOCATION:Pordenone Fiere\, Pordenone\, PN\, Italia
CATEGORIES:Manifestazioni
ATTACH;FMTTYPE=image/jpeg:https://cdn1.cronachedibirra.it/wp-content/uploads/20200131181857/pordenone.jpg
END:VEVENT
END:VCALENDAR