BEGIN:VCALENDAR
VERSION:2.0
PRODID:-//Cronache di Birra - ECPv6.15.20//NONSGML v1.0//EN
CALSCALE:GREGORIAN
METHOD:PUBLISH
X-ORIGINAL-URL:https://cronachedibirra.it
X-WR-CALDESC:Eventi per Cronache di Birra
REFRESH-INTERVAL;VALUE=DURATION:PT1H
X-Robots-Tag:noindex
X-PUBLISHED-TTL:PT1H
BEGIN:VTIMEZONE
TZID:Europe/Rome
BEGIN:DAYLIGHT
TZOFFSETFROM:+0100
TZOFFSETTO:+0200
TZNAME:CEST
DTSTART:20150329T010000
END:DAYLIGHT
BEGIN:STANDARD
TZOFFSETFROM:+0200
TZOFFSETTO:+0100
TZNAME:CET
DTSTART:20151025T010000
END:STANDARD
BEGIN:DAYLIGHT
TZOFFSETFROM:+0100
TZOFFSETTO:+0200
TZNAME:CEST
DTSTART:20160327T010000
END:DAYLIGHT
BEGIN:STANDARD
TZOFFSETFROM:+0200
TZOFFSETTO:+0100
TZNAME:CET
DTSTART:20161030T010000
END:STANDARD
BEGIN:DAYLIGHT
TZOFFSETFROM:+0100
TZOFFSETTO:+0200
TZNAME:CEST
DTSTART:20170326T010000
END:DAYLIGHT
BEGIN:STANDARD
TZOFFSETFROM:+0200
TZOFFSETTO:+0100
TZNAME:CET
DTSTART:20171029T010000
END:STANDARD
END:VTIMEZONE
BEGIN:VEVENT
DTSTART;VALUE=DATE:20160902
DTEND;VALUE=DATE:20160904
DTSTAMP:20260422T111607
CREATED:20160901T224621Z
LAST-MODIFIED:20160901T224621Z
UID:15768-1472774400-1472947199@cronachedibirra.it
SUMMARY:Leivi Critical Beer
DESCRIPTION:Si terrà nel campo sportivo di Leivi\, in provincia di Genova\, il Leivi Critical Beer\, in programma oggi venerdì 2 e sabato 3 settembre. L’idea è di promuovere un approccio “critico” al consumo\, anche grazie alla partecipazione di 11 birrifici italiani: Birrificio Italiano\, Piccolo Birrificio Clandestino\, Birrificio Argo\, Hibu\, Birrificio Lariano\, Kamun\, Scarampola\, Birra Galhop\, Deep Beer e Birrificio Civale\, Birrificio La Taverna del Vara. La parte gastronomica proporrà piatti tipici della Liguria\, mentre non mancherà un corposo programma di dj set. Per i dettagli potete consultare la pagina Facebook dell’evento.
URL:https://cronachedibirra.it/evento/leivi-critical-beer-2/
LOCATION:Campo Sportivo di Leivi\, Leivi\, GE\, Italia
CATEGORIES:Manifestazioni
ATTACH;FMTTYPE=image/jpeg:https://cdn1.cronachedibirra.it/wp-content/uploads/20200131182054/13880393_1737475813172743_2084861981021310271_n.jpg
END:VEVENT
BEGIN:VEVENT
DTSTART;VALUE=DATE:20160902
DTEND;VALUE=DATE:20160905
DTSTAMP:20260422T111607
CREATED:20160812T090053Z
LAST-MODIFIED:20200624T122806Z
UID:15682-1472774400-1473033599@cronachedibirra.it
SUMMARY:Baladin Open Fest 2016
DESCRIPTION:Il nostro settembre birrario si aprirà alla grande con l’edizione 2016 del Baladin Open Fest\, che si terrà a Torino in piazzale Valdo Fusi per 3 giorni consecutivi\, da venerdì 2 a domenica 4 settembre. La formula rimane sempre la stessa: 200 birre per 200 birrifici italiani\, con un motto a tracciare il leit motiv della manifestazione – quest’anno “20 anni di birra viva”. Come in passato è impressionante il programma di appuntamenti collaterali: narrazioni a cura di Kuaska\, due cotte pubbliche (sabato e domenica)\, 6 cucina da strada di primissimo livello\, presentazione di un interessante progetto di crowdfunding\, corsi di avvicinamento allo skateboarding\, Graffiti Live Painting\, dj set e talk radio live. Se siete in zona\, non lasciatevi scappare questo evento. Tutti i dettagli sono disponibili sul sito di Baladin.
URL:https://cronachedibirra.it/evento/baladin-open-fest-2016/
LOCATION:Open Baladin Torino
CATEGORIES:Manifestazioni
ATTACH;FMTTYPE=image/jpeg:https://cdn1.cronachedibirra.it/wp-content/uploads/20200131182105/baladin-open-fest.jpg
END:VEVENT
BEGIN:VEVENT
DTSTART;VALUE=DATE:20160902
DTEND;VALUE=DATE:20160905
DTSTAMP:20260422T111607
CREATED:20160901T223728Z
LAST-MODIFIED:20160901T223728Z
UID:15762-1472774400-1473033599@cronachedibirra.it
SUMMARY:Birre vive sotto la Torre Summer Edition 2016
DESCRIPTION:Comincia oggi a Cipressa (IM) e proseguirà fino a domenica 4 settembre la versione estiva di Birre vive sotto la Torre. I birrifici presenti saranno Opera\, Pico Brew\, Diciottozerouno\, Castagnero\, Birrificio Italiano\, Birrificio Elvo\, Jeb e Birrificio Della Granda. Il programma prevede concerti di musica dal vivo e un angolo ristoro con cucina tipica ligure. Per ulteriori informazioni potete visitare il sito web di Beerinba.
URL:https://cronachedibirra.it/evento/birre-vive-sotto-la-torre-summer-edition-2016/
LOCATION:Cipressa\, IM\, Italia
CATEGORIES:Manifestazioni
ATTACH;FMTTYPE=image/jpeg:https://cdn1.cronachedibirra.it/wp-content/uploads/20200131182055/13679882_583405451821162_7274313972070430710_o.jpg
END:VEVENT
BEGIN:VEVENT
DTSTART;VALUE=DATE:20160903
DTEND;VALUE=DATE:20160904
DTSTAMP:20260422T111607
CREATED:20160901T222713Z
LAST-MODIFIED:20160902T112534Z
UID:15759-1472860800-1472947199@cronachedibirra.it
SUMMARY:Game of Beers
DESCRIPTION:A Roma tornano protagonisti i pub storici con Game of Beers\, manifestazione in riva al mare che si terrà dal pomeriggio di sabato 3 settembre fino a notte fonda. A Ostia\, presso lo stabilimento Il Capanno\, saranno disponibili 21 birre selezionate dai locali Birrifugio\, Serpente\, Tree Folk’s\, Le Bon Bock\, Mastro Titta\, Ma che Siete Venuti a Fa’ e Golden Pot. Non mancherà musica e dj set\, angolo food e tanto divertimento. Per dettagli potete consultare la pagina Facebook dell’evento.
URL:https://cronachedibirra.it/evento/games-of-beer/
LOCATION:Il Capanno
CATEGORIES:Manifestazioni
ATTACH;FMTTYPE=image/jpeg:https://cdn1.cronachedibirra.it/wp-content/uploads/20200131182055/14088398_1293532287358826_1548184204763150026_n.jpg
END:VEVENT
BEGIN:VEVENT
DTSTART;VALUE=DATE:20160909
DTEND;VALUE=DATE:20160912
DTSTAMP:20260422T111607
CREATED:20160901T220508Z
LAST-MODIFIED:20160901T220508Z
UID:15749-1473379200-1473638399@cronachedibirra.it
SUMMARY:Villaggio della Birra 2016
DESCRIPTION:Come ogni anno anche questo settembre 2016 si apre con il Villaggio della Birra\, uno degli eventi più longevi e attesi d’Italia. Cornice della manifestazione sarà ancora una volta Buonconvento (SI)\, dove da venerdì 9 a domenica 11 settembre sfileranno ben 33 birrifici da tutto il mondo\, con una prevalenza di Belgio\, USA e ovviamente Italia. Questo l’elenco dei produttori: Canediguerra\, Etnia\, Hammer\, Hop Skin\, Olmaia\, Retorto\, ‘t Hofbrouwerijke\, Alvinne\, Blaugies\, Boelens\, Brasserie de la Senne\, Cazeau\, De Dochter Van De Korenaar\, De Ranke\, Den Hopperd\, Den Triest\, Du Brabant\, Fantome\, Glazen Toren\, Hof Ten Dormaal\, Kerkom\, Verzet\, Against the Grain\, Arizona Wilderness Brewing Co.\, J Wakefield Brewing\, Other Half Brewing\, Ales Agullons\, Guineu\, BFM (Brasserie des Franches-Montagnes)\, Kees\, Beavertown\, Dunham\, Σολο Your Cretan Craft Beer. Come ormai consueto la serata di venerdì sarà dedicata al pre-Villaggio\, mentre i restanti due giorni saranno quelli del festival vero e proprio. \nTanti gli appuntamenti collaterali: i laboratori di degustazione con Kuaska\, la musica dal vivo\, gli spettacoli itineranti\, la cotta pubblica della domenica e altro ancora. Come sempre la parte gastronomica coprirà ogni esigenza\, mentre sarà presente anche uno spazio per i più piccoli. Le informazioni sono davvero tante\, ma per fortuna trovate tutto sul completissimo sito del Villaggio della Birra.
URL:https://cronachedibirra.it/evento/villaggio-della-birra-2016/
LOCATION:Buonconvento\, SI\, Italia
CATEGORIES:Manifestazioni
ATTACH;FMTTYPE=image/jpeg:https://cdn1.cronachedibirra.it/wp-content/uploads/20200131182056/banner_villaggio.jpg
END:VEVENT
BEGIN:VEVENT
DTSTART;VALUE=DATE:20160909
DTEND;VALUE=DATE:20160912
DTSTAMP:20260422T111607
CREATED:20160909T120105Z
LAST-MODIFIED:20160909T120105Z
UID:15821-1473379200-1473638399@cronachedibirra.it
SUMMARY:Castelli Beer Festival 2016
DESCRIPTION:Dopo Marino e Genzano\, quest’anno il Castelli Beer Festival fa tappa ad Albano Laziale (RM). Si comincia oggi nel pomeriggio e si prosegue fino a domenica 11 settembre con una bella lista di birrifici: Birradamare\, Insieme Birra\, BiBiBir\, Opperbacco\, Bad Guy Brewery\, Birrificio Italiano\, Birrificio 04\, Etnia\, Birrificio dell’Eremo e Ritual Lab. Non mancherà un angolo con birre anglosassoni e sidri. L’area food proporrà cibo da strada\, arrosticini\, american bbq e dolci\, mentre ci saranno spettacoli e concerti musicali ogni sera. Ulteriori dettagli sul sito del Festival del Bajocco\, iniziativa nella quale si inserisce il Castelli Beer Festival.
URL:https://cronachedibirra.it/evento/castelli-beer-festival-2016/
LOCATION:Viale Risorgimento\, Albano Laziale\, RM\, Italia
CATEGORIES:Manifestazioni
ATTACH;FMTTYPE=image/jpeg:https://cdn1.cronachedibirra.it/wp-content/uploads/20200131182042/castelli-beer-festival.jpg
END:VEVENT
BEGIN:VEVENT
DTSTART;VALUE=DATE:20160909
DTEND;VALUE=DATE:20160912
DTSTAMP:20260422T111607
CREATED:20160909T122237Z
LAST-MODIFIED:20160909T122237Z
UID:15832-1473379200-1473638399@cronachedibirra.it
SUMMARY:World Beer Torino 2016
DESCRIPTION:Seconda edizione per il festival World Beer\, che comincia oggi al Parco Dora di Torino per poi continuare fino a domenica 11 settembre. I birrifici partecipanti\, italiani e stranieri\, sono una cinquantina\, tra i quali Birrificio Alba\, Collesi\, Birra Laval\, Zahre Beer\, Konrad\, Malastrana\, Abbà\, Caulier\, Valsusa\, Aleghe\, Birrificio della Granda\, Flea\, Parsifal\, Quota 120. Circa 50 anche gli stand gastronomici con specialità tipicamente regionali\, mentre il programma prevede anche musica dal vivo\, dj set e spettacoli. Maggiori informazioni su Facebook.
URL:https://cronachedibirra.it/evento/world-beer-torino-2016/
LOCATION:Parco Dora\, Torino\, TO\, Italia
CATEGORIES:Manifestazioni
ATTACH;FMTTYPE=image/jpeg:https://cdn1.cronachedibirra.it/wp-content/uploads/20200131182042/worldbeer.jpg
END:VEVENT
BEGIN:VEVENT
DTSTART;VALUE=DATE:20160909
DTEND;VALUE=DATE:20160912
DTSTAMP:20260422T111607
CREATED:20160909T123057Z
LAST-MODIFIED:20160909T123057Z
UID:15837-1473379200-1473638399@cronachedibirra.it
SUMMARY:Beer Streat 2016
DESCRIPTION:Torna anche quest’anno a Salerno l’appuntamento con Beer Streat\, che comincerà oggi per protrarsi sino a domenica 11 settembre. Confermatissima la formula che vedrà protagonisti diversi locali campani: BAI Salerno\, BAI Cava de’ Tirreni\, Bi&B\, Birsciò\, Bistrò\, Bevo Birra\, Demetra Pub\, Oro incenso e birra\, The Rural Pub. Il programma prevede musica dal vivo e un angolo gastronomico con eccellenze locali. Ulteriori informazioni sul sito della manifestazione.
URL:https://cronachedibirra.it/evento/beer-streat-2016/
LOCATION:Parco dell’Irno
CATEGORIES:Manifestazioni
ATTACH;FMTTYPE=image/jpeg:https://cdn1.cronachedibirra.it/wp-content/uploads/20200131182041/beer-streat-1.jpg
END:VEVENT
BEGIN:VEVENT
DTSTART;VALUE=DATE:20160910
DTEND;VALUE=DATE:20160912
DTSTAMP:20260422T111607
CREATED:20160909T120759Z
LAST-MODIFIED:20160909T120759Z
UID:15827-1473465600-1473638399@cronachedibirra.it
SUMMARY:Birre vive sul Naviglio 2016
DESCRIPTION:Dopo il debutto dello scorso anno torna a Gaggiano (MI) l’edizione 2016 di Birre vive sul Naviglio\, che si terrà sabato 10 e domenica 11 settembre. Una quindicina i birrifici partecipanti: Birrificio Legnano\, Birra Nobili\, Opera\, Jeb\, Birrificio Marconi\, Croce Di Malto\, Aurora\, Stradaregina\, Lambrate\, Classe 1920\, Steenbrugge\, Legnone\, Baladin\, Birrificio Italiano\, 50&50. Ampia zona food con arrosticini\, hamburger\, fritti\, dolci e altro ancora. E poi mercatino e motoraduno. Ulteriori informazioni sul sito di Beerinba.
URL:https://cronachedibirra.it/evento/birre-vive-sul-naviglio-2016/
LOCATION:Gaggiano\, MI\, Italia
CATEGORIES:Manifestazioni
ATTACH;FMTTYPE=image/jpeg:https://cdn1.cronachedibirra.it/wp-content/uploads/20200131182042/bire-vive-naviglio.jpg
END:VEVENT
BEGIN:VEVENT
DTSTART;VALUE=DATE:20160912
DTEND;VALUE=DATE:20160919
DTSTAMP:20260422T111607
CREATED:20160901T221813Z
LAST-MODIFIED:20160901T221813Z
UID:15754-1473638400-1474243199@cronachedibirra.it
SUMMARY:Milano Beer Week 2016
DESCRIPTION:Giunge alla sua terza edizione la Milano Beer Week\, che si terrà nel capoluogo lombardo da lunedì 12 a domenica 18 settembre. Saranno sette giorni di eventi dedicati alla birra grazie alla partecipazione di 20 locali cittadini: Scott Duff\, Scott Joplin\, i due Impronta Birraia\, Brasserie Bruxelles\, Au Vieux Strasbourg\, Isola della Birra\, Sloan Square\, Birrificio La Ribalta\, Ristorante La Pobbia\, Pazzeria\, Mulligans Irish Pub\, Woodstock\, Baladin Milano\, Beer Gallery\, Hoppy Fish\, Barley Park\, BeerShow\, El Tombon de San Marc e Le Vent du Nord. Le iniziative previste spazieranno da visite guidate a degustazioni\, da cene con abbinamenti a cotte dimostrative. Per il programma degli eventi (in costante aggiornamento) e tutte le altre informazioni naturalmente vi rimando al sito web della manifestazione.
URL:https://cronachedibirra.it/evento/milano-beer-week-2016/
LOCATION:BZ
CATEGORIES:Manifestazioni
ATTACH;FMTTYPE=image/png:https://cdn1.cronachedibirra.it/wp-content/uploads/20200131182055/LOGO-UFFICIALE-MBW-2016-ROSSO.png
END:VEVENT
BEGIN:VEVENT
DTSTART;VALUE=DATE:20160916
DTEND;VALUE=DATE:20160919
DTSTAMP:20260422T111607
CREATED:20160701T112929Z
LAST-MODIFIED:20160913T133627Z
UID:15380-1473984000-1474243199@cronachedibirra.it
SUMMARY:Fermentazioni 2016
DESCRIPTION:Ci risiamo! Da venerdì 16 a domenica 18 settembre tornerà l’attesissimo appuntamento con Fermentazioni\, il principale festival nazionale sulla birra artigianale italiana organizzato da Sfero e Cronache di Birra. Nella splendida location di Officine Farneto a Roma troverete trenta tra i migliori birrifici del nostro paese\, cibo di qualità\, musica e dj set\, performance artistiche\, spazio bimbi\, intrattenimento\, innovazione e sperimentazione. \nCome accennato\, i birrifici artigianali partecipanti saranno 30\, provenienti da tutta Italia: BiRen (Emilia-Romagna)\, Birra dell’Eremo (Umbria)\, Birra Perugia (Umbria)\, Birradamare (Lazio)\, Birrificio del Doge (Veneto)\, Birrificio di Cagliari(Sardegna)\, Birrificio Italiano (Lombardia)\, Birrificio Pontino (Lazio)\, BirrOne (Veneto)\,Brewfist (Lombardia)\, Brùton  (Toscana)\, Canediguerra (Piemonte)\, Croce di Malto(Piemonte)\, Eastside (Lazio)\, Etnia (Lombardia)\, Foglie d’Erba (Friuli-Venezia Giulia)\,L’Olmaia (Toscana)\, La Casa di Cura (Abruzzo)\, La Fucina (Molise)\, La Ribalta(Lombardia)\, Lambrate (Lombardia)\, Manerba (Lombardia)\, MC-77 (Marche)\, Opperbacco(Abruzzo)\, P3 Brewing (Sardegna)\, Piccolo Birrificio Clandestino (Toscana)\, Ritual Lab(Lazio)\, Birrificio Sorrento (Campania)\, Toccalmatto (Emilia-Romagna)\, Turan (Lazio). \nEccezionale il programma di seminari e laboratori\, con anteprime assolute e straordinarie chicche brassicole. Avremo i due consueti laboratori con abbinamenti gastronomici\, che verteranno su temi molto interessanti: il primo confronterà l’evoluzione delle scene birrarie delle due principali metropoli italiane\, Roma e Milano\, chiaramente con la partecipazione dei relativi birrifici; il secondo analizzerà il fenomeno delle birre aromatizzate con frutta e spezie\, proponendo coppie di assaggi in parallelo per scoprire come ingredienti simili sono stati impiegati con risultati differenti. Un laboratorio già molto atteso sarà quello incentrato su Toccalmatto e condotto da Bruno Carilli in persona\, che punterà a raccontare la propria filosofia produttiva concentrandosi sui concetti di innovazione\, creatività e provocazione. Avremo poi un’interessante tavola rotonda sui concorsi birrari e la presentazione in anteprima di Birra dell’anno 2017\, un mini corso di avvicinamento alla degustazione curato dall’Unione Degustatori Birre\, l’ormai tradizionale workshop sulle nuove birre presenti a Fermentazioni e l’immancabile (e seguitissima) cotta pubblica di sabato. \nMa i contenuti di Fermentazioni 2016 non finiranno qui. Ci sarà come sempre food di qualità con proposte informali ma di primissimo livello\, particolarmente adatte all’accompagnamento con la birra. E poi ancora la mostra People (una sorta di autocelebrazione di tutti coloro che lo scorso anno hanno voluto condividere con noi l’anima del festival)\, musica con tanti dj set e la collaborazione di Radio Rock\, mentre confermatissimi saranno i giochi per i più piccoli\, che lo scorso anno ottennero un successo incredibile. \nUlteriori informazioni sono disponibili sul sito di Fermentazioni.
URL:https://cronachedibirra.it/evento/fermentazioni-2016/
LOCATION:Officine Farneto
CATEGORIES:Manifestazioni
ATTACH;FMTTYPE=image/jpeg:https://cdn1.cronachedibirra.it/wp-content/uploads/20200131182355/fermentazioni-2016-2.jpg
END:VEVENT
BEGIN:VEVENT
DTSTART;VALUE=DATE:20160916
DTEND;VALUE=DATE:20160919
DTSTAMP:20260422T111607
CREATED:20160915T120344Z
LAST-MODIFIED:20160915T120344Z
UID:15892-1473984000-1474243199@cronachedibirra.it
SUMMARY:Bevè - Beer in Venice
DESCRIPTION:Comincerà domani e proseguirà fino a domenica 18 settembre l’edizione di debutto di Bevé\, nuova manifestazione ospitata dal suggestivo Forte Marghera di Mestre (VE). Dodici i birrifici italiani partecipanti: Birra Camerini\, Corti Veneziane\, Birrificio Del Doge\, Birrificio B2O\, Mesh\, Microbirrificio Casa Veccia\, Birrificio Renazzese\, Birrificio Beer In\, Sognandobirra\, Morgana\, Birra Müller e Birra Praforte. Ad accompagnare gli stand dei birrifici ci saranno alcuni tra i più bei food truck italiani\, mentre non mancheranno tanti laboratori di degustazione\, seminari\, presentazioni\, musica dal vivo. Per i dettagli potete consultare il sito di Bevé.
URL:https://cronachedibirra.it/evento/beve-beer-in-venice/
LOCATION:Forte Marghera\, Via Forte Marghera 30\, Mestre\, VE\, Italia
CATEGORIES:Manifestazioni
ATTACH;FMTTYPE=image/jpeg:https://cdn1.cronachedibirra.it/wp-content/uploads/20200131182026/beve.jpg
END:VEVENT
BEGIN:VEVENT
DTSTART;VALUE=DATE:20160916
DTEND;VALUE=DATE:20160919
DTSTAMP:20260422T111607
CREATED:20160915T122027Z
LAST-MODIFIED:20160915T122027Z
UID:15897-1473984000-1474243199@cronachedibirra.it
SUMMARY:Matissimo Livello 2016
DESCRIPTION:  \n \nRitorna da venerdì 16 a domenica 18 settembre l’appuntamento con Maltissimo Livello\, manifestazione abruzzese organizzata lo scorso anno per la prima volta. Il cortiletto dell’ex tribunale di Penne\, in provincia di Pescara\, ospiterà 11 birrifici artigianali: Opperbacco\, Birra Bertona\, Golden Rose\, Casa di Cura\, Grignè\, Bibibir\, The Wall\, Crak\, Canediguerra\, La Pirata e De Ranke. L’offerta gastronomica sarà incentrata su arrosticini e pizze realizzate con antiche farine abruzzesi\, mentre ad accompagnare le bevute ci saranno concerti dal vivo e dj set. E poi ancora spettacoli d’intrattenimento\, baby club\, performance artistiche. Ulteriori informazioni su Facebook.
URL:https://cronachedibirra.it/evento/matissimo-livello-2016/
LOCATION:Ex tribunale di Penne\, Penne\, PE\, Italia
CATEGORIES:Manifestazioni
ATTACH;FMTTYPE=image/jpeg:https://cdn1.cronachedibirra.it/wp-content/uploads/20200131182026/maltissimo-livello.jpg
END:VEVENT
BEGIN:VEVENT
DTSTART;VALUE=DATE:20160916
DTEND;VALUE=DATE:20160927
DTSTAMP:20260422T111607
CREATED:20160915T115620Z
LAST-MODIFIED:20160915T120152Z
UID:15887-1473984000-1474934399@cronachedibirra.it
SUMMARY:Festival della Birra Artigianale di Fiume Veneto 2016
DESCRIPTION:Si terrà per due fine settimana successivi l’edizione 2016 del Festival della Birra Artigianale di Fiume Veneto (PN) e più precisamente da venerdì 16 a domenica 18 e ancora da venerdì 23 a domenica 25 settembre. Saranno presenti i seguenti birrifici: Baladin\, Birra Galassia\, Ghironda\, Collesi\, Hude\, La Maddalena\, Compagnia del Fermento\, Big Hop\, La Birroteca\, Zahre Beer\, Birra 1077\, Birra di Meni\, Mr. Sez\, Maniago e Birrificio B20. Il programma prevede cibo di qualità e tantissima musica dal vivo. Dettagli su Facebook.
URL:https://cronachedibirra.it/evento/festival-della-birra-artigianale-di-fiume-veneto-2016/
LOCATION:Campo sportivo Fiume Veneto\, Via San Francesco\, Fiume Veneto\, PN\, Italia
CATEGORIES:Manifestazioni
ATTACH;FMTTYPE=image/jpeg:https://cdn1.cronachedibirra.it/wp-content/uploads/20200131182026/fiume-veneto.jpg
END:VEVENT
BEGIN:VEVENT
DTSTART;VALUE=DATE:20160922
DTEND;VALUE=DATE:20160927
DTSTAMP:20260422T111607
CREATED:20160915T125101Z
LAST-MODIFIED:20160919T090202Z
UID:15908-1474502400-1474934399@cronachedibirra.it
SUMMARY:Terra Madre Salone del Gusto 2016
DESCRIPTION:Puntuale come in tutti gli anni pari\, Terra Madre Salone del Gusto di Slow Food tornerà col suo trionfo di prodotti enogastronomici da giovedì 22 a lunedì 26 settembre\, chiaramente a Torino. Come sempre la birra artigianale sarà protagonista insieme a tante altre specialità\, grazie alla partecipazione di tantissimi produttori: Stiegbrauerei\, Karma\, Sorrento\, Birrificio Ventitré\, Maltovivo\, Ducato\, Buttiga\, Alta Quota\, Birradamare\, Nomad\, Birra del Borgo\, Elav\, Hibu\, Beba\, Elvo\, Aleghe\, BSA\, Un Terzo\, Canediguerra\, Croce di Malto\, Jeb\, Soralama\, Gruit\, B94\, Birranova\, Decimoprimo\, Birrificio del Forte\, La Gilda dei Nani Birrai\, Birra dell’Eremo\, Mastri Birrai Umbri\, 32 Via dei Birrai\, Birrificio Castelli Romani. \nOltre ai tanti espositori\, per tutto l’evento si susseguiranno laboratori di degustazione a volontà. Li trovate in questa pagina del sito del Salone del Gusto\, ma per una prima scrematura ve ne segnalo quattro: La birra non esiste (con Kuaska protagonista)\, Frankenfest (incentrato sulle birre della Franconia e condotto da Manuele Colonna)\, Matrimonio all’italiana (abbinamento tra sigaro toscano e Italian Grape Ale) e Alla riscoperta delle birre tradizionali olandesi.
URL:https://cronachedibirra.it/evento/salone-del-gusto-2016/
LOCATION:Torino\, TO\, Italia
CATEGORIES:Manifestazioni
ATTACH;FMTTYPE=image/jpeg:https://cdn1.cronachedibirra.it/wp-content/uploads/20200131182020/salone-del-gusto.jpg
END:VEVENT
BEGIN:VEVENT
DTSTART;VALUE=DATE:20160923
DTEND;VALUE=DATE:20160925
DTSTAMP:20260422T111607
CREATED:20160923T121919Z
LAST-MODIFIED:20160923T121919Z
UID:15966-1474588800-1474761599@cronachedibirra.it
SUMMARY:Terra di Lavoro Birra Fest
DESCRIPTION:Si terrà a Casagiove\, in provincia di Caserta\, la manifestazione Terra di Lavoro Birra Fest\, in programma oggi venerdì 23 e domani sabato 24 settembre. L’evento\, alla prima edizione\, vede la partecipazione di soli birrifici campani: Karma\, Okorei\, Lievito e Nuvole\, White Tree\, Sant John’s\, Stimalti. Il programma prevede ampia scelta gastronomica e food truck\, musica folk e rock\, seminari sulla cultura birraria\, cotta pubblica. Per approfondimenti potete consultare il sito web del festival.
URL:https://cronachedibirra.it/evento/terra-di-lavoro-birra-fest/
LOCATION:Quartiere Militare\, Casagiove\, CE\, Italia
CATEGORIES:Manifestazioni
ATTACH;FMTTYPE=image/jpeg:https://cdn1.cronachedibirra.it/wp-content/uploads/20200131182014/00cd01-1.jpg
END:VEVENT
BEGIN:VEVENT
DTSTART;VALUE=DATE:20160923
DTEND;VALUE=DATE:20160926
DTSTAMP:20260422T111607
CREATED:20160923T120052Z
LAST-MODIFIED:20160923T120052Z
UID:15961-1474588800-1474847999@cronachedibirra.it
SUMMARY:Beer Craft Arena
DESCRIPTION:Si chiama Beer Craft Arena il nuovo festival in programma da oggi venerdì 23 fino a domenica 25 settembre nella splendida cornice dell’Ippodromo del Visarno a Firenze. Otto i birrifici italiani presenti: Olmaia\, Badalà\, Bruton\, Etnia\, MOA\, No Tomorrow (ex Pogue Mahone)\, La Ribalta e Toccalmatto. Il programma prevede un corner per le produzioni straniere\, angolo street food\, punto bazar e dj set. Per ulteriori informazioni vi consiglio di dare un’occhiata alla pagina Facebook dell’evento.
URL:https://cronachedibirra.it/evento/beer-craft-arena/
LOCATION:Ippodromo del Visarno\, Piazzale delle Cascine\, Firenze\, FI\, Italia
CATEGORIES:Manifestazioni
ATTACH;FMTTYPE=image/jpeg:https://cdn1.cronachedibirra.it/wp-content/uploads/20200131182014/beer-craft-arena.jpg
END:VEVENT
BEGIN:VEVENT
DTSTART;VALUE=DATE:20160923
DTEND;VALUE=DATE:20160926
DTSTAMP:20260422T111607
CREATED:20160923T124429Z
LAST-MODIFIED:20160923T124429Z
UID:15978-1474588800-1474847999@cronachedibirra.it
SUMMARY:Birrocco 2016
DESCRIPTION:Giunge alla terza edizione il festival Birrocco\, che si terrà nel centro storico di Ragusa superiore da oggi venerdì 23 a domenica 25 settembre. Saranno presenti più di 100 birre artigianali da 13 birrifici: Alveria\, Dea Mater\, Epica\, Horus Mylae\, Irias\, Sud Est\, Yblon\, Kimiya\, Kottabos\, Paul Bricius\, Flea\, Tarì\, Gladium. Il programma prevede un corner per le birre straniere\, laboratori di degustazione\, tanta musica dal vivo\, una marea di eccellenze gastronomiche\, conferenze tematiche e altro ancora. Per ulteriori informazioni vi rimando al sito web di Birrocco.
URL:https://cronachedibirra.it/evento/birrocco-2016/
LOCATION:Ragusa\, RG\, Italia
CATEGORIES:Manifestazioni
ATTACH;FMTTYPE=image/jpeg:https://cdn1.cronachedibirra.it/wp-content/uploads/20200131182013/birrocco.jpg
END:VEVENT
BEGIN:VEVENT
DTSTART;VALUE=DATE:20160924
DTEND;VALUE=DATE:20160926
DTSTAMP:20260422T111607
CREATED:20160923T123224Z
LAST-MODIFIED:20160923T123224Z
UID:15972-1474675200-1474847999@cronachedibirra.it
SUMMARY:San Marino BBQ & Beer Festival
DESCRIPTION:Sarà il centro storico di San Marino a ospitare il BBQ & Beer Festival\, in programma sabato 24 e domenica 25 settembre. Come il nome suggerisce\, protagonisti saranno il barbecue di alta qualità da una parte e la birra artigianale dall’altra\, con i birrifici Costa Est\, La Mata\, Bellazzi\, Vecchia Orsa e Birrificio Abusivo. Il programma prevede un contest di bbq e ovviamente un ampio spazio gastronomico. Dettagli su Facebook.
URL:https://cronachedibirra.it/evento/san-marino-bbq-beer-festival/
LOCATION:San Marino\, San Marino
CATEGORIES:Manifestazioni
ATTACH;FMTTYPE=image/jpeg:https://cdn1.cronachedibirra.it/wp-content/uploads/20200131182014/bbq-beer.jpg
END:VEVENT
BEGIN:VEVENT
DTSTART;VALUE=DATE:20160930
DTEND;VALUE=DATE:20161001
DTSTAMP:20260422T111607
CREATED:20160930T124339Z
LAST-MODIFIED:20160930T124339Z
UID:16047-1475193600-1475279999@cronachedibirra.it
SUMMARY:Mountain Beer Fest
DESCRIPTION:È cominciato da qualche ora e finirà questa sera il Mountain Beer Fest\, manifestazione ospitata dal Rifugio Bindesi\, a due passi da Trento. La formula prevede la partecipazione sia di pub che di birrifici: per i primi ci saranno Ma che siete venuti a fà\, Drunken Duck e Tribaun (Austria)\, per i secondi Rethia\, Batzen Brau\, Birrificio di Fiemme\, Barbarrique. Il programma prevede servizio di ristorazione\, navetta convenzionata e altro ancora. Maggiori informazioni su Facebook.
URL:https://cronachedibirra.it/evento/mountain-beer-fest/
LOCATION:Rifugio Bindesi\, Strada dei Bindesi\, Trento\, TN\, Italia
CATEGORIES:Manifestazioni
ATTACH;FMTTYPE=image/jpeg:https://cdn1.cronachedibirra.it/wp-content/uploads/20200131181944/mountain.jpg
END:VEVENT
BEGIN:VEVENT
DTSTART;VALUE=DATE:20160930
DTEND;VALUE=DATE:20161003
DTSTAMP:20260422T111607
CREATED:20160930T121045Z
LAST-MODIFIED:20160930T121057Z
UID:16030-1475193600-1475452799@cronachedibirra.it
SUMMARY:Beer Marsala
DESCRIPTION:Negli ultimi tempi i festival siciliani dedicati alla birra artigianale si sono moltiplicati e un esempio è questo Beer Marsala\, che comincerà oggi per poi proseguire fino a domenica 2 ottobre. Nel signorile Palazzo Grignani di Marsala (TP) sfileranno 9 birrifici locali: Kottabos\, Fratelli Birrafondai\, Bruno Ribadi\, Principe di Guarrato\, Birrarpa\, Ingargiola\, Befolk\, Simurg e Kimiya. Il programma prevede ampia scelta gastronomica\, da proposte gourmet fino allo street food\, musica dal vivo\, spettacoli e live art. Tutti i dettagli sul sito di Beer Marsala.
URL:https://cronachedibirra.it/evento/beer-marsala/
LOCATION:Palazzo Grignani\, Piazza del Carmine\, Marsala\, TP\, Italia
CATEGORIES:Manifestazioni
ATTACH;FMTTYPE=image/jpeg:https://cdn1.cronachedibirra.it/wp-content/uploads/20200131182001/beer-marsala-scaled.jpg
END:VEVENT
END:VCALENDAR