BEGIN:VCALENDAR
VERSION:2.0
PRODID:-//Cronache di Birra - ECPv6.15.20//NONSGML v1.0//EN
CALSCALE:GREGORIAN
METHOD:PUBLISH
X-ORIGINAL-URL:https://cronachedibirra.it
X-WR-CALDESC:Eventi per Cronache di Birra
REFRESH-INTERVAL;VALUE=DURATION:PT1H
X-Robots-Tag:noindex
X-PUBLISHED-TTL:PT1H
BEGIN:VTIMEZONE
TZID:Europe/Rome
BEGIN:DAYLIGHT
TZOFFSETFROM:+0100
TZOFFSETTO:+0200
TZNAME:CEST
DTSTART:20150329T010000
END:DAYLIGHT
BEGIN:STANDARD
TZOFFSETFROM:+0200
TZOFFSETTO:+0100
TZNAME:CET
DTSTART:20151025T010000
END:STANDARD
BEGIN:DAYLIGHT
TZOFFSETFROM:+0100
TZOFFSETTO:+0200
TZNAME:CEST
DTSTART:20160327T010000
END:DAYLIGHT
BEGIN:STANDARD
TZOFFSETFROM:+0200
TZOFFSETTO:+0100
TZNAME:CET
DTSTART:20161030T010000
END:STANDARD
BEGIN:DAYLIGHT
TZOFFSETFROM:+0100
TZOFFSETTO:+0200
TZNAME:CEST
DTSTART:20170326T010000
END:DAYLIGHT
BEGIN:STANDARD
TZOFFSETFROM:+0200
TZOFFSETTO:+0100
TZNAME:CET
DTSTART:20171029T010000
END:STANDARD
END:VTIMEZONE
BEGIN:VEVENT
DTSTART;VALUE=DATE:20160803
DTEND;VALUE=DATE:20160809
DTSTAMP:20260422T135324
CREATED:20160805T121647Z
LAST-MODIFIED:20160805T121647Z
UID:15657-1470182400-1470700799@cronachedibirra.it
SUMMARY:Festa della Birra di Baronissi
DESCRIPTION:È iniziata mercoledì e proseguirà fino a lunedì 8 agosto l’edizione 2016 della Festa della Birra di Baronissi\, ovviamente in svolgimento nel comune della provincia di Salerno. Sono presenti 13 birrifici\, tutti con sede in Campania: St. John’s\, Karma\, Maltovivo\, Sorrento\, Lievito e Nuvole\, Felix\, Irpino\, Serrocroce\, Malerba\, Brew Inn\, Aeffe\, Aspide\, Fiej. Il programma prevede diversi incontri di approfondimento\, spettacoli\, area food (anche con pietanza per celiaci) e altro ancora. Dettagli sul sito di Birra Campania.
URL:https://cronachedibirra.it/evento/festa-della-birra-di-baronissi/
LOCATION:Via Don Minzoni\, Baronissi\, Italia
CATEGORIES:Manifestazioni
ATTACH;FMTTYPE=image/jpeg:https://cdn1.cronachedibirra.it/wp-content/uploads/20200131182126/festa-baronissi.jpg
END:VEVENT
BEGIN:VEVENT
DTSTART;VALUE=DATE:20160804
DTEND;VALUE=DATE:20160808
DTSTAMP:20260422T135324
CREATED:20160729T131313Z
LAST-MODIFIED:20160729T131313Z
UID:15605-1470268800-1470614399@cronachedibirra.it
SUMMARY:Festival del Giglietto
DESCRIPTION:Si terrà a Palestrina (RM) per quattro giorni consecutivi (da giovedì 4 a domenica 7 agosto) la manifestazione gastronomica Festival del Giglietto. Quest’anno\, in ognuna delle 4 piazze in cui si svolgerà l’evento\, saranno presenti dei punti spina con diverse birre artigianali italiane\, provenienti da alcuni dei migliori produttori del nostro paese. Ovviamente non mancherà musica dal vivo e una marea di specialità alimentari. Per approfondimenti potete visitare il relativo sito web.
URL:https://cronachedibirra.it/evento/festival-del-giglietto/
LOCATION:Palestrina\, RM\, Italia
CATEGORIES:Manifestazioni
ATTACH;FMTTYPE=image/jpeg:https://cdn1.cronachedibirra.it/wp-content/uploads/20200131182130/giglietto.jpg
END:VEVENT
BEGIN:VEVENT
DTSTART;VALUE=DATE:20160804
DTEND;VALUE=DATE:20160811
DTSTAMP:20260422T135324
CREATED:20160729T120528Z
LAST-MODIFIED:20160729T121310Z
UID:15592-1470268800-1470873599@cronachedibirra.it
SUMMARY:Festival delle Birre Artigianali Castellalto 2016
DESCRIPTION:Torna anche quest’anno\, da giovedì 4 a mercoledì 10 agosto\, uno dei più attesi e sorprendenti appuntamenti birrari d’Italia: quel Festival delle Birre Artigianali che ogni estate trasforma il centro storico di Castellalto (TE) in un affascinante percorso tra oltre 200 birre da tutto il mondo\, suddivise in punti spina ricavati in cantine e stradine. L’elenco delle birre disponibili è chiaramente spropositato (qui la lista completa)\, ma sono comunque rappresentati alcuni tra i migliori produttori italiani e stranieri. Il programma prevede musica dal vivo\, spettacoli\, laboratori di degustazione\, concorso homebrewing\, visita guidata al birrificio Opperbacco\, un’ampia ed efficientissima area food  e altro ancora. Ulteriori informazioni sono disponibili sul sito web dell’evento.
URL:https://cronachedibirra.it/evento/festival-delle-birre-artigianali-castellalto-2016/
LOCATION:BZ
CATEGORIES:Manifestazioni
ATTACH;FMTTYPE=image/jpeg:https://cdn1.cronachedibirra.it/wp-content/uploads/20200131182132/castellalto-1.jpg
END:VEVENT
BEGIN:VEVENT
DTSTART;VALUE=DATE:20160805
DTEND;VALUE=DATE:20160807
DTSTAMP:20260422T135324
CREATED:20160729T123230Z
LAST-MODIFIED:20160729T123230Z
UID:15600-1470355200-1470527999@cronachedibirra.it
SUMMARY:BeerLocri
DESCRIPTION:Debutta in Calabria\, e più precisamente a Locri (RC)\, la manifestazione BeerLocri\, che si terrà venerdì 5 e sabato 6 agosto. I birrifici presenti saranno Limen\, A Magara\, Beerfirm J4\, Epica\, Timilia e Eternal City Brewing. Ricalcando i festival gemelli BeerRoma e BeerCatania\, il programma proporrà musica dal vivo e street food con cibo locale rivisto in chiave moderna. Per ulteriori informazioni è possibile consultare la pagina Facebook dell’evento.
URL:https://cronachedibirra.it/evento/beerlocri/
LOCATION:Lungomare di Locri\, Locri\, RC\, Italia
CATEGORIES:Manifestazioni
ATTACH;FMTTYPE=image/jpeg:https://cdn1.cronachedibirra.it/wp-content/uploads/20200131182131/beerlocri.jpg
END:VEVENT
BEGIN:VEVENT
DTSTART;VALUE=DATE:20160805
DTEND;VALUE=DATE:20160808
DTSTAMP:20260422T135324
CREATED:20160805T122817Z
LAST-MODIFIED:20160805T122817Z
UID:15660-1470355200-1470614399@cronachedibirra.it
SUMMARY:Fermento in tour a Sabaudia
DESCRIPTION:È iniziata oggi e terminerà domenica 7 agosto la tappa di Sabaudia (LT) del festival Fermento in tour. Saranno presenti 10 birrifici italiani: B-Four\, D’Adamo\, Birradamare\, Birrificio Corese\, Pontino\, Castelli Romani\, Insieme Birra\, Tolerium\, Tre Pupazzi e Vale la Pena. Il programma prevede un’ampia varietà di street food\, musica dal vivo\, artisti di strada\, mini corso di degustazione. Per i dettagli potete consultare la pagina Facebook dell’evento.
URL:https://cronachedibirra.it/evento/fermento-in-tour-a-sabaudia/
LOCATION:Piazza del Comune\, Sabaudia\, LT\, Italia
CATEGORIES:Manifestazioni
ATTACH;FMTTYPE=image/jpeg:https://cdn1.cronachedibirra.it/wp-content/uploads/20200131182125/fermento-in-tour.jpg
END:VEVENT
BEGIN:VEVENT
DTSTART;VALUE=DATE:20160806
DTEND;VALUE=DATE:20160807
DTSTAMP:20260422T135324
CREATED:20160729T124111Z
LAST-MODIFIED:20160729T124111Z
UID:15603-1470441600-1470527999@cronachedibirra.it
SUMMARY:Parco Birre 2016
DESCRIPTION:Giunge alla sua seconda edizione il festival Parco Birre\, che si terrà a Domusnovas (CA)\, in Sardegna\, sabato 6 agosto 2016. Saranno presenti 7 birrifici sardi e uno ospite: P3 Brewing\, Marduk\, Birrificio Mediterraneo\, 4Mori\, Bay Beer\, La Volpe e Il Luppolo\, Scialandrone e Rurale (Desio). Inoltre ci sarà una selezione di birre acide a cura della Birroteca Fermentazioni Spontanee\, musica live\, incontri didattici e di homebrewing\, ampia offerta gastronomica. Per i dettagli potete consultare Facebook.
URL:https://cronachedibirra.it/evento/parco-birre-2016/
LOCATION:Parco Scarzella\, Domusnovas\, CI\, Italia
CATEGORIES:Manifestazioni
ATTACH;FMTTYPE=image/jpeg:https://cdn1.cronachedibirra.it/wp-content/uploads/20200131182131/parco-birre-1.jpg
END:VEVENT
BEGIN:VEVENT
DTSTART;VALUE=DATE:20160812
DTEND;VALUE=DATE:20160816
DTSTAMP:20260422T135324
CREATED:20160805T115222Z
LAST-MODIFIED:20160805T115222Z
UID:15651-1470960000-1471305599@cronachedibirra.it
SUMMARY:Hop Summer Fest
DESCRIPTION:Si terrà da venerdì 12 a lunedì 15 agosto la prima edizione di Hop Summer Fest\, il nuovo festival della birra artigianale di Livorno. Saranno presenti dodici tra i migliori birrifici italiani: irrificio del Ducato\, Fermento Libero\, Birra Baladin\, L’Olmaia\, Birra Amiata\, Brùton\, Birra del Borgo\, Birrificio Lambrate\, Piccolo Birrificio Clandestino\, Brewfist\, Foglie d’Erba\, Toccalmatto. La parte gastronomica sarà articolata in diversi punti ristoro con cucina da strada\, mentre il programma prevede anche interessanti laboratori di degustazione\, musica dal vivo\, angolo gadget e assaggi in battello. Tutti i dettagli sono disponibili sul sito di Hop Summer Fest.
URL:https://cronachedibirra.it/evento/hop-summer-fest/
LOCATION:Fortezza Vecchia\, Piazza dei Marmi\, Livorno\, LI\, http://www.hopsummerfestival.it/\, Italia
CATEGORIES:Manifestazioni
ATTACH;FMTTYPE=image/png:https://cdn1.cronachedibirra.it/wp-content/uploads/20200131182126/hop-summer-fest.png
END:VEVENT
BEGIN:VEVENT
DTSTART;VALUE=DATE:20160813
DTEND;VALUE=DATE:20160815
DTSTAMP:20260422T135324
CREATED:20160805T120955Z
LAST-MODIFIED:20160805T120955Z
UID:15654-1471046400-1471219199@cronachedibirra.it
SUMMARY:Birre vive di mezza estate
DESCRIPTION:Continuano gli appuntamenti organizzati da Beerinba e ora è la volta di Birre vive di mezza estate\, in programma sabato 13 e domenica 14 agosto nel comune di San Fedele Intelvi di Sopra (CO). Saranno presenti i birrifici Conte Gelo\, Jeb e 50&50\, oltre a una selezione di birre inglesi\, belghe e tedesche a cura del beer shop Il Birramondo. Il programma prevede 4 postazioni di street food con grigliate\, hamburger\, ravioli e porchetta\, musica dal vivo e dj set. Dettagli sul sito di Beerinba.
URL:https://cronachedibirra.it/evento/birre-vive-di-mezza-estate/
LOCATION:Piazza Andreetti\, San Fedeli di Intelvi\, CO\, Italia
CATEGORIES:Manifestazioni
ATTACH;FMTTYPE=image/jpeg:https://cdn1.cronachedibirra.it/wp-content/uploads/20200131182126/13606505_572126466282394_3834176587049544988_n.jpg
END:VEVENT
BEGIN:VEVENT
DTSTART;VALUE=DATE:20160826
DTEND;VALUE=DATE:20160828
DTSTAMP:20260422T135324
CREATED:20160812T083705Z
LAST-MODIFIED:20160812T083705Z
UID:15676-1472169600-1472342399@cronachedibirra.it
SUMMARY:Birrae 2016
DESCRIPTION:Dopo il debutto del 2015\, torna anche quest’anno a Campobasso il festival Birrae\, in programma venerdì 26 e sabato 27 agosto. Piuttosto nutrita la lista dei birrifici partecipanti: Eastside\, Karma\, Hilltop\, Sti Malti\, Cantaloop\, La Fucina\, Birra Fardone\, Birrificio del Volturno\, Kashmir\, Le birre del mistero e uno stand a cura del beershop Hops Up! Il programma prevede la presentazione “Guida alle Birre d’Italia” di Slow Food\, cotta pubblica\, ampia area food\, degustazione con i birrai\, musica e artigianato. Per ulteriori informazioni potete consultare la pagina Facebook dell’evento.
URL:https://cronachedibirra.it/evento/birrae-2016/
LOCATION:Campobasso\, CB\, Italia
CATEGORIES:Manifestazioni
ATTACH;FMTTYPE=image/jpeg:https://cdn1.cronachedibirra.it/wp-content/uploads/20200131182115/birrae.jpg
END:VEVENT
BEGIN:VEVENT
DTSTART;VALUE=DATE:20160827
DTEND;VALUE=DATE:20160829
DTSTAMP:20260422T135324
CREATED:20160812T082039Z
LAST-MODIFIED:20160812T082039Z
UID:15673-1472256000-1472428799@cronachedibirra.it
SUMMARY:Matti per la Birra
DESCRIPTION:Si terrà sabato 27 e domenica 28 agosto la manifestazione Matti per la Birra\, ospitata nel Chiostro di San Pietro a Gubbio (PG). Saranno presenti i birrifici Foglie d’Erba\, Birra dell’Eremo\, Old 476\, L’Olmaia\, Il Mastio\, Birranova\, Birrificio dei Castelli\, Birra Perugia\, Amiata\, Vale la Pena e Birrificio dei Castelli Romani. Molto fitto il programma di appuntamenti\, con una serie di laboratori di degustazione organizzati in collaborazione con Unionbirrai\, seminari e conferenze\, street food e musica dal vivo. Tutti i dettagli sono presenti sulla pagina Facebook di Matti per la Birra.
URL:https://cronachedibirra.it/evento/matti-per-la-birra/
LOCATION:Chiostro di San Pietro\, Gubbio\, PG\, Italia
CATEGORIES:Manifestazioni
ATTACH;FMTTYPE=image/jpeg:https://cdn1.cronachedibirra.it/wp-content/uploads/20200131182120/13316928_1393702087312504_7626860497461751551_o.jpg
END:VEVENT
END:VCALENDAR